BEGIN:VCALENDAR
VERSION:2.0
PRODID:-// „Objev místa, kde se dobře pije, krásně spí a skvěle žije“  - ECPv6.15.20//NONSGML v1.0//EN
CALSCALE:GREGORIAN
METHOD:PUBLISH
X-WR-CALNAME: „Objev místa, kde se dobře pije, krásně spí a skvěle žije“ 
X-ORIGINAL-URL:https://nasejiznimorava.cz
X-WR-CALDESC:Akce na  „Objev místa, kde se dobře pije, krásně spí a skvěle žije“ 
REFRESH-INTERVAL;VALUE=DURATION:PT1H
X-Robots-Tag:noindex
X-PUBLISHED-TTL:PT1H
BEGIN:VTIMEZONE
TZID:Europe/Prague
BEGIN:DAYLIGHT
TZOFFSETFROM:+0100
TZOFFSETTO:+0200
TZNAME:CEST
DTSTART:20250330T010000
END:DAYLIGHT
BEGIN:STANDARD
TZOFFSETFROM:+0200
TZOFFSETTO:+0100
TZNAME:CET
DTSTART:20251026T010000
END:STANDARD
BEGIN:DAYLIGHT
TZOFFSETFROM:+0100
TZOFFSETTO:+0200
TZNAME:CEST
DTSTART:20260329T010000
END:DAYLIGHT
BEGIN:STANDARD
TZOFFSETFROM:+0200
TZOFFSETTO:+0100
TZNAME:CET
DTSTART:20261025T010000
END:STANDARD
BEGIN:DAYLIGHT
TZOFFSETFROM:+0100
TZOFFSETTO:+0200
TZNAME:CEST
DTSTART:20270328T010000
END:DAYLIGHT
BEGIN:STANDARD
TZOFFSETFROM:+0200
TZOFFSETTO:+0100
TZNAME:CET
DTSTART:20271031T010000
END:STANDARD
END:VTIMEZONE
BEGIN:VEVENT
DTSTART;TZID=Europe/Prague:20260418T100000
DTEND;TZID=Europe/Prague:20260418T130000
DTSTAMP:20260419T164250
CREATED:20251112T181620Z
LAST-MODIFIED:20251112T181621Z
UID:38892-1776506400-1776517200@nasejiznimorava.cz
SUMMARY:Muzikál Tlapkové patroly | PLZEŇ
DESCRIPTION:Muzikál Tlapkové patroly | PLZEŇ se uskuteční dne 2026-04-18 v 10:00 v Plzeň\, Kulturní dům Šeříková. \n🎟️ Koupit vstupenku \n\nOblíbení hrdinové z Tlapkové patroly se chystají na své jediné rodinné muzikálové turné v České republice\, které se už nikdy nebude opakovat!Populární psí záchranáři přinášejí show\, která nadchne malé i velké diváky.🐶 \nČeká vás nezapomenutelný rodinný muzikál plný hudby\, tance a dobrodružství!Děti se mohou těšit na Chase\, Marshalla\, Skye i další statečné pejsky\, kteří předvedou napínavý příběh v doprovodu pohádkové atmosféry 🌈 \nMuzikál Tlapkové patroly vykouzlí úsměv na tváři každému dítěti a nabídne jedinečnou možnost zažít jejich dobrodružství naživo! 🎭 \n🚨 POZOR! 🚨👉 JEDINÉ turné v ČR\, které se už nikdy nebude opakovat! \n🕤 Otevření sálu: od 9:30🎬 Představení: 10:00 – 11:00⏰ Konec programu: přibližně v 11:30 \nNepropásněte tuto jedinečnou příležitost a zajistěte si své vstupenky včas! 🎟️🌟 \n\nTento tip na kulturní akci v Plzeň najdete v přehledu na nasejiznimorava.cz kde na jednom místě shromažďujeme desítky dalších koncertů\, festivalů\, divadelních představení i komunitních událostí z celého regionu i z celé ČR. Přehled je přehledně řazený\, pravidelně aktualizovaný a umožní vám rychle najít přesně to\, co vás zajímá – od velkých open-air akcí až po menší lokální programy. Každý si tak snadno vybere podle svého vkusu i času. Pokud vás některá akce zaujme\, nezapomeňte si včas zajistit vstupenky; stačí kliknout na detail události a budete bezpečně přesměrováni na oficiálního prodejce vstupenek..
URL:https://nasejiznimorava.cz/event/muzikal-tlapkove-patroly-plzen/
LOCATION:Kulturní dům Šeříková\, Plzeň\, Kulturní dům Šeříková\, Plzeň\, Česká republika
CATEGORIES:Zábava
ATTACH;FMTTYPE=image/jpeg:https://nasejiznimorava.cz/wp-content/uploads/2025/11/320-1355b8f2c61547a6950dc26f699aed9e.jpg
END:VEVENT
BEGIN:VEVENT
DTSTART;TZID=Europe/Prague:20260418T163000
DTEND;TZID=Europe/Prague:20260418T193000
DTSTAMP:20260419T164250
CREATED:20260221T115910Z
LAST-MODIFIED:20260221T115914Z
UID:42197-1776529800-1776540600@nasejiznimorava.cz
SUMMARY:KarmaFest Teplice 2026
DESCRIPTION:KarmaFest Teplice 2026 se uskuteční dne 2026-04-18 v 16:30 v Teplice\, KNAK music klub. \n🎟️ Koupit vstupenku \n\nKarmaFest 2026: Reflections of Karma\, Imodium a Post-it dokážou\, že rock žije  \nKarmaFest 2026 je první ročník nového klubového festivalu zaměřeného na současnou rockovou a kytarovou hudbu. Vzniká z iniciativy mezinárodní rockové superskupiny Reflections of Karma a reaguje na dlouhodobý úbytek prostoru pro živý rock v klubovém prostředí. Festival je koncipován jako komorní indoorová akce\, která staví na blízkém kontaktu kapel s publikem\, autentické atmosféře a energii\, jež vzniká pouze při živém hraní. \nReflections of Karma patří k nejvýraznějším novým jménům české rockové scény posledních let. Kapelu tvoří zpěvák Travis O’Neill (ex-Pipes and Pints)\, kytarista Maťo Mišík (ex-Tata Bojs)\, baskytarista Josh Stewart (Gaia Mesiah) a bubeník Tomáš Hajíček Jr. (Krucipüsk). Na podzim 2025 vydala debutové album Venom & Velvet\, byla oceněna jako Objev roku v anketě Žebřík Awards a její první pražský koncert byl zcela vyprodán. Právě zkušenosti z klubové scény a potřeba vytvořit prostor pro živou\, poctivou rockovou hudbu stály u zrodu KarmaFestu. \nV rámci KarmaFestu 2026 se představí také kapely Imodium a Post-it. Imodium se po comebacku v roce 2023 vrátili na pódia ve výborné formě\, což potvrdily recenze na album Horizont i i koncerty ve Forum Karlín či Nové Spirále\, kde se kapela kolem zpěváka a producenta Thoma Frödeho představila akusticky. Post-it navazují na více než dvacetiletou historii české klubové scény a po personálním rozšíření přinášejí hutnější a syrovější zvuk. \nKarmaFest 2026 proběhne formou jarní a podzimní koncertní série v klubech napříč Českou republikou. Na jaře se festival zastaví v Havlíčkově Brodě\, Plzni\, Teplicích\, Českých Budějovicích a Pardubicích\, na podzim pak v Jablonci nad Nisou\, Jihlavě\, Praze\, Litomyšli a Olomouci. Další termíny jsou v jednání. \nRocková hudba nezmizela\, jen potřebuje prostor\, kde může znít naplno.  \nKarmaFest 2026 – JARO4.⁠ ⁠4. Havlíčkův Brod – Klub Oko11.⁠ ⁠4. Plzeň – Buena Vista18.⁠ ⁠4. Teplice – Knak25.⁠ ⁠4. České Budějovice – MC Fabrika2.5. Pardubice – Žlutý Pes \nKarmaFest 2026 – PODZIM3.⁠ ⁠10. Jablonec nad Nisou – Stage klub10.⁠ ⁠10. Jihlava – D-Klub22.⁠ ⁠10. Praha – Futurum Music Bar23.⁠ ⁠10. Litomyšl – Music Club Kotelna (MC Kotelna)31.⁠ ⁠10. Olomouc – S-Klub \n\nTento tip na kulturní akci v Teplice najdete v přehledu na nasejiznimorava.cz kde na jednom místě shromažďujeme desítky dalších koncertů\, festivalů\, divadelních představení i komunitních událostí z celého regionu i z celé ČR. Přehled je přehledně řazený\, pravidelně aktualizovaný a umožní vám rychle najít přesně to\, co vás zajímá – od velkých open-air akcí až po menší lokální programy. Každý si tak snadno vybere podle svého vkusu i času. Pokud vás některá akce zaujme\, nezapomeňte si včas zajistit vstupenky; stačí kliknout na detail události a budete bezpečně přesměrováni na oficiálního prodejce vstupenek..
URL:https://nasejiznimorava.cz/event/karmafest-teplice-2026/
LOCATION:KNAK music klub\, Teplice\, KNAK music klub\, Teplice\, Česká republika
CATEGORIES:Koncert
ATTACH;FMTTYPE=image/jpeg:https://nasejiznimorava.cz/wp-content/uploads/2026/02/320-fca6a362bf9644caa9741e40eb4aff9e.jpg
END:VEVENT
BEGIN:VEVENT
DTSTART;TZID=Europe/Prague:20260418T190000
DTEND;TZID=Europe/Prague:20260418T220000
DTSTAMP:20260419T164250
CREATED:20251113T064035Z
LAST-MODIFIED:20251113T064035Z
UID:39116-1776538800-1776549600@nasejiznimorava.cz
SUMMARY:Martin Hranáč - CRAZY SHOW - Karviná
DESCRIPTION:Martin Hranáč – CRAZY SHOW – Karviná se uskuteční dne 2026-04-18 v 19:00 v Karviná\, Městský dům kultury. \n🎟️ Koupit vstupenku \n\nChcete vstoupit do světa humoru a improvizace? Tak je CRAZY SHOW právě pro VÁS! Připravte se na nezapomenutelný večer plný smíchu s Martinem Hranáčem – komikem\, hercem\, číšníkem a optimistou\, který svým jedinečným smyslem pro humor baví lidi na sociálních sítích. Martinův příběh číšníka a jeho každodenní zážitky z gastronomie se stávají zábavným vyprávěním\, které osloví naprosto všechny. \nKaždé vystoupení je unikátní a plné improvizace\, protože Martin miluje improvizaci a scénáře mění v průběhu večera\, což občas vykolejí jeho sestru Štěpánku Šmídovou\, která mu dělá skvělou společnost během celé show. Všechny scénky a historky vychází z Martinových zkušeností a zážitků\, jak profesního\, tak soukromého života. Jeho humor je nekorektní\, sebeironický a nebojí se jít na hranu – právě to dělá jeho show nezapomenutelnou! \nNenechte si ujít tento jedinečný zážitek! Vstupenky v prodeji! \nPořad není vhodný mladším 15 let! \n\nTento tip na kulturní akci v Karviná najdete v přehledu na nasejiznimorava.cz kde na jednom místě shromažďujeme desítky dalších koncertů\, festivalů\, divadelních představení i komunitních událostí z celého regionu i z celé ČR. Přehled je přehledně řazený\, pravidelně aktualizovaný a umožní vám rychle najít přesně to\, co vás zajímá – od velkých open-air akcí až po menší lokální programy. Každý si tak snadno vybere podle svého vkusu i času. Pokud vás některá akce zaujme\, nezapomeňte si včas zajistit vstupenky; stačí kliknout na detail události a budete bezpečně přesměrováni na oficiálního prodejce vstupenek..
URL:https://nasejiznimorava.cz/event/martin-hranac-crazy-show-karvina/
LOCATION:Městský dům kultury\, Karviná\, Městský dům kultury\, Karviná\, Česká republika
CATEGORIES:Zábava
ATTACH;FMTTYPE=image/jpeg:https://nasejiznimorava.cz/wp-content/uploads/2025/11/320-bbbdb59d70434aae88509ba9a21a9272.jpg
END:VEVENT
BEGIN:VEVENT
DTSTART;TZID=Europe/Prague:20260418T190000
DTEND;TZID=Europe/Prague:20260418T220000
DTSTAMP:20260419T164250
CREATED:20260103T213848Z
LAST-MODIFIED:20260103T213848Z
UID:41258-1776538800-1776549600@nasejiznimorava.cz
SUMMARY:Burlesque Tribute: Od kankánu po bizár
DESCRIPTION:Burlesque Tribute: Od kankánu po bizár se uskuteční dne 2026-04-18 v 19:00 v Brno\, Cabaret des Péchés. \n🎟️ Koupit vstupenku \n\nBURLESQUE TRIBUTE: OD KANKÁNU PO BIZÁR  \nVýpravná show\, která nemá ve světě obdoby. \nBurlesque Tribute je unikátní tříaktová podívaná\, která vás provede historií burlesky – od jejích kořenů v 19. století\, přes éru americké prohibice\, až po současnou neo-burlesku. Připravte se na večer\, kde se třpyt\, elegance\, humor i odvaha snoubí do show\, kterou jen tak někde neuvidíte. \nNaučné? Ano. Interaktivní? Rozhodně. Zábavné? Víc\, než čekáte. \nKaždý z aktů nabídne originální ztvárnění určité éry kabaretní a burleskní historie – včetně ikonických rekvizit\, autentických kostýmů a živých vystoupení. Na jevišti se objeví zpěvačky\, taneční ansámbl i performeři\, kteří vás vtáhnou nejen svými čísly\, ale i příběhem. A pozor – místy se do děje zapojí i samotné publikum. \nKostýmy inspirované ikonami burlesky a kabaretuNeočekávané momenty\, které posunou vaše představy o burlesceBurleska jako forma umění – zábavná\, odvážná\, vzdělávací \nBurlesque Tribute je oslavou minulosti i současnosti burlesky.Není to jen show. Je to zážitek. \nVIP vstupenky v prvních řadách s welcome drinkem \n  \nDoporučený dresscode – společenský nebo stylově extravagantní outfit inspirovaný kabaretem a burleskou (třpyt\, retro\, korzety\, saka\, klobouky vítány) \nShow je určena výhradně pro publikum starší 18 let – vstup osobám mladším 18 let není povolen \nUpozornění pro divákyTato inscenace obsahuje světelné efekty\, včetně stroboskopických záblesků a rychle se měnících světelných sekvencí. U osob s fotosenzitivní epilepsií nebo zvýšenou citlivostí na intenzivní světelné podněty mohou tyto efekty vyvolat nepříznivé zdravotní reakce. Divákům\, kterých by se tato skutečnost mohla týkat\, se doporučuje zvýšená opatrnost. \n\nTento tip na kulturní akci v Brno najdete v přehledu na nasejiznimorava.cz kde na jednom místě shromažďujeme desítky dalších koncertů\, festivalů\, divadelních představení i komunitních událostí z celého regionu i z celé ČR. Přehled je přehledně řazený\, pravidelně aktualizovaný a umožní vám rychle najít přesně to\, co vás zajímá – od velkých open-air akcí až po menší lokální programy. Každý si tak snadno vybere podle svého vkusu i času. Pokud vás některá akce zaujme\, nezapomeňte si včas zajistit vstupenky; stačí kliknout na detail události a budete bezpečně přesměrováni na oficiálního prodejce vstupenek..
URL:https://nasejiznimorava.cz/event/burlesque-tribute-od-kankanu-po-bizar-5/
LOCATION:Cabaret des Péchés\, Brno\, Cabaret des Péchés\, Brno\, Česká republika
CATEGORIES:Zábava
ATTACH;FMTTYPE=image/jpeg:https://nasejiznimorava.cz/wp-content/uploads/2026/01/320-a893e32f88614369a28f54cc72d7cdad.jpg
END:VEVENT
BEGIN:VEVENT
DTSTART;TZID=Europe/Prague:20260418T190000
DTEND;TZID=Europe/Prague:20260418T220000
DTSTAMP:20260419T164250
CREATED:20260211T100315Z
LAST-MODIFIED:20260211T100316Z
UID:42160-1776538800-1776549600@nasejiznimorava.cz
SUMMARY:Muzikály Naruby | Ústí nad Labem
DESCRIPTION:Muzikály Naruby | Ústí nad Labem se uskuteční dne 2026-04-18 v 19:00 v Ústí nad Labem\, Dům kultury. \n🎟️ Koupit vstupenku \n\nMUZIKÁLY NARUBY – Josef Vágner & Petr Ryšavý & Jan KopečnýKoncertní zábavná show naplněná těmi největšími hity z českých i světových muzikálů. \nMuzikály Naruby\, to je koncert živé kapely\, která hraje známe hity tak\, jak je ještě nikdy nikdo neslyšel. Přední čeští zpěváci a muzikáloví herci Josef Vágner\, Jan Kopečný a Petr Ryšavý zpívají hity nejen z tradičních muzikálů jako jsou Bídníci\, Kleopatra\, Angelika\, Tři mušketýři\, ale také z českých hit-muzikálů. \nV programu tak zní ty největší hity Waldemara Matušky\, Václava Neckáře\, kapely Lucie\, Janka Ledeckého\, Karla Gotta\, Michala Davida\, Heleny Vondráčkové\, Lucie Bílé a dalších. \nKoncert je prokládán vtipnými historkami ze zákulisí divadla a české hudební scény. Muzikály Naruby tradičně do posledního místa vyprodávají divadelní sály po celé ČR. A nesmíme zapomenout ani na jejich vyprodanou pražskou Lucernu. \nÚčinkujíJosef VágnerPetr RyšavýJan Kopečný…v doprovodu živé kapely \n\nTento tip na kulturní akci v Ústí nad Labem najdete v přehledu na nasejiznimorava.cz kde na jednom místě shromažďujeme desítky dalších koncertů\, festivalů\, divadelních představení i komunitních událostí z celého regionu i z celé ČR. Přehled je přehledně řazený\, pravidelně aktualizovaný a umožní vám rychle najít přesně to\, co vás zajímá – od velkých open-air akcí až po menší lokální programy. Každý si tak snadno vybere podle svého vkusu i času. Pokud vás některá akce zaujme\, nezapomeňte si včas zajistit vstupenky; stačí kliknout na detail události a budete bezpečně přesměrováni na oficiálního prodejce vstupenek..
URL:https://nasejiznimorava.cz/event/muzikaly-naruby-usti-nad-labem/
LOCATION:Dům kultury\, Ústí nad Labem\, Dům kultury\, Ústí nad Labem\, Česká republika
CATEGORIES:Koncert
ATTACH;FMTTYPE=image/jpeg:https://nasejiznimorava.cz/wp-content/uploads/2026/02/320-c1679a5937f54393add6b26bc9e1a15e.jpg
END:VEVENT
BEGIN:VEVENT
DTSTART;TZID=Europe/Prague:20260418T193000
DTEND;TZID=Europe/Prague:20260418T223000
DTSTAMP:20260419T164250
CREATED:20251215T114225Z
LAST-MODIFIED:20251215T114226Z
UID:40493-1776540600-1776551400@nasejiznimorava.cz
SUMMARY:Mňága a Žďorp & Slobodná Európa
DESCRIPTION:Mňága a Žďorp & Slobodná Európa se uskuteční dne 2026-04-18 v 19:30 v Blansko\, Dělnický dům. \n🎟️ Koupit vstupenku \n\nMňága Žďorp & Slobodná Európa v Blansku \nDo Blanska míří dvě legendy česko-slovenské rockové scény!Na jednom pódiu se setkají slovenská punk-rocková kapela Slobodná Európa a česká alternativní skupina Mňága a Žďorp. Těšit se můžete na večer plný energie\, chytlavých melodií\, výrazných textů a poctivého rock’n’rollu. \nPřijďte si užít jedinečné hudební setkání\, které nabídne to nejlepší z obou kapel – syrovou punkovou sílu i melodickou poetiku českého alternativního rocku. \n19:00 otevření sálu  19:30 Slobodná Európa 20:30 přestavba kapel  21:00 Mňága a Žďorp \n\nTento tip na kulturní akci v Blansko najdete v přehledu na nasejiznimorava.cz kde na jednom místě shromažďujeme desítky dalších koncertů\, festivalů\, divadelních představení i komunitních událostí z celého regionu i z celé ČR. Přehled je přehledně řazený\, pravidelně aktualizovaný a umožní vám rychle najít přesně to\, co vás zajímá – od velkých open-air akcí až po menší lokální programy. Každý si tak snadno vybere podle svého vkusu i času. Pokud vás některá akce zaujme\, nezapomeňte si včas zajistit vstupenky; stačí kliknout na detail události a budete bezpečně přesměrováni na oficiálního prodejce vstupenek..
URL:https://nasejiznimorava.cz/event/mnaga-a-zdorp-slobodna-europa/
LOCATION:Dělnický dům\, Blansko\, Dělnický dům\, Blansko\, Česká republika
CATEGORIES:Koncert
ATTACH;FMTTYPE=image/jpeg:https://nasejiznimorava.cz/wp-content/uploads/2025/12/320-b9b4f234e8df4ee79d205017ad927e3b.jpg
END:VEVENT
BEGIN:VEVENT
DTSTART;TZID=Europe/Prague:20260418T200000
DTEND;TZID=Europe/Prague:20260418T230000
DTSTAMP:20260419T164250
CREATED:20260402T175909Z
LAST-MODIFIED:20260402T175911Z
UID:42458-1776542400-1776553200@nasejiznimorava.cz
SUMMARY:Tigran je ve městě
DESCRIPTION:Tigran je ve městě se uskuteční dne 2026-04-18 v 20:00 v Ostrava\, Skelet Kafe. \n🎟️ Koupit vstupenku \n\n  \nZ důvodu velkého zájmu a vyprodání tohoto termínu jsme přidali další vystoupení od 16:00!!! 🔥 \nTIGRAN JE VE MĚSTĚSobota 18. 4. 2026 od 20:00Skelet Kafe\, Ostrava \nDo Skelet Kafe přijíždí jedinečný komik\, vypravěč a showman Tigran\, který si svým osobitým stylem podmanil publikum po celé republice.Jeho humor je autentický\, svižný a často až překvapivě upřímný – a právě proto se stal jednou z nejvýraznějších osobností současné stand-up scény. \nTigran je známý svými historkami z každodenního života\, ostrým postřehem i schopností vystřelit pointu přesně ve chvíli\, kdy to divák nejméně čeká.Čeká vás večer\, během kterého budete mít pocit\, že jste na návštěvě u někoho\, kdo vás zná lépe než vy sami sebe. \nNa co se můžete těšit? \n\n\nstand-up plný energie\, nadsázky a sebeironie \n\n\nosobní příběhy podané s absolutní lehkostí \n\n\nhumor\, který míří přesně a nebojí se ničeho \n\n\njedinečná atmosféra Skelet Kafe \n\n\nK tomu Skelet Kafe \nBěhem show si můžete vychutnat: \n\n\nskvělou kávu \n\n\noriginální drinky \n\n\ndomácí dezertyTo vše v prostředí\, které je jako dělané pro večery plné smíchu. \n\n\nParkování – bez starostí \nNemusíte řešit\, kde zaparkovat.Ke každé akci přidáváme odkaz s přesnými instrukcemi a doporučenými parkovacími místy v okolí Skelet Kafe. \nhttps://www.skeletkafe.cz/parkovani \nProsíme hosty\, aby dorazili alespoň 30 minut před začátkem představení. Díky tomu Vás dokážeme všechny pohodlně usadit a obsloužit. Pozdější příchod narušuje hladký průběh akce. Děkujeme za pochopení. \nPřijďte se zasmát\, odreagovat a zažít Tigrana v nejlepší formě.Těšíme se na vás! \n\nTento tip na kulturní akci v Ostrava najdete v přehledu na nasejiznimorava.cz kde na jednom místě shromažďujeme desítky dalších koncertů\, festivalů\, divadelních představení i komunitních událostí z celého regionu i z celé ČR. Přehled je přehledně řazený\, pravidelně aktualizovaný a umožní vám rychle najít přesně to\, co vás zajímá – od velkých open-air akcí až po menší lokální programy. Každý si tak snadno vybere podle svého vkusu i času. Pokud vás některá akce zaujme\, nezapomeňte si včas zajistit vstupenky; stačí kliknout na detail události a budete bezpečně přesměrováni na oficiálního prodejce vstupenek..
URL:https://nasejiznimorava.cz/event/tigran-je-ve-meste-13/
LOCATION:Skelet Kafe\, Ostrava\, Skelet Kafe\, Ostrava\, Česká republika
CATEGORIES:Zábava
ATTACH;FMTTYPE=image/jpeg:https://nasejiznimorava.cz/wp-content/uploads/2026/04/320-3a373611039546dbb58d1eb7182900b7.jpg
END:VEVENT
END:VCALENDAR