BEGIN:VCALENDAR
VERSION:2.0
PRODID:-// „Objev místa, kde se dobře pije, krásně spí a skvěle žije“  - ECPv6.15.20//NONSGML v1.0//EN
CALSCALE:GREGORIAN
METHOD:PUBLISH
X-ORIGINAL-URL:https://nasejiznimorava.cz
X-WR-CALDESC:Akce na  „Objev místa, kde se dobře pije, krásně spí a skvěle žije“ 
REFRESH-INTERVAL;VALUE=DURATION:PT1H
X-Robots-Tag:noindex
X-PUBLISHED-TTL:PT1H
BEGIN:VTIMEZONE
TZID:Europe/Prague
BEGIN:DAYLIGHT
TZOFFSETFROM:+0100
TZOFFSETTO:+0200
TZNAME:CEST
DTSTART:20250330T010000
END:DAYLIGHT
BEGIN:STANDARD
TZOFFSETFROM:+0200
TZOFFSETTO:+0100
TZNAME:CET
DTSTART:20251026T010000
END:STANDARD
BEGIN:DAYLIGHT
TZOFFSETFROM:+0100
TZOFFSETTO:+0200
TZNAME:CEST
DTSTART:20260329T010000
END:DAYLIGHT
BEGIN:STANDARD
TZOFFSETFROM:+0200
TZOFFSETTO:+0100
TZNAME:CET
DTSTART:20261025T010000
END:STANDARD
BEGIN:DAYLIGHT
TZOFFSETFROM:+0100
TZOFFSETTO:+0200
TZNAME:CEST
DTSTART:20270328T010000
END:DAYLIGHT
BEGIN:STANDARD
TZOFFSETFROM:+0200
TZOFFSETTO:+0100
TZNAME:CET
DTSTART:20271031T010000
END:STANDARD
END:VTIMEZONE
BEGIN:VEVENT
DTSTART;TZID=Europe/Prague:20260131T100000
DTEND;TZID=Europe/Prague:20260131T130000
DTSTAMP:20260421T141012
CREATED:20251214T073132Z
LAST-MODIFIED:20251214T073133Z
UID:40087-1769853600-1769864400@nasejiznimorava.cz
SUMMARY:Pohádkovaná aneb pohádky pro děti v Horké vaně
DESCRIPTION:Pohádkovaná aneb pohádky pro děti v Horké vaně se uskuteční dne 2026-01-31 v 10:00 v České Budějovice\, Horká Vana. \n🎟️ Koupit vstupenku \n\nPohádkovaná – pohádky pro děti v Horké vaně 2025/2026 \nPohádkovaná v Horké vaně je už tradicí!Letos již po 7 jsme pro vás připravili rekordních 20 pohádek – každou sobotu dopoledne od října do března. \nPohádky jsou určeny dětem ve věku 2–12 let\, ale často pobaví rodiče i prarodiče.A zatímco děti sledují princezny\, čerty a vodníky\, vy si můžete vychutnat kávu ve vedlejší Horké vaně. \n\nZačátek představení: 10:00\nVstup do sálu: od 9:30\nDélka představení: cca 45–50 minut\nMísto: Horká vana\, Česká 222/7\, České Budějovice\nKapacita sálu je omezená!\nRezervace: jen zakoupením vstupenky v předprodeji (doporučujeme).\nCena:\n\npředprodej 90 Kč\nna místě 100 Kč (pouze pokud zůstane volná kapacita)\n\n\nSezení je volné – kdo dřív přijde\, ten dřív sedí.\nParkování: o víkendu zdarma na Parkovišti Mariánské náměstí i na zónách CBT1 a CBT2.\n\n  \nProgram – JARO 2026 \n10.01. – Čaroděj a pyšná princezna – Téměř divadelní společnost17.01. – Pohádky z kufru – Marediv24.01. – O ševci Kubovi – Divadýlko Mrak \n31.01. – Šípková Růženka – Studio dell’arte \n07.02. – Otesánek – Já to jsem14.02. – Moudrý rádce – Divadlo Studna21.02. – Vodnická škola – Rybníkáři28.02. – Matěj a čerti – Lokvar07.03. – Kouzelný zvoneček – Divoloď14.03. – Pirátská pohádka – Kubko21.03. – Makový mužíček – Divadlo Dokola \n  \nStaňte se členem FB skupiny Pohádkovaná – a žádná pohádka vám už neuteče! \n\nTento tip na kulturní akci v České Budějovice najdete v přehledu na nasejiznimorava.cz kde na jednom místě shromažďujeme desítky dalších koncertů\, festivalů\, divadelních představení i komunitních událostí z celého regionu i z celé ČR. Přehled je přehledně řazený\, pravidelně aktualizovaný a umožní vám rychle najít přesně to\, co vás zajímá – od velkých open-air akcí až po menší lokální programy. Každý si tak snadno vybere podle svého vkusu i času. Pokud vás některá akce zaujme\, nezapomeňte si včas zajistit vstupenky; stačí kliknout na detail události a budete bezpečně přesměrováni na oficiálního prodejce vstupenek..
URL:https://nasejiznimorava.cz/event/pohadkovana-aneb-pohadky-pro-deti-v-horke-vane-5/
LOCATION:Horká Vana\, České Budějovice\, Horká Vana\, České Budějovice\, Česká republika
CATEGORIES:Divadlo
ATTACH;FMTTYPE=image/jpeg:https://nasejiznimorava.cz/wp-content/uploads/2025/12/320-50d407f35d2f4769a479ea7d8494b599.jpg
END:VEVENT
BEGIN:VEVENT
DTSTART;TZID=Europe/Prague:20260131T170000
DTEND;TZID=Europe/Prague:20260131T200000
DTSTAMP:20260421T141012
CREATED:20251211T193533Z
LAST-MODIFIED:20251211T193535Z
UID:39914-1769878800-1769889600@nasejiznimorava.cz
SUMMARY:KNIHA DŽUNGLÍ I Sokolov
DESCRIPTION:KNIHA DŽUNGLÍ I Sokolov se uskuteční dne 2026-01-31 v 17:00 v Sokolov\, Městské divadlo. \n🎟️ Koupit vstupenku \n\nMuzikál KNIHA DŽUNGLÍ – největší rodinný zážitek roku 2026! \nOd ledna 2026 přichází do 55 měst po celé České republice překvapení pro celou rodinu! Novinka od producentů rodinných muzikálů\, jako je Popelka\, Alenka v říši divů či Vánoční loupež. \nČeká vás příběh plný emocí\, hudby\, smíchu i napětí – a to přímo ve vašem městě! \nSeznámíte se s odvážným Mauglím\, moudrým vlčím vůdcem Akélou\, ušlechtilým a statečným panterem Baghírou\, rozverným medvědem Balúem\, jehož kostým je jediný svého druhu v Evropě! Velkolepý dojem zanechá také obrovský král opic – gorila Ludvík v unikátním kostýmu. \nObrovským lákadlem je jedinečný kostým Hada KAA\, jaký jste ještě nikdy neviděli! \nO napětí se postará nelítostný tygr Šerchán\, jeho komicko-zákeřný společník hyena Tabaki\, a atmosféru odlehčí i vtipný a upovídaný papoušek a další známá zvířata. \n Spolu s projekcemi a dechberoucími vizuálními efekty se ocitnete přímo uprostřed kouzelné džungle. \nDěti se stanou součástí představení – pomohou Mauglímu zahnat Šerchána nebo najít med pro medvěda Balů\,  a společně s herci dotvářet kouzelný příběh. \nInteraktivní část vás vtáhne do děje – zvířata z džungle se objeví nejen na jevišti\, ale i mezi dětmi v hledišti\, aby si každý mohl zažít pocit\, že je součástí příběhu. \nSpeciální bonus: Každé dítě dostane ke vstupence zvířecí masku dle vlastního výběru.A po představení čeká malé diváky jedinečná možnost vyfotit se přímo na jevišti s herci v kostýmech! \n  \nTip na vánoční dárek!Darujte svým dětem a celé rodině nezapomenutelný zážitek – vstupenky na muzikál\, o kterém se bude mluvit ještě dlouho. \nToto není jen muzikál. Je to největší zážitek u vás doma\, ve vašem městě! \nPředprodej vstupenek spuštěn právě teď – kapacita je omezená.Kupte si vstupenky v síti smsticket a buďte u muzikálové události roku 2026! \n\nTento tip na kulturní akci v Sokolov najdete v přehledu na nasejiznimorava.cz kde na jednom místě shromažďujeme desítky dalších koncertů\, festivalů\, divadelních představení i komunitních událostí z celého regionu i z celé ČR. Přehled je přehledně řazený\, pravidelně aktualizovaný a umožní vám rychle najít přesně to\, co vás zajímá – od velkých open-air akcí až po menší lokální programy. Každý si tak snadno vybere podle svého vkusu i času. Pokud vás některá akce zaujme\, nezapomeňte si včas zajistit vstupenky; stačí kliknout na detail události a budete bezpečně přesměrováni na oficiálního prodejce vstupenek..
URL:https://nasejiznimorava.cz/event/kniha-dzungli-i-sokolov/
LOCATION:Městské divadlo\, Sokolov\, Městské divadlo\, Sokolov\, Česká republika
CATEGORIES:Divadlo
ATTACH;FMTTYPE=image/jpeg:https://nasejiznimorava.cz/wp-content/uploads/2025/12/320-07a3e11c20b04153b5564a40b5fa6959.jpg
END:VEVENT
BEGIN:VEVENT
DTSTART;TZID=Europe/Prague:20260131T180000
DTEND;TZID=Europe/Prague:20260131T210000
DTSTAMP:20260421T141012
CREATED:20251217T060024Z
LAST-MODIFIED:20251217T060024Z
UID:40568-1769882400-1769893200@nasejiznimorava.cz
SUMMARY:Dokonalá svatba – derniéra
DESCRIPTION:Dokonalá svatba – derniéra se uskuteční dne 2026-01-31 v 18:00 v Humpolec\, Kino. \n🎟️ Koupit vstupenku \n\nPoslední lednový den v novém roce se ponese ve znamení slavnostní derniéry Dokonalé svatby Rachel a Billa. Nenechte si ujít poslední možnost stát se svatebčany na takto výjimečné svatbě. A protože se budeme s inscenací na domácí scéně loučit\, rozjedeme to opravdu ve velkém stylu!  \n  \nZažijte jedinečné propojení hlediště s jevištěm! \nNa derniéru navazuje od 21:30 hodin Dramaturgický závěr\, kdy se podíváme na celou svatební tvorbu „za oponou“. Budete svědky\, jak vzniká humpolecké divadlo. Vstup je zdarma\, ale je zapotřebí se zaregistrovat. \nRegistrační formulář: https://forms.gle/PCCLo6qNiy1oHP8y5 \nSvižná britská komedie\, která odhalí\, co vše se může přihodit ve svatební den\, když to přeženete na rozlučce. To pak nastane lavina zmatků\, nečekaných odhalení a o zábavné situace\, tedy jak pro koho zábavné\, není rozhodně nouze… \n  \nAutor: Robin HawdonRežie: Jaroslav Neubauer \nPřeklad: Jan ŠotkovskýVýprava; scénografie: Jan Koudelkakostýmní výtvarnictví: Ilona Kostřicová \nTechnická spolupráce: Martin SýkoraSvětelný design: Štěpán TůmaNápověda: Mirka Štěrbová\, Pavla Horáková Sikesová \nOsoby a obsazení \nRachel\, nevěsta: Zuzana Hrušková j.h. \nBill\, ženich: Jan Staněk / Martin Černý j.h. \nTom\, svědek: Adam Čejka \nJudy\, mladá dívka: Marie Šarfová \nJulie\, pokojská: Alena Krejčí \nDafné\, matka nevěsty: Drahomíra Bendlová \nGerald\, otec nevěsty: Martin Rynda \nDupont\, ředitel hotelu: Zdeněk Augusta \nGeorge\, noční recepční: Jan Koudelka \nJerremy\, šéfkuchař: Jaroslav Neubauer \nEdward\, kněz: Martin Černý j.h. / Jan Staněk \n\nTento tip na kulturní akci v Humpolec najdete v přehledu na nasejiznimorava.cz kde na jednom místě shromažďujeme desítky dalších koncertů\, festivalů\, divadelních představení i komunitních událostí z celého regionu i z celé ČR. Přehled je přehledně řazený\, pravidelně aktualizovaný a umožní vám rychle najít přesně to\, co vás zajímá – od velkých open-air akcí až po menší lokální programy. Každý si tak snadno vybere podle svého vkusu i času. Pokud vás některá akce zaujme\, nezapomeňte si včas zajistit vstupenky; stačí kliknout na detail události a budete bezpečně přesměrováni na oficiálního prodejce vstupenek..
URL:https://nasejiznimorava.cz/event/dokonala-svatba-derniera/
LOCATION:Kino\, Humpolec\, Kino\, Humpolec\, Česká republika
CATEGORIES:Divadlo
ATTACH;FMTTYPE=image/jpeg:https://nasejiznimorava.cz/wp-content/uploads/2025/12/320-d0f22fe1d8714a328d5a245fca54d888.jpg
END:VEVENT
BEGIN:VEVENT
DTSTART;TZID=Europe/Prague:20260131T190000
DTEND;TZID=Europe/Prague:20260131T220000
DTSTAMP:20260421T141012
CREATED:20251111T172157Z
LAST-MODIFIED:20251111T172157Z
UID:38546-1769886000-1769896800@nasejiznimorava.cz
SUMMARY:Sébastien Castro - Geniální nápad
DESCRIPTION:Sébastien Castro – Geniální nápad se uskuteční dne 2026-01-31 v 19:00 v Šumperk\, Dům Kultury. \n🎟️ Koupit vstupenku \n\nZveme vás na novou úspěšnou komedii Divadla Palace\, kde se v hlavních rolích představí David Gránský a Martin Pechlát. \nKdyž se na jednom místě objeví dva lidé\, kteří jsou si k nerozeznání podobní\, přinese to nemalé komplikace. A co teprve\, když jsou tři!? \nV komedii Geniální nápad hraje David Gránský hned tři postavy\, které jsou si k nerozeznání podobné a na scéně se objevují zároveň. Jak je to možné? Divadelní magie vám zamotá hlavu. Ale taky vás rozesměje tak\, jak je to tady už zvykem. \nA příběh? Ten není nijak komplikovaný. Ačkoli… Na počátku totiž byla prohlídka bytu\, do kterého se chtějí přestěhovat Arnaud a jeho přítelkyně Marion. Pak se to ovšem trochu zvrtne. A nejenom proto\, že se falešný realitní makléř potká tváří v tvář s tím skutečným. \nPokud se ptáte\, jestli to bude stát za to\, tak vězte\, že tato francouzská komedie už získala prestižní Prix Molière 2023. Takže se připravte\, že palacovská verze této komediální senzace bude minimálně stejně úspěšná! \n  \nSébastien Castro – Geniální nápadHrají: \nArnaud – Martin Pechlát \nThomas\, Cédric\, Jules – David Gránský \nMarion – Markéta Děrgelová \nCatherine – Zuzana Slavíková / Vlasta Žehrová \nRežie: Pavel Šimák \nPřeklad: Petr Christov \nKostýmy: Miroslav Král \nDélka představení: 110 min. + přestávka (20 min.) \n\nTento tip na kulturní akci v Šumperk najdete v přehledu na nasejiznimorava.cz kde na jednom místě shromažďujeme desítky dalších koncertů\, festivalů\, divadelních představení i komunitních událostí z celého regionu i z celé ČR. Přehled je přehledně řazený\, pravidelně aktualizovaný a umožní vám rychle najít přesně to\, co vás zajímá – od velkých open-air akcí až po menší lokální programy. Každý si tak snadno vybere podle svého vkusu i času. Pokud vás některá akce zaujme\, nezapomeňte si včas zajistit vstupenky; stačí kliknout na detail události a budete bezpečně přesměrováni na oficiálního prodejce vstupenek..
URL:https://nasejiznimorava.cz/event/sebastien-castro-genialni-napad/
LOCATION:Dům Kultury\, Šumperk\, Dům Kultury\, Šumperk\, Česká republika
CATEGORIES:Divadlo
ATTACH;FMTTYPE=image/jpeg:https://nasejiznimorava.cz/wp-content/uploads/2025/11/320-25934189381a4bc4b434be88d1aa30e7.jpg
END:VEVENT
END:VCALENDAR