BEGIN:VCALENDAR
VERSION:2.0
PRODID:-// „Objev místa, kde se dobře pije, krásně spí a skvěle žije“  - ECPv6.15.20//NONSGML v1.0//EN
CALSCALE:GREGORIAN
METHOD:PUBLISH
X-ORIGINAL-URL:https://nasejiznimorava.cz
X-WR-CALDESC:Akce na  „Objev místa, kde se dobře pije, krásně spí a skvěle žije“ 
REFRESH-INTERVAL;VALUE=DURATION:PT1H
X-Robots-Tag:noindex
X-PUBLISHED-TTL:PT1H
BEGIN:VTIMEZONE
TZID:Europe/Prague
BEGIN:DAYLIGHT
TZOFFSETFROM:+0100
TZOFFSETTO:+0200
TZNAME:CEST
DTSTART:20250330T010000
END:DAYLIGHT
BEGIN:STANDARD
TZOFFSETFROM:+0200
TZOFFSETTO:+0100
TZNAME:CET
DTSTART:20251026T010000
END:STANDARD
BEGIN:DAYLIGHT
TZOFFSETFROM:+0100
TZOFFSETTO:+0200
TZNAME:CEST
DTSTART:20260329T010000
END:DAYLIGHT
BEGIN:STANDARD
TZOFFSETFROM:+0200
TZOFFSETTO:+0100
TZNAME:CET
DTSTART:20261025T010000
END:STANDARD
BEGIN:DAYLIGHT
TZOFFSETFROM:+0100
TZOFFSETTO:+0200
TZNAME:CEST
DTSTART:20270328T010000
END:DAYLIGHT
BEGIN:STANDARD
TZOFFSETFROM:+0200
TZOFFSETTO:+0100
TZNAME:CET
DTSTART:20271031T010000
END:STANDARD
END:VTIMEZONE
BEGIN:VEVENT
DTSTART;TZID=Europe/Prague:20260202T190000
DTEND;TZID=Europe/Prague:20260202T220000
DTSTAMP:20260421T141834
CREATED:20251211T055126Z
LAST-MODIFIED:20251211T055128Z
UID:39817-1770058800-1770069600@nasejiznimorava.cz
SUMMARY:Housle v Liberci
DESCRIPTION:Housle v Liberci se uskuteční dne 2026-02-02 v 19:00 v Liberec\, Dům Kultury. \n🎟️ Koupit vstupenku \n\nDoposud se oba bratři protloukali newyorskými ulicemi jen těžko. Všechno se ale může změnit… \nZlodějíčkovské komediální drama o dvou bratřích a jejich rodinném příteli\, kde naděje na lepší život odhalí pohnutou rodinnou minulost i sílu charakterů. \nHrají:Jiří LangmajerPavel LiškaMilan Hein \n„Inscenace díky Smočkově režii i hereckým výkonům neztrácí napětí i humor a v dobrých tradicích Ungeltu nabízí tip na příjemně strávený večer s úměrnou mírou úsměvu i dojetí.“ (z kritiky Radmily Hrdinové pro Novinky.cz) \nAutor: Dan McCormickRežie: Ladislav SmočekPřeklad: Dana HábováInscenace Divadla Ungelt. \n\nTento tip na kulturní akci v Liberec najdete v přehledu na nasejiznimorava.cz kde na jednom místě shromažďujeme desítky dalších koncertů\, festivalů\, divadelních představení i komunitních událostí z celého regionu i z celé ČR. Přehled je přehledně řazený\, pravidelně aktualizovaný a umožní vám rychle najít přesně to\, co vás zajímá – od velkých open-air akcí až po menší lokální programy. Každý si tak snadno vybere podle svého vkusu i času. Pokud vás některá akce zaujme\, nezapomeňte si včas zajistit vstupenky; stačí kliknout na detail události a budete bezpečně přesměrováni na oficiálního prodejce vstupenek..
URL:https://nasejiznimorava.cz/event/housle-v-liberci/
LOCATION:Dům Kultury\, Liberec\, Dům Kultury\, Liberec\, Česká republika
CATEGORIES:Divadlo
ATTACH;FMTTYPE=image/jpeg:https://nasejiznimorava.cz/wp-content/uploads/2025/12/320-41d5b5e8c6724cf981a4f40cc7b798cf.jpg
END:VEVENT
END:VCALENDAR