BEGIN:VCALENDAR
VERSION:2.0
PRODID:-// „Objev místa, kde se dobře pije, krásně spí a skvěle žije“  - ECPv6.15.20//NONSGML v1.0//EN
CALSCALE:GREGORIAN
METHOD:PUBLISH
X-WR-CALNAME: „Objev místa, kde se dobře pije, krásně spí a skvěle žije“ 
X-ORIGINAL-URL:https://nasejiznimorava.cz
X-WR-CALDESC:Akce na  „Objev místa, kde se dobře pije, krásně spí a skvěle žije“ 
REFRESH-INTERVAL;VALUE=DURATION:PT1H
X-Robots-Tag:noindex
X-PUBLISHED-TTL:PT1H
BEGIN:VTIMEZONE
TZID:Europe/Prague
BEGIN:DAYLIGHT
TZOFFSETFROM:+0100
TZOFFSETTO:+0200
TZNAME:CEST
DTSTART:20250330T010000
END:DAYLIGHT
BEGIN:STANDARD
TZOFFSETFROM:+0200
TZOFFSETTO:+0100
TZNAME:CET
DTSTART:20251026T010000
END:STANDARD
BEGIN:DAYLIGHT
TZOFFSETFROM:+0100
TZOFFSETTO:+0200
TZNAME:CEST
DTSTART:20260329T010000
END:DAYLIGHT
BEGIN:STANDARD
TZOFFSETFROM:+0200
TZOFFSETTO:+0100
TZNAME:CET
DTSTART:20261025T010000
END:STANDARD
BEGIN:DAYLIGHT
TZOFFSETFROM:+0100
TZOFFSETTO:+0200
TZNAME:CEST
DTSTART:20270328T010000
END:DAYLIGHT
BEGIN:STANDARD
TZOFFSETFROM:+0200
TZOFFSETTO:+0100
TZNAME:CET
DTSTART:20271031T010000
END:STANDARD
END:VTIMEZONE
BEGIN:VEVENT
DTSTART;TZID=Europe/Prague:20260204T190000
DTEND;TZID=Europe/Prague:20260204T220000
DTSTAMP:20260421T141503
CREATED:20251206T081130Z
LAST-MODIFIED:20251206T081132Z
UID:39709-1770231600-1770242400@nasejiznimorava.cz
SUMMARY:Opravna duší
DESCRIPTION:Opravna duší se uskuteční dne 2026-02-04 v 19:00 v Praha\, Jindřišská věž. \n🎟️ Koupit vstupenku \n\nPojďte spolu s námi zažít večer\, kdy vám opravíme vaše duše \nMáte manžela? Máte manželku? Jste svobodní? Jste málo šťastní\, nebo příliš bezstarostní? Cítíte se někdy sami\, nesnášíte nakupování\, nebo trpíte nadváhou? Máme lék na mnoho vašich starostí. A jak to děláme? Donutíme vás na ně během našeho pořadu zapomenout! Na každou vaši drobnou starost máme náplast ve formě duetu\, fejetonu\, stand upu nebo sólového šansonu. To vše z naší autorské dílny a s notnou dávkou humoru. \nZaposloucháte se nejen do autorského čtení z knih herečky a autorky Martiny Preissové ale i do písní zpěvačky a herečky Dáši Zázvůrkové. Uslyšíte povídky z knihy „Jak jsem nebyla na lvech“ a „Mají v nebi skleničky?“\, které vám přečte sama autorka\, a máme pro vás připraveno i několik písní\, které vznikly ve společné dílně obou protagonistek. A je toho mnohem víc\, co v naší společné dílně vzniklo. Nemějte strach\, že je to nějaká chvilka poezie! Je to setkání dvou žen na jevišti\, která každá po svém a někdy i dohromady opravují duše těm\, kteří se chtějí zasmát a zamyslet. Nechte se strhnout rytmem našich temperamentů a slibujeme\, že cestou domů si ještě stále budete zpívat a usmívat se. \n  \nOpravářky vašich duší \nMartina Preissová je česká divadelní\, televizní a filmová herečka. Od roku 2000 je stálou členkou činoherního souboru Národního divadla v Praze a hostuje i na jiných pražských scénách. Byla dvakrát (1999\, 2004) nominována na Cenu Thálie. V roce 2021 napsala svoji prvotinu. Soubor povídek ze života\, knihu Jak jsem nebyla na lvech a jiné příhody a následně vydala povídkový román Mají v nebi skleničky?. A můžete ji znát i jako televizní herečku ze seriálů Nemocnice na kraji města\, Anatomie života\, Slunečná či Kamarádi a také z filmů Probudím se včera\, Matky a dalších. \nDáša Zázvůrková je česká zpěvačka a herečka. Vystudovala nonverbální a komediální divadlo na HAMU u Borise Hybnera a italianistiku na Filozofické fakultě Univerzity Karlovy. V letech 2003–2014 byla externí členkou divadla SEMAFOR. Hrála také roli Vanilky v jazzové opeře Dobře placená procházka v Národním divadle (2007). V současné době se věnuje autorské tvorbě a můžete ji znát i z úspěšného představení Můžem i s mužem. Aktuálně slaví úspěchy s projektem Pocta Haně Hegerové\, kde interpretuje hity legendy českého šansonu. Koncert V barvách semaforu přináší to nejlepší z tvorby Suchého a Šlitra. \n\nTento tip na kulturní akci v Praha najdete v přehledu na nasejiznimorava.cz kde na jednom místě shromažďujeme desítky dalších koncertů\, festivalů\, divadelních představení i komunitních událostí z celého regionu i z celé ČR. Přehled je přehledně řazený\, pravidelně aktualizovaný a umožní vám rychle najít přesně to\, co vás zajímá – od velkých open-air akcí až po menší lokální programy. Každý si tak snadno vybere podle svého vkusu i času. Pokud vás některá akce zaujme\, nezapomeňte si včas zajistit vstupenky; stačí kliknout na detail události a budete bezpečně přesměrováni na oficiálního prodejce vstupenek..
URL:https://nasejiznimorava.cz/event/opravna-dusi-2/
LOCATION:Jindřišská věž\, Praha\, Jindřišská věž\, Praha\, Česká republika
CATEGORIES:Divadlo
ATTACH;FMTTYPE=image/jpeg:https://nasejiznimorava.cz/wp-content/uploads/2025/12/320-c713e394f83d45f8a62005ac21376195.jpg
END:VEVENT
BEGIN:VEVENT
DTSTART;TZID=Europe/Prague:20260204T190000
DTEND;TZID=Europe/Prague:20260204T220000
DTSTAMP:20260421T141503
CREATED:20251214T072440Z
LAST-MODIFIED:20251214T072440Z
UID:40054-1770231600-1770242400@nasejiznimorava.cz
SUMMARY:Cena za něžnost
DESCRIPTION:Cena za něžnost se uskuteční dne 2026-02-04 v 19:00 v Blansko\, Dělnický dům. \n🎟️ Koupit vstupenku \n\nSimona Stašová si vždy vybírá komedie\, které mají nejen humor\, ale i hloubku. Tentokrát si vybrala jednu z těch opravdu parádních: americkou romantickou a křehkou hru „Cena za něžnost“.  \nJak je důležité neztratit v životě humor a lásku i v těch nejtěžších chvílích\, které člověka potkají. Velmi vtipný\, dojemný a silný příběh o lásce\, který zachycuje křehká a někdy nalomená pouta mezi matkami a dcerami\, manžely a manželkami\, starými a novými milenci… \nHrají: Simona Stašová\, Kamila Trnková\, Miroslav Etzler\, Jessica Bechyňová\, Otakar Brousek ml.\, Jan Teplý ml.Režie: Vladimír StrniskoAutor: Dan Gordon \nDélka představení 160 minut (včetně přestávky) \n\nTento tip na kulturní akci v Blansko najdete v přehledu na nasejiznimorava.cz kde na jednom místě shromažďujeme desítky dalších koncertů\, festivalů\, divadelních představení i komunitních událostí z celého regionu i z celé ČR. Přehled je přehledně řazený\, pravidelně aktualizovaný a umožní vám rychle najít přesně to\, co vás zajímá – od velkých open-air akcí až po menší lokální programy. Každý si tak snadno vybere podle svého vkusu i času. Pokud vás některá akce zaujme\, nezapomeňte si včas zajistit vstupenky; stačí kliknout na detail události a budete bezpečně přesměrováni na oficiálního prodejce vstupenek..
URL:https://nasejiznimorava.cz/event/cena-za-neznost-2/
LOCATION:Dělnický dům\, Blansko\, Dělnický dům\, Blansko\, Česká republika
CATEGORIES:Divadlo
ATTACH;FMTTYPE=image/jpeg:https://nasejiznimorava.cz/wp-content/uploads/2025/12/320-1a1e3240726444f79a8c28e3a681f486.jpg
END:VEVENT
BEGIN:VEVENT
DTSTART;TZID=Europe/Prague:20260204T190000
DTEND;TZID=Europe/Prague:20260204T220000
DTSTAMP:20260421T141503
CREATED:20251214T164506Z
LAST-MODIFIED:20251214T164507Z
UID:40354-1770231600-1770242400@nasejiznimorava.cz
SUMMARY:Přání
DESCRIPTION:Přání se uskuteční dne 2026-02-04 v 19:00 v Čelákovice\, KD Čelákovice. \n🎟️ Koupit vstupenku \n\nHerce Janu Paulovou a Marka Němce přivádí poprvé na společné jeviště původní komedie od Romana Vencla\, jednoho z nejhranějších českých autorů současnosti. \nHra Přání je plná jiskřivých slovních výměn a výborně vystavěných i překvapivých situací. Je vtipná\, současně jímavá a křehká. Vypráví příběh o tom\, že přání se plní. I ta nejtajnější. Dokonce i ta\, která se splnit snad ani neměla… \nJeden hotelový pokoj\, v něm dva vzájemně si cizí lidé a velmi netradiční přání\, které se zdá být posledním. To je výchozí situace autorské komedie\, která vznikla tak říkajíc přímo na tělo oblíbené komediální herečce Janě Paulové u příležitosti jejího životního jubilea. \nPřání je tak dárkem všem divákům\, kteří si oblíbili její neodolatelný smysl pro humor\, nevyčerpatelnou životní energii a úžasnou nonšalantnost\, s jakou neúnavně a spolehlivě baví a okouzluje publikum napříč celou republikou. \nJevištním partnerem jí je výborný televizní a divadelní herec\, ale také talentovaný režisér Marek Němec. \nNechte se jejich prostřednictvím pobavit i dojmout.  \nHerecké obsazení \nAnna: Jana PaulováDavid: Marek Němecostatní ženské role: Klára Oltová / Vendula Wronkaostatní mužské role: Ladislav Hampl / Roman Vencl \nTvůrci \nAutor: Roman VenclRežie: Marek NěmecKostýmy: Michaela ČervenkováScéna: Jan KřížHudba: Ondřej Rychlý \nDélka představení: 125 minut včetně přestávky \n\nTento tip na kulturní akci v Čelákovice najdete v přehledu na nasejiznimorava.cz kde na jednom místě shromažďujeme desítky dalších koncertů\, festivalů\, divadelních představení i komunitních událostí z celého regionu i z celé ČR. Přehled je přehledně řazený\, pravidelně aktualizovaný a umožní vám rychle najít přesně to\, co vás zajímá – od velkých open-air akcí až po menší lokální programy. Každý si tak snadno vybere podle svého vkusu i času. Pokud vás některá akce zaujme\, nezapomeňte si včas zajistit vstupenky; stačí kliknout na detail události a budete bezpečně přesměrováni na oficiálního prodejce vstupenek..
URL:https://nasejiznimorava.cz/event/prani/
LOCATION:KD Čelákovice\, Čelákovice\, KD Čelákovice\, Čelákovice\, Česká republika
CATEGORIES:Divadlo
ATTACH;FMTTYPE=image/jpeg:https://nasejiznimorava.cz/wp-content/uploads/2025/12/320-594ca93327e742279dd613bf1292e2f1.jpg
END:VEVENT
END:VCALENDAR