BEGIN:VCALENDAR
VERSION:2.0
PRODID:-// „Objev místa, kde se dobře pije, krásně spí a skvěle žije“  - ECPv6.15.20//NONSGML v1.0//EN
CALSCALE:GREGORIAN
METHOD:PUBLISH
X-ORIGINAL-URL:https://nasejiznimorava.cz
X-WR-CALDESC:Akce na  „Objev místa, kde se dobře pije, krásně spí a skvěle žije“ 
REFRESH-INTERVAL;VALUE=DURATION:PT1H
X-Robots-Tag:noindex
X-PUBLISHED-TTL:PT1H
BEGIN:VTIMEZONE
TZID:Europe/Prague
BEGIN:DAYLIGHT
TZOFFSETFROM:+0100
TZOFFSETTO:+0200
TZNAME:CEST
DTSTART:20250330T010000
END:DAYLIGHT
BEGIN:STANDARD
TZOFFSETFROM:+0200
TZOFFSETTO:+0100
TZNAME:CET
DTSTART:20251026T010000
END:STANDARD
BEGIN:DAYLIGHT
TZOFFSETFROM:+0100
TZOFFSETTO:+0200
TZNAME:CEST
DTSTART:20260329T010000
END:DAYLIGHT
BEGIN:STANDARD
TZOFFSETFROM:+0200
TZOFFSETTO:+0100
TZNAME:CET
DTSTART:20261025T010000
END:STANDARD
BEGIN:DAYLIGHT
TZOFFSETFROM:+0100
TZOFFSETTO:+0200
TZNAME:CEST
DTSTART:20270328T010000
END:DAYLIGHT
BEGIN:STANDARD
TZOFFSETFROM:+0200
TZOFFSETTO:+0100
TZNAME:CET
DTSTART:20271031T010000
END:STANDARD
END:VTIMEZONE
BEGIN:VEVENT
DTSTART;TZID=Europe/Prague:20260208T100000
DTEND;TZID=Europe/Prague:20260208T130000
DTSTAMP:20260421T140904
CREATED:20251212T065720Z
LAST-MODIFIED:20251212T065720Z
UID:39951-1770544800-1770555600@nasejiznimorava.cz
SUMMARY:KNIHA DŽUNGLÍ I Karlovy Vary
DESCRIPTION:KNIHA DŽUNGLÍ I Karlovy Vary se uskuteční dne 2026-02-08 v 10:00 v Karlovy Vary\, Lidový Dům. \n🎟️ Koupit vstupenku \n\nMuzikál KNIHA DŽUNGLÍ – největší rodinný zážitek roku 2026!  \nOd ledna 2026 přichází do 55 měst po celé České republice překvapení pro celou rodinu! Novinka od producentů rodinných muzikálů\, jako je Popelka\, Alenka v říši divů či Vánoční loupež. \nČeká vás příběh plný emocí\, hudby\, smíchu i napětí – a to přímo ve vašem městě! \nSeznámíte se s odvážným Mauglím\, moudrým vlčím vůdcem Akélou\, ušlechtilým a statečným panterem Baghírou\, rozverným medvědem Balúem\, jehož kostým je jediný svého druhu v Evropě! Velkolepý dojem zanechá také obrovský král opic – gorila Ludvík v unikátním kostýmu. \nObrovským lákadlem je jedinečný kostým Hada KAA\, jaký jste ještě nikdy neviděli! \nO napětí se postará nelítostný tygr Šerchán\, jeho komicko-zákeřný společník hyena Tabaki\, a atmosféru odlehčí i vtipný a upovídaný papoušek a další známá zvířata. \n Spolu s projekcemi a dechberoucími vizuálními efekty se ocitnete přímo uprostřed kouzelné džungle. \nDěti se stanou součástí představení – pomohou Mauglímu zahnat Šerchána nebo najít med pro medvěda Balů\,  a společně s herci dotvářet kouzelný příběh. \nInteraktivní část vás vtáhne do děje – zvířata z džungle se objeví nejen na jevišti\, ale i mezi dětmi v hledišti\, aby si každý mohl zažít pocit\, že je součástí příběhu. \nSpeciální bonus: Každé dítě dostane ke vstupence zvířecí masku dle vlastního výběru.A po představení čeká malé diváky jedinečná možnost vyfotit se přímo na jevišti s herci v kostýmech! \n  \n Tip na vánoční dárek!Darujte svým dětem a celé rodině nezapomenutelný zážitek – vstupenky na muzikál\, o kterém se bude mluvit ještě dlouho. \n\nToto není jen muzikál. Je to největší zážitek u vás doma\, ve vašem městě!\nkapacita je omezená.\nKupte si vstupenky v síti smsticket a buďte u muzikálové události roku 2026!\n\n\nTento tip na kulturní akci v Karlovy Vary najdete v přehledu na nasejiznimorava.cz kde na jednom místě shromažďujeme desítky dalších koncertů\, festivalů\, divadelních představení i komunitních událostí z celého regionu i z celé ČR. Přehled je přehledně řazený\, pravidelně aktualizovaný a umožní vám rychle najít přesně to\, co vás zajímá – od velkých open-air akcí až po menší lokální programy. Každý si tak snadno vybere podle svého vkusu i času. Pokud vás některá akce zaujme\, nezapomeňte si včas zajistit vstupenky; stačí kliknout na detail události a budete bezpečně přesměrováni na oficiálního prodejce vstupenek..
URL:https://nasejiznimorava.cz/event/kniha-dzungli-i-karlovy-vary/
LOCATION:Lidový Dům\, Karlovy Vary\, Lidový Dům\, Karlovy Vary\, Česká republika
CATEGORIES:Divadlo
ATTACH;FMTTYPE=image/jpeg:https://nasejiznimorava.cz/wp-content/uploads/2025/12/320-7d766e3a6ba841e5940bae9baf8586c4.jpg
END:VEVENT
BEGIN:VEVENT
DTSTART;TZID=Europe/Prague:20260208T170000
DTEND;TZID=Europe/Prague:20260208T200000
DTSTAMP:20260421T140904
CREATED:20251212T065717Z
LAST-MODIFIED:20251212T065720Z
UID:39948-1770570000-1770580800@nasejiznimorava.cz
SUMMARY:KNIHA DŽUNGLÍ I Kladno
DESCRIPTION:KNIHA DŽUNGLÍ I Kladno se uskuteční dne 2026-02-08 v 17:00 v Kladno\, Dům kultury. \n🎟️ Koupit vstupenku \n\nMuzikál KNIHA DŽUNGLÍ – největší rodinný zážitek roku 2026! \nOd ledna 2026 přichází do 55 měst po celé České republice překvapení pro celou rodinu! Novinka od producentů rodinných muzikálů\, jako je Popelka\, Alenka v říši divů či Vánoční loupež. \nČeká vás příběh plný emocí\, hudby\, smíchu i napětí – a to přímo ve vašem městě! \nSeznámíte se s odvážným Mauglím\, moudrým vlčím vůdcem Akélou\, ušlechtilým a statečným panterem Baghírou\, rozverným medvědem Balúem\, jehož kostým je jediný svého druhu v Evropě! Velkolepý dojem zanechá také obrovský král opic – gorila Ludvík v unikátním kostýmu. \nObrovským lákadlem je jedinečný kostým Hada KAA\, jaký jste ještě nikdy neviděli! \nO napětí se postará nelítostný tygr Šerchán\, jeho komicko-zákeřný společník hyena Tabaki\, a atmosféru odlehčí i vtipný a upovídaný papoušek a další známá zvířata. \n Spolu s projekcemi a dechberoucími vizuálními efekty se ocitnete přímo uprostřed kouzelné džungle. \nDěti se stanou součástí představení – pomohou Mauglímu zahnat Šerchána nebo najít med pro medvěda Balů\,  a společně s herci dotvářet kouzelný příběh. \nInteraktivní část vás vtáhne do děje – zvířata z džungle se objeví nejen na jevišti\, ale i mezi dětmi v hledišti\, aby si každý mohl zažít pocit\, že je součástí příběhu. \nSpeciální bonus: Každé dítě dostane ke vstupence zvířecí masku dle vlastního výběru.A po představení čeká malé diváky jedinečná možnost vyfotit se přímo na jevišti s herci v kostýmech! \n  \nTip na vánoční dárek!Darujte svým dětem a celé rodině nezapomenutelný zážitek – vstupenky na muzikál\, o kterém se bude mluvit ještě dlouho. \nToto není jen muzikál. Je to největší zážitek u vás doma\, ve vašem městě! \nPředprodej vstupenek spuštěn právě teď – kapacita je omezená.Kupte si vstupenky v síti smsticket a buďte u muzikálové události roku 2026! \n\nTento tip na kulturní akci v Kladno najdete v přehledu na nasejiznimorava.cz kde na jednom místě shromažďujeme desítky dalších koncertů\, festivalů\, divadelních představení i komunitních událostí z celého regionu i z celé ČR. Přehled je přehledně řazený\, pravidelně aktualizovaný a umožní vám rychle najít přesně to\, co vás zajímá – od velkých open-air akcí až po menší lokální programy. Každý si tak snadno vybere podle svého vkusu i času. Pokud vás některá akce zaujme\, nezapomeňte si včas zajistit vstupenky; stačí kliknout na detail události a budete bezpečně přesměrováni na oficiálního prodejce vstupenek..
URL:https://nasejiznimorava.cz/event/kniha-dzungli-i-kladno/
LOCATION:Dům kultury\, Kladno\, Dům kultury\, Kladno\, Česká republika
CATEGORIES:Divadlo
ATTACH;FMTTYPE=image/jpeg:https://nasejiznimorava.cz/wp-content/uploads/2025/12/320-af8735b953024833bc0fceecb2d0908f.jpg
END:VEVENT
BEGIN:VEVENT
DTSTART;TZID=Europe/Prague:20260208T190000
DTEND;TZID=Europe/Prague:20260208T220000
DTSTAMP:20260421T140904
CREATED:20251214T081203Z
LAST-MODIFIED:20251214T081205Z
UID:40181-1770577200-1770588000@nasejiznimorava.cz
SUMMARY:My děti ze stanice ZOO
DESCRIPTION:My děti ze stanice ZOO se uskuteční dne 2026-02-08 v 19:00 v Zbýšov\, Kino Horník. \n🎟️ Koupit vstupenku \n\nPříběh\, který šokoval svět! V 70. letech propukla v tehdejším Západním Berlínu narkomanská epidemie\, která zmítala teenagery i děti. Jednou z nich byla Christiane F. Ta svůj příběh plný drog\, prostituce a osamělosti otevřeně a bez příkras popsala veřejnosti. Zažijte nepřikrášlenou divadelní adaptaci kultovní knihy o existenčních problém dospívající mládeže\, které rezonují i dnes. \n„Chvíli jsem si představovala\, jak by to bylo krásné\, kdyby na mě matka ještě čekala. Koupila jsem si fet\, šlehla si a šla spát na stanici. Potřebovala jsem peníze pro případ\, že bych nesehnala žádného zákazníka na noc a musela jít do penzionu.“ Z nudy na diskotéku\, z párty do husté partie a odtud jednosměrným lístkem na stanici\, kde se život odvíjí podle toho\, jestli máš nebo nemáš? Kultovní příběh Christiane F. a jejích kamarádů ze západního Berlína zmítaných v narkomanské epidemii je fackou společnosti\, kterou nezaškodí jednou za čas uštědřit. Inscenace mladého autorského týmu předestírá známý příběh z pohledu hlavní hrdinky\, s níž se divák setkává jak na začátku její závislosti\, tak i na jejím pomyslném konci. Prožívá s ní zamilování\, zklamání\, naději\, rezignaci\, odpor i nenávist. Smršť emocí v jejich surové formě\, které se nalepí na člověka a provázejí ho až domů. \nAdaptace se chopili mladí divadelní umělci a kulturní platforma OZ Artefakt\, kteří navzdory tíživému charakteru příběhu do něj vnesli i dávku humoru a mladickou energii. \n  \nMy děti ze stanice ZOO Režie: Dávid Vyhnánek Text: Martin Krč Dramaturgie: Martin Krč Hrají: Marie Grov\, Viktor Skarpíšek\, Veronika Kratochvílová\, Štěpán Hudecký\, Adéla Kročáková Scéna a kostýmy: Jana Němečková Světelný design: Jindřich Hudeček Produkce: o.z. Artefakt \n  \nPředstavení není vhodné pro diváky do 15 let. \n\nTento tip na kulturní akci v Zbýšov najdete v přehledu na nasejiznimorava.cz kde na jednom místě shromažďujeme desítky dalších koncertů\, festivalů\, divadelních představení i komunitních událostí z celého regionu i z celé ČR. Přehled je přehledně řazený\, pravidelně aktualizovaný a umožní vám rychle najít přesně to\, co vás zajímá – od velkých open-air akcí až po menší lokální programy. Každý si tak snadno vybere podle svého vkusu i času. Pokud vás některá akce zaujme\, nezapomeňte si včas zajistit vstupenky; stačí kliknout na detail události a budete bezpečně přesměrováni na oficiálního prodejce vstupenek..
URL:https://nasejiznimorava.cz/event/my-deti-ze-stanice-zoo/
LOCATION:Kino Horník\, Zbýšov\, Kino Horník\, Zbýšov\, Česká republika
CATEGORIES:Divadlo
ATTACH;FMTTYPE=image/jpeg:https://nasejiznimorava.cz/wp-content/uploads/2025/12/320-704392354af24b689a4faf6c8d78163f.jpg
END:VEVENT
END:VCALENDAR