BEGIN:VCALENDAR
VERSION:2.0
PRODID:-// „Objev místa, kde se dobře pije, krásně spí a skvěle žije“  - ECPv6.15.20//NONSGML v1.0//EN
CALSCALE:GREGORIAN
METHOD:PUBLISH
X-WR-CALNAME: „Objev místa, kde se dobře pije, krásně spí a skvěle žije“ 
X-ORIGINAL-URL:https://nasejiznimorava.cz
X-WR-CALDESC:Akce na  „Objev místa, kde se dobře pije, krásně spí a skvěle žije“ 
REFRESH-INTERVAL;VALUE=DURATION:PT1H
X-Robots-Tag:noindex
X-PUBLISHED-TTL:PT1H
BEGIN:VTIMEZONE
TZID:Europe/Prague
BEGIN:DAYLIGHT
TZOFFSETFROM:+0100
TZOFFSETTO:+0200
TZNAME:CEST
DTSTART:20250330T010000
END:DAYLIGHT
BEGIN:STANDARD
TZOFFSETFROM:+0200
TZOFFSETTO:+0100
TZNAME:CET
DTSTART:20251026T010000
END:STANDARD
BEGIN:DAYLIGHT
TZOFFSETFROM:+0100
TZOFFSETTO:+0200
TZNAME:CEST
DTSTART:20260329T010000
END:DAYLIGHT
BEGIN:STANDARD
TZOFFSETFROM:+0200
TZOFFSETTO:+0100
TZNAME:CET
DTSTART:20261025T010000
END:STANDARD
BEGIN:DAYLIGHT
TZOFFSETFROM:+0100
TZOFFSETTO:+0200
TZNAME:CEST
DTSTART:20270328T010000
END:DAYLIGHT
BEGIN:STANDARD
TZOFFSETFROM:+0200
TZOFFSETTO:+0100
TZNAME:CET
DTSTART:20271031T010000
END:STANDARD
END:VTIMEZONE
BEGIN:VEVENT
DTSTART;TZID=Europe/Prague:20260209T190000
DTEND;TZID=Europe/Prague:20260209T220000
DTSTAMP:20260421T140842
CREATED:20251111T133705Z
LAST-MODIFIED:20251111T133706Z
UID:37276-1770663600-1770674400@nasejiznimorava.cz
SUMMARY:Na ocet
DESCRIPTION:Na ocet se uskuteční dne 2026-02-09 v 19:00 v Hulín\, Městské kulturní centrum – Sokolovna. \n🎟️ Koupit vstupenku \n\nMěstské kulturní centrum Hulín vás zve na divadelní představení Na ocet\, které se uskuteční 9. 2. 2026 od 19.00 v sále MKC Hulín (Sokolovna). \nSvižná komedie o dvou smolařích a nepřízni osudu\, ale s docela slibným koncem.Jana a Michal jsou dva životní smolaři\, kteří zůstali „na ocet.“ Michal je rozvedený neúspěšný obchodní zástupce\, otec Jonatana\, Jana je svobodná matka šestnáctileté dcery Lucie.Ač se děti na scéně nikdy neobjeví\, hrají v životě každého z nich důležitou roli. Změní láska jejich životy k lepšímu nebo jim je ještě více zamotá? \nÚčinkují: Jan Dolanský\, Lenka Vlasáková \nVstupenky v prodeji v IC Hulín nebo online na SMS Ticket. Cena vstupenky je 490 Kč. \nTěšíme se na vaši návštěvu. \n\nTento tip na kulturní akci v Hulín najdete v přehledu na nasejiznimorava.cz kde na jednom místě shromažďujeme desítky dalších koncertů\, festivalů\, divadelních představení i komunitních událostí z celého regionu i z celé ČR. Přehled je přehledně řazený\, pravidelně aktualizovaný a umožní vám rychle najít přesně to\, co vás zajímá – od velkých open-air akcí až po menší lokální programy. Každý si tak snadno vybere podle svého vkusu i času. Pokud vás některá akce zaujme\, nezapomeňte si včas zajistit vstupenky; stačí kliknout na detail události a budete bezpečně přesměrováni na oficiálního prodejce vstupenek..
URL:https://nasejiznimorava.cz/event/na-ocet-2/
LOCATION:Městské kulturní centrum – Sokolovna\, Hulín\, Městské kulturní centrum - Sokolovna\, Hulín\, Česká republika
CATEGORIES:Divadlo
ATTACH;FMTTYPE=image/jpeg:https://nasejiznimorava.cz/wp-content/uploads/2025/11/320-d5a62ca926354804b0195d570cfbfdc5.jpg
END:VEVENT
BEGIN:VEVENT
DTSTART;TZID=Europe/Prague:20260209T190000
DTEND;TZID=Europe/Prague:20260209T220000
DTSTAMP:20260421T140842
CREATED:20251211T055122Z
LAST-MODIFIED:20251211T055124Z
UID:39810-1770663600-1770674400@nasejiznimorava.cz
SUMMARY:Velké lásky v malém hotelu v Liberci
DESCRIPTION:Velké lásky v malém hotelu v Liberci se uskuteční dne 2026-02-09 v 19:00 v Liberec\, Dům Kultury. \n🎟️ Koupit vstupenku \n\nBláznivá komedie Raye Cooneyho vypráví o tom\, že ani člen vlády by si neměl něco začínat s vdanou sekretářkou. A pokud si vybere k záletům hotel\, kde je i jeho manželka a čínská obsluha mu moc nerozumí\, je to přímo katastrofa. To potom potřebuješ spolehlivého tajemníka\, který dokáže vyrobit takové alibi\, nad kterými zůstává rozum stát. Pokud se do toho připlete puritánská poslankyně a podváděný manžel\, je jasné\, že v hotelu vypukne peklo. \nHrají:Lukáš VaculíkMahulena Bočanová  /  Olga „Háta“ ŽelenskáAdéla Gondíková  /  Betka StankováJaroslav Slánský  /  Filip TomsaMarcel VašinkaIvana Andrlová  /  Pavla VojáčkováPavel Nečas  /  Roman ŠtolpaJuraj Bernáth  /  Martin SobotkaSandra Černodrinská  /  Kristýna Kociánová  /  Vítězslava Karolová \nAutor: Ray CooneyRežie: Roman ŠtolpaPřeklad: Břetislav HodekInscenace Divadelní společnosti Háta. \n\nTento tip na kulturní akci v Liberec najdete v přehledu na nasejiznimorava.cz kde na jednom místě shromažďujeme desítky dalších koncertů\, festivalů\, divadelních představení i komunitních událostí z celého regionu i z celé ČR. Přehled je přehledně řazený\, pravidelně aktualizovaný a umožní vám rychle najít přesně to\, co vás zajímá – od velkých open-air akcí až po menší lokální programy. Každý si tak snadno vybere podle svého vkusu i času. Pokud vás některá akce zaujme\, nezapomeňte si včas zajistit vstupenky; stačí kliknout na detail události a budete bezpečně přesměrováni na oficiálního prodejce vstupenek..
URL:https://nasejiznimorava.cz/event/velke-lasky-v-malem-hotelu-v-liberci/
LOCATION:Dům Kultury\, Liberec\, Dům Kultury\, Liberec\, Česká republika
CATEGORIES:Divadlo
ATTACH;FMTTYPE=image/jpeg:https://nasejiznimorava.cz/wp-content/uploads/2025/12/320-e598f844cc004937b35e16a94c7cb6bf.jpg
END:VEVENT
END:VCALENDAR