BEGIN:VCALENDAR
VERSION:2.0
PRODID:-// „Objev místa, kde se dobře pije, krásně spí a skvěle žije“  - ECPv6.15.20//NONSGML v1.0//EN
CALSCALE:GREGORIAN
METHOD:PUBLISH
X-ORIGINAL-URL:https://nasejiznimorava.cz
X-WR-CALDESC:Akce na  „Objev místa, kde se dobře pije, krásně spí a skvěle žije“ 
REFRESH-INTERVAL;VALUE=DURATION:PT1H
X-Robots-Tag:noindex
X-PUBLISHED-TTL:PT1H
BEGIN:VTIMEZONE
TZID:Europe/Prague
BEGIN:DAYLIGHT
TZOFFSETFROM:+0100
TZOFFSETTO:+0200
TZNAME:CEST
DTSTART:20250330T010000
END:DAYLIGHT
BEGIN:STANDARD
TZOFFSETFROM:+0200
TZOFFSETTO:+0100
TZNAME:CET
DTSTART:20251026T010000
END:STANDARD
BEGIN:DAYLIGHT
TZOFFSETFROM:+0100
TZOFFSETTO:+0200
TZNAME:CEST
DTSTART:20260329T010000
END:DAYLIGHT
BEGIN:STANDARD
TZOFFSETFROM:+0200
TZOFFSETTO:+0100
TZNAME:CET
DTSTART:20261025T010000
END:STANDARD
BEGIN:DAYLIGHT
TZOFFSETFROM:+0100
TZOFFSETTO:+0200
TZNAME:CEST
DTSTART:20270328T010000
END:DAYLIGHT
BEGIN:STANDARD
TZOFFSETFROM:+0200
TZOFFSETTO:+0100
TZNAME:CET
DTSTART:20271031T010000
END:STANDARD
END:VTIMEZONE
BEGIN:VEVENT
DTSTART;TZID=Europe/Prague:20260222T100000
DTEND;TZID=Europe/Prague:20260222T130000
DTSTAMP:20260421T141919
CREATED:20251214T071941Z
LAST-MODIFIED:20251214T071942Z
UID:40019-1771754400-1771765200@nasejiznimorava.cz
SUMMARY:KNIHA DŽUNGLÍ - Hlučín
DESCRIPTION:KNIHA DŽUNGLÍ – Hlučín se uskuteční dne 2026-02-22 v 10:00 v Hlučín\, Kulturní dům Hlučín. \n🎟️ Koupit vstupenku \n\nMuzikál KNIHA DŽUNGLÍ – největší rodinný zážitek roku 2026!  \nOd ledna 2026 přichází do 55 měst po celé České republice překvapení pro celou rodinu! Novinka od producentů rodinných muzikálů\, jako je Popelka\, Alenka v říši divů či Vánoční loupež. \nČeká vás příběh plný emocí\, hudby\, smíchu i napětí – a to přímo ve vašem městě! \nSeznámíte se s odvážným Mauglím\, moudrým vlčím vůdcem Akélou\, ušlechtilým a statečným panterem Baghírou\, rozverným medvědem Balúem\, jehož kostým je jediný svého druhu v Evropě! Velkolepý dojem zanechá také obrovský král opic – gorila Ludvík v unikátním kostýmu. \nObrovským lákadlem je jedinečný kostým Hada KAA\, jaký jste ještě nikdy neviděli! \nO napětí se postará nelítostný tygr Šerchán\, jeho komicko-zákeřný společník hyena Tabaki\, a atmosféru odlehčí i vtipný a upovídaný papoušek a další známá zvířata. \n Spolu s projekcemi a dechberoucími vizuálními efekty se ocitnete přímo uprostřed kouzelné džungle. \nDěti se stanou součástí představení – pomohou Mauglímu zahnat Šerchána nebo najít med pro medvěda Balů\,  a společně s herci dotvářet kouzelný příběh. \nInteraktivní část vás vtáhne do děje – zvířata z džungle se objeví nejen na jevišti\, ale i mezi dětmi v hledišti\, aby si každý mohl zažít pocit\, že je součástí příběhu. \nSpeciální bonus: Každé dítě dostane ke vstupence zvířecí masku dle vlastního výběru.A po představení čeká malé diváky jedinečná možnost vyfotit se přímo na jevišti s herci v kostýmech! \n  \n Tip na vánoční dárek!Darujte svým dětem a celé rodině nezapomenutelný zážitek – vstupenky na muzikál\, o kterém se bude mluvit ještě dlouho. \n\nToto není jen muzikál. Je to největší zážitek u vás doma\, ve vašem městě!\nkapacita je omezená.\nKupte si vstupenky v síti smsticket a buďte u muzikálové události roku 2026!\n\n\nTento tip na kulturní akci v Hlučín najdete v přehledu na nasejiznimorava.cz kde na jednom místě shromažďujeme desítky dalších koncertů\, festivalů\, divadelních představení i komunitních událostí z celého regionu i z celé ČR. Přehled je přehledně řazený\, pravidelně aktualizovaný a umožní vám rychle najít přesně to\, co vás zajímá – od velkých open-air akcí až po menší lokální programy. Každý si tak snadno vybere podle svého vkusu i času. Pokud vás některá akce zaujme\, nezapomeňte si včas zajistit vstupenky; stačí kliknout na detail události a budete bezpečně přesměrováni na oficiálního prodejce vstupenek..
URL:https://nasejiznimorava.cz/event/kniha-dzungli-hlucin/
LOCATION:Kulturní dům Hlučín\, Hlučín\, Kulturní dům Hlučín\, Hlučín\, Česká republika
CATEGORIES:Divadlo
ATTACH;FMTTYPE=image/jpeg:https://nasejiznimorava.cz/wp-content/uploads/2025/12/320-2f12c8a5b5154346983f181c44bdbfca.jpg
END:VEVENT
BEGIN:VEVENT
DTSTART;TZID=Europe/Prague:20260222T160000
DTEND;TZID=Europe/Prague:20260222T190000
DTSTAMP:20260421T141919
CREATED:20251111T134537Z
LAST-MODIFIED:20251111T134537Z
UID:37468-1771776000-1771786800@nasejiznimorava.cz
SUMMARY:Ufftenživot: Táta už nemůže
DESCRIPTION:Ufftenživot: Táta už nemůže se uskuteční dne 2026-02-22 v 16:00 v Jihlava\, DIOD. \n🎟️ Koupit vstupenku \n\nPohádka pro děti a jejich rodiče. O otci\, který během péče o děti přišel o nervy\, trpělivost\, humor i nadhled\, a tím tak ztratil sám sebe. O jeho dobrodružné cestě za hledáním sebe sama. \n\nTento tip na kulturní akci v Jihlava najdete v přehledu na nasejiznimorava.cz kde na jednom místě shromažďujeme desítky dalších koncertů\, festivalů\, divadelních představení i komunitních událostí z celého regionu i z celé ČR. Přehled je přehledně řazený\, pravidelně aktualizovaný a umožní vám rychle najít přesně to\, co vás zajímá – od velkých open-air akcí až po menší lokální programy. Každý si tak snadno vybere podle svého vkusu i času. Pokud vás některá akce zaujme\, nezapomeňte si včas zajistit vstupenky; stačí kliknout na detail události a budete bezpečně přesměrováni na oficiálního prodejce vstupenek..
URL:https://nasejiznimorava.cz/event/ufftenzivot-tata-uz-nemuze/
LOCATION:DIOD\, Jihlava\, DIOD\, Jihlava\, Česká republika
CATEGORIES:Divadlo
ATTACH;FMTTYPE=image/jpeg:https://nasejiznimorava.cz/wp-content/uploads/2025/11/320-1fc990688e9a4a52991a21aa33e56986.jpg
END:VEVENT
BEGIN:VEVENT
DTSTART;TZID=Europe/Prague:20260222T170000
DTEND;TZID=Europe/Prague:20260222T200000
DTSTAMP:20260421T141919
CREATED:20251214T071633Z
LAST-MODIFIED:20251214T071634Z
UID:39996-1771779600-1771790400@nasejiznimorava.cz
SUMMARY:KNIHA DŽUNGLÍ - Ostrava
DESCRIPTION:KNIHA DŽUNGLÍ – Ostrava se uskuteční dne 2026-02-22 v 17:00 v Ostrava\, Aula VŠB-TUO. \n🎟️ Koupit vstupenku \n\nMuzikál KNIHA DŽUNGLÍ – největší rodinný zážitek roku 2026! \nOd ledna 2026 přichází do 55 měst po celé České republice překvapení pro celou rodinu! Novinka od producentů rodinných muzikálů\, jako je Popelka\, Alenka v říši divů či Vánoční loupež. \nČeká vás příběh plný emocí\, hudby\, smíchu i napětí – a to přímo ve vašem městě! \nSeznámíte se s odvážným Mauglím\, moudrým vlčím vůdcem Akélou\, ušlechtilým a statečným panterem Baghírou\, rozverným medvědem Balúem\, jehož kostým je jediný svého druhu v Evropě! Velkolepý dojem zanechá také obrovský král opic – gorila Ludvík v unikátním kostýmu. \nObrovským lákadlem je jedinečný kostým Hada KAA\, jaký jste ještě nikdy neviděli! \nO napětí se postará nelítostný tygr Šerchán\, jeho komicko-zákeřný společník hyena Tabaki\, a atmosféru odlehčí i vtipný a upovídaný papoušek a další známá zvířata. \n Spolu s projekcemi a dechberoucími vizuálními efekty se ocitnete přímo uprostřed kouzelné džungle. \nDěti se stanou součástí představení – pomohou Mauglímu zahnat Šerchána nebo najít med pro medvěda Balů\,  a společně s herci dotvářet kouzelný příběh. \nInteraktivní část vás vtáhne do děje – zvířata z džungle se objeví nejen na jevišti\, ale i mezi dětmi v hledišti\, aby si každý mohl zažít pocit\, že je součástí příběhu. \nSpeciální bonus: Každé dítě dostane ke vstupence zvířecí masku dle vlastního výběru.A po představení čeká malé diváky jedinečná možnost vyfotit se přímo na jevišti s herci v kostýmech! \n  \nTip na vánoční dárek!Darujte svým dětem a celé rodině nezapomenutelný zážitek – vstupenky na muzikál\, o kterém se bude mluvit ještě dlouho. \nToto není jen muzikál. Je to největší zážitek u vás doma\, ve vašem městě! \nPředprodej vstupenek spuštěn právě teď – kapacita je omezená.Kupte si vstupenky v síti smsticket a buďte u muzikálové události roku 2026! \n\nTento tip na kulturní akci v Ostrava najdete v přehledu na nasejiznimorava.cz kde na jednom místě shromažďujeme desítky dalších koncertů\, festivalů\, divadelních představení i komunitních událostí z celého regionu i z celé ČR. Přehled je přehledně řazený\, pravidelně aktualizovaný a umožní vám rychle najít přesně to\, co vás zajímá – od velkých open-air akcí až po menší lokální programy. Každý si tak snadno vybere podle svého vkusu i času. Pokud vás některá akce zaujme\, nezapomeňte si včas zajistit vstupenky; stačí kliknout na detail události a budete bezpečně přesměrováni na oficiálního prodejce vstupenek..
URL:https://nasejiznimorava.cz/event/kniha-dzungli-ostrava/
LOCATION:Aula VŠB-TUO\, Ostrava\, Aula VŠB-TUO\, Ostrava\, Česká republika
CATEGORIES:Divadlo
ATTACH;FMTTYPE=image/jpeg:https://nasejiznimorava.cz/wp-content/uploads/2025/12/320-c287e060ce004c05b9ad157d3e278c2c.jpg
END:VEVENT
END:VCALENDAR