BEGIN:VCALENDAR
VERSION:2.0
PRODID:-// „Objev místa, kde se dobře pije, krásně spí a skvěle žije“  - ECPv6.15.20//NONSGML v1.0//EN
CALSCALE:GREGORIAN
METHOD:PUBLISH
X-ORIGINAL-URL:https://nasejiznimorava.cz
X-WR-CALDESC:Akce na  „Objev místa, kde se dobře pije, krásně spí a skvěle žije“ 
REFRESH-INTERVAL;VALUE=DURATION:PT1H
X-Robots-Tag:noindex
X-PUBLISHED-TTL:PT1H
BEGIN:VTIMEZONE
TZID:Europe/Prague
BEGIN:DAYLIGHT
TZOFFSETFROM:+0100
TZOFFSETTO:+0200
TZNAME:CEST
DTSTART:20250330T010000
END:DAYLIGHT
BEGIN:STANDARD
TZOFFSETFROM:+0200
TZOFFSETTO:+0100
TZNAME:CET
DTSTART:20251026T010000
END:STANDARD
BEGIN:DAYLIGHT
TZOFFSETFROM:+0100
TZOFFSETTO:+0200
TZNAME:CEST
DTSTART:20260329T010000
END:DAYLIGHT
BEGIN:STANDARD
TZOFFSETFROM:+0200
TZOFFSETTO:+0100
TZNAME:CET
DTSTART:20261025T010000
END:STANDARD
BEGIN:DAYLIGHT
TZOFFSETFROM:+0100
TZOFFSETTO:+0200
TZNAME:CEST
DTSTART:20270328T010000
END:DAYLIGHT
BEGIN:STANDARD
TZOFFSETFROM:+0200
TZOFFSETTO:+0100
TZNAME:CET
DTSTART:20271031T010000
END:STANDARD
END:VTIMEZONE
BEGIN:VEVENT
DTSTART;TZID=Europe/Prague:20260226T190000
DTEND;TZID=Europe/Prague:20260226T220000
DTSTAMP:20260421T124721
CREATED:20260211T100312Z
LAST-MODIFIED:20260211T100315Z
UID:42157-1772132400-1772143200@nasejiznimorava.cz
SUMMARY:Slyšíš to taky?
DESCRIPTION:Slyšíš to taky? se uskuteční dne 2026-02-26 v 19:00 v Valašské Meziříčí\, Sokolovna. \n🎟️ Koupit vstupenku \n\nZměna termínu: Pozor\, akce je přesunuta z 25.2.2026 na 26.2. 2026 !!! \nSLYŠÍŠ TO TAKY?  \nO HŘE… \nMalý zapadlý hotýlek je místo přímo stvořené pro všelijaká milostnádobrodružství. Za jedním takovým sem přijíždí i Adam\, který miluje ženy\, aženy milují jeho. Osud ho ale nakonec zavede do pokoje vztahové koučky Evy\, která rozhodně nestojí o nezvané návštěvy\, a už vůbec ne v podobě záletníka odvedle. \nProč Eva přijela sama? A proč má ucho neustále přilepené na stěněsousedního pokoje? Na to vám odpoví lechtivá komedie „Slyšíš to taky?“\, v níž nic není tak\, jak se na první pohled zdá\, a kde jedno překvapení střídá druhé. \nTato nová česká divadelní komedie byla napsána na tělo vašim oblíbenýmhercům Milušce Bittnerové a Miroslavu Šimůnkovi. \nHrají : \n\nMiluše Bittnerová\nMiroslav Šimůnek\n\nAutoři: Roman Vencl a Jan ŤoupalíkRežie: Roman MeluzínProducent: Petr Mácha \n\nTento tip na kulturní akci v Valašské Meziříčí najdete v přehledu na nasejiznimorava.cz kde na jednom místě shromažďujeme desítky dalších koncertů\, festivalů\, divadelních představení i komunitních událostí z celého regionu i z celé ČR. Přehled je přehledně řazený\, pravidelně aktualizovaný a umožní vám rychle najít přesně to\, co vás zajímá – od velkých open-air akcí až po menší lokální programy. Každý si tak snadno vybere podle svého vkusu i času. Pokud vás některá akce zaujme\, nezapomeňte si včas zajistit vstupenky; stačí kliknout na detail události a budete bezpečně přesměrováni na oficiálního prodejce vstupenek..
URL:https://nasejiznimorava.cz/event/slysis-to-taky-2/
LOCATION:Sokolovna\, Valašské Meziříčí\, Sokolovna\, Valašské Meziříčí\, Česká republika
CATEGORIES:Divadlo
ATTACH;FMTTYPE=image/jpeg:https://nasejiznimorava.cz/wp-content/uploads/2026/02/320-f6ad813e45f94eb3bc16687ac565ef66.jpg
END:VEVENT
END:VCALENDAR