BEGIN:VCALENDAR
VERSION:2.0
PRODID:-// „Objev místa, kde se dobře pije, krásně spí a skvěle žije“  - ECPv6.15.20//NONSGML v1.0//EN
CALSCALE:GREGORIAN
METHOD:PUBLISH
X-ORIGINAL-URL:https://nasejiznimorava.cz
X-WR-CALDESC:Akce na  „Objev místa, kde se dobře pije, krásně spí a skvěle žije“ 
REFRESH-INTERVAL;VALUE=DURATION:PT1H
X-Robots-Tag:noindex
X-PUBLISHED-TTL:PT1H
BEGIN:VTIMEZONE
TZID:Europe/Prague
BEGIN:DAYLIGHT
TZOFFSETFROM:+0100
TZOFFSETTO:+0200
TZNAME:CEST
DTSTART:20250330T010000
END:DAYLIGHT
BEGIN:STANDARD
TZOFFSETFROM:+0200
TZOFFSETTO:+0100
TZNAME:CET
DTSTART:20251026T010000
END:STANDARD
BEGIN:DAYLIGHT
TZOFFSETFROM:+0100
TZOFFSETTO:+0200
TZNAME:CEST
DTSTART:20260329T010000
END:DAYLIGHT
BEGIN:STANDARD
TZOFFSETFROM:+0200
TZOFFSETTO:+0100
TZNAME:CET
DTSTART:20261025T010000
END:STANDARD
BEGIN:DAYLIGHT
TZOFFSETFROM:+0100
TZOFFSETTO:+0200
TZNAME:CEST
DTSTART:20270328T010000
END:DAYLIGHT
BEGIN:STANDARD
TZOFFSETFROM:+0200
TZOFFSETTO:+0100
TZNAME:CET
DTSTART:20271031T010000
END:STANDARD
END:VTIMEZONE
BEGIN:VEVENT
DTSTART;TZID=Europe/Prague:20260227T190000
DTEND;TZID=Europe/Prague:20260227T220000
DTSTAMP:20260421T124721
CREATED:20251222T155553Z
LAST-MODIFIED:20251222T155554Z
UID:40860-1772218800-1772229600@nasejiznimorava.cz
SUMMARY:TECHTLE MECHTLE revue - Hostinec u Maruny
DESCRIPTION:TECHTLE MECHTLE revue – Hostinec u Maruny se uskuteční dne 2026-02-27 v 19:00 v Oslavany\, Dělnický dům. \n🎟️ Koupit vstupenku \n\nRázná hospodská Maruna\, která má nejen celý svůj hostinec\, ale také všechny svoje štamgasty pod palcem a k tomu příběhy\, které píše sám život. Co všechno se dá zažít v jedné vesnické hospůdce během přípravy hasičského plesu\, to uvidíte právě v české hudební komedii „Hostinec u Maruny“. Chybět nebude pořádná dávka českého humoru\, láska\, hospodská rvačka a pivo poteče jak jinak než proudem. Samozřejmě zazní během večera české hospodské písničky\, které si budete broukat ještě na cestě domů a i celý druhý den… \nMá to jen jeden háček – všechny role\, a to včetně těch dámských\, tu hrají pouze muži a ti jsou navíc k nerozeznání od skutečných žen\, což vám pěkně zamotá hlavu. Pánové Lukáš\, Martin\, Nikolas a Jarek společně s tanečníky Štěpánem\, Sayem a Danem pro Vás tentokrát připravili další bláznivou komedii z prostředí české vesnické hospody. \n\nTento tip na kulturní akci v Oslavany najdete v přehledu na nasejiznimorava.cz kde na jednom místě shromažďujeme desítky dalších koncertů\, festivalů\, divadelních představení i komunitních událostí z celého regionu i z celé ČR. Přehled je přehledně řazený\, pravidelně aktualizovaný a umožní vám rychle najít přesně to\, co vás zajímá – od velkých open-air akcí až po menší lokální programy. Každý si tak snadno vybere podle svého vkusu i času. Pokud vás některá akce zaujme\, nezapomeňte si včas zajistit vstupenky; stačí kliknout na detail události a budete bezpečně přesměrováni na oficiálního prodejce vstupenek..
URL:https://nasejiznimorava.cz/event/techtle-mechtle-revue-hostinec-u-maruny/
LOCATION:Dělnický dům\, Oslavany\, Dělnický dům\, Oslavany\, Česká republika
CATEGORIES:Divadlo
ATTACH;FMTTYPE=image/jpeg:https://nasejiznimorava.cz/wp-content/uploads/2025/12/320-a26c54141dfb4b469f68f30695d1272a.jpg
END:VEVENT
BEGIN:VEVENT
DTSTART;TZID=Europe/Prague:20260227T190000
DTEND;TZID=Europe/Prague:20260227T220000
DTSTAMP:20260421T124721
CREATED:20260121T194019Z
LAST-MODIFIED:20260121T194027Z
UID:41873-1772218800-1772229600@nasejiznimorava.cz
SUMMARY:Muzikál ADÉLA JEŠTĚ NEVEČEŘELA
DESCRIPTION:Muzikál ADÉLA JEŠTĚ NEVEČEŘELA se uskuteční dne 2026-02-27 v 19:00 v Horní Bečva\, Obecní dům. \n🎟️ Koupit vstupenku \n\nNick Carter\, slavný americký detektiv\, vyzbrojený nejnovějšími pátracími pomůckami a zdravým sebevědomím\, který je vždy ve střehu\, přijíždí do malebné Prahy\, aby vyřešil záhadné zmizení v rodině hraběnky Thunové. Za doprovodu komisaře Ledviny poznává krásy okolí\, točené pivo\, klobásky\, olomoucké syrečky a fackovací kulturu. Společně přichází na stopu nejzáhadnějšímu zločinci 20. století\, přezdívanému Zahradník a vyřeší tak případ masožravé rostliny Adély.  \nFilmová komedie Adéla ještě nevečeřela režiséra Oldřicha Lipského a scénáristy Jiřího Brdečky z roku 1978 natočená jako parodie na laciné sešitové detektivky získala nejen obrovský ohlas a oblibu tuzemského publika\, ale i řadu mezinárodních cen a uznání.  \nV roce 2008 napsali Radek Balaš a Ondřej Brousek divadelní muzikálovou verzi tohoto oblíbeného filmu\, která byla od té doby úspěšně uvedena v mnoha českých divadlech \nDivadlo Bodlák velmi děkuje autorovi hudby panu Ondřeji Brouskovi za poskytnutí hudebních podkladů pro nastudování této muzikálové komedie a tím za nezištnou pomoc a podporu spolku. Představení má dvě části. Po první části následuje přestávka. \n\nTento tip na kulturní akci v Horní Bečva najdete v přehledu na nasejiznimorava.cz kde na jednom místě shromažďujeme desítky dalších koncertů\, festivalů\, divadelních představení i komunitních událostí z celého regionu i z celé ČR. Přehled je přehledně řazený\, pravidelně aktualizovaný a umožní vám rychle najít přesně to\, co vás zajímá – od velkých open-air akcí až po menší lokální programy. Každý si tak snadno vybere podle svého vkusu i času. Pokud vás některá akce zaujme\, nezapomeňte si včas zajistit vstupenky; stačí kliknout na detail události a budete bezpečně přesměrováni na oficiálního prodejce vstupenek..
URL:https://nasejiznimorava.cz/event/muzikal-adela-jeste-nevecerela/
LOCATION:Obecní dům\, Horní Bečva\, Obecní dům\, Horní Bečva\, Česká republika
CATEGORIES:Divadlo
ATTACH;FMTTYPE=image/jpeg:https://nasejiznimorava.cz/wp-content/uploads/2026/01/320-b55cc030e10f4a73bf85f4aab0f61a96.jpg
END:VEVENT
BEGIN:VEVENT
DTSTART;TZID=Europe/Prague:20260227T200000
DTEND;TZID=Europe/Prague:20260227T230000
DTSTAMP:20260421T124721
CREATED:20260105T203453Z
LAST-MODIFIED:20260105T203455Z
UID:41294-1772222400-1772233200@nasejiznimorava.cz
SUMMARY:Divadlo VIZITA Jaroslava Duška
DESCRIPTION:Divadlo VIZITA Jaroslava Duška se uskuteční dne 2026-02-27 v 20:00 v Konstantinovy Lázně\, Kulturní dům. \n🎟️ Koupit vstupenku \n\nImprovizované divadlo Jaroslava Duška uvádí: \nVIZITA – Konstantinovy bázně \nZapomeňte na scénář. Zapomeňte na jistoty.A připravte se na večer\, kdy se všechno může stát – a taky stane!Na scéně se zjeví Jaroslav Dušek se svými věrnými kumpány – Pjérem la Šé’zem\, Zdeňkem Konopáskem a Viktorem Zborníkem – a společně roztočí kolotoč čiré improvizace\, kde se místo lístků platí smíchem\, údivem a kapkou zdravého šílenství. \nDivadlo Vizita existuje už od roku 1981 – tedy déle než většina internetů – a přesto (nebo právě proto) nikdy nehrálo totéž dvakrát. Každý večer je originál\, premiéra\, spontánní výbuch tvořivosti\, který vzniká přímo před očima diváků.Jak říká sám Jaroslav Dušek:„Názvy vymýšlíme jen proto\, aby bylo co napsat do programu a lidi věděli\, že nehrajeme pořád to samé.“ \nA že nehrají! Během večera můžete spatřit Jaroslava\, jak se promění v ježka filozofa\, rozhněvaný topinambur nebo fraktál vesmíru v lidské podobě – a možná se v něm poznáte. Pjér rozvine hudební motiv\, který zní jako rozhovor mezi andělem a tramvají\, a Zdeněk s Viktorem k tomu přidají rytmus\, který by probudil i sochu sv. Konstantina. \nKonstantinovy bázně Název sám napovídá\, že půjde o večer plný kouzelných podivností\, smíchu i existenciálních otázek\, které si položíte jen tehdy\, když se opravdu bavíte.Možná zjistíte\, že bázeň je krásná věc – zvlášť když se jí smějete s ostatními. \nTady prostě nesmíte chybět! Přijďte se nechat vtáhnout do světa\, kde logika má volno a fantazie jede na plný plyn.Protože až se vás někdo zeptá\, co jste dělali ten večer\, budete moct říct: \n„Byl(a) jsem u toho\, když se zrodil okamžik – a Dušek mu dal jméno.“ \n\nTento tip na kulturní akci v Konstantinovy Lázně najdete v přehledu na nasejiznimorava.cz kde na jednom místě shromažďujeme desítky dalších koncertů\, festivalů\, divadelních představení i komunitních událostí z celého regionu i z celé ČR. Přehled je přehledně řazený\, pravidelně aktualizovaný a umožní vám rychle najít přesně to\, co vás zajímá – od velkých open-air akcí až po menší lokální programy. Každý si tak snadno vybere podle svého vkusu i času. Pokud vás některá akce zaujme\, nezapomeňte si včas zajistit vstupenky; stačí kliknout na detail události a budete bezpečně přesměrováni na oficiálního prodejce vstupenek..
URL:https://nasejiznimorava.cz/event/divadlo-vizita-jaroslava-duska/
LOCATION:Kulturní dům\, Konstantinovy Lázně\, Kulturní dům\, Konstantinovy Lázně\, Česká republika
CATEGORIES:Divadlo
ATTACH;FMTTYPE=image/jpeg:https://nasejiznimorava.cz/wp-content/uploads/2026/01/320-9b693f7ecb854f96891cb8ff2618f4fb.jpg
END:VEVENT
END:VCALENDAR