BEGIN:VCALENDAR
VERSION:2.0
PRODID:-// „Objev místa, kde se dobře pije, krásně spí a skvěle žije“  - ECPv6.15.20//NONSGML v1.0//EN
CALSCALE:GREGORIAN
METHOD:PUBLISH
X-ORIGINAL-URL:https://nasejiznimorava.cz
X-WR-CALDESC:Akce na  „Objev místa, kde se dobře pije, krásně spí a skvěle žije“ 
REFRESH-INTERVAL;VALUE=DURATION:PT1H
X-Robots-Tag:noindex
X-PUBLISHED-TTL:PT1H
BEGIN:VTIMEZONE
TZID:Europe/Prague
BEGIN:DAYLIGHT
TZOFFSETFROM:+0100
TZOFFSETTO:+0200
TZNAME:CEST
DTSTART:20250330T010000
END:DAYLIGHT
BEGIN:STANDARD
TZOFFSETFROM:+0200
TZOFFSETTO:+0100
TZNAME:CET
DTSTART:20251026T010000
END:STANDARD
BEGIN:DAYLIGHT
TZOFFSETFROM:+0100
TZOFFSETTO:+0200
TZNAME:CEST
DTSTART:20260329T010000
END:DAYLIGHT
BEGIN:STANDARD
TZOFFSETFROM:+0200
TZOFFSETTO:+0100
TZNAME:CET
DTSTART:20261025T010000
END:STANDARD
BEGIN:DAYLIGHT
TZOFFSETFROM:+0100
TZOFFSETTO:+0200
TZNAME:CEST
DTSTART:20270328T010000
END:DAYLIGHT
BEGIN:STANDARD
TZOFFSETFROM:+0200
TZOFFSETTO:+0100
TZNAME:CET
DTSTART:20271031T010000
END:STANDARD
END:VTIMEZONE
BEGIN:VEVENT
DTSTART;TZID=Europe/Prague:20260308T170000
DTEND;TZID=Europe/Prague:20260308T200000
DTSTAMP:20260421T124743
CREATED:20251212T064453Z
LAST-MODIFIED:20251212T064453Z
UID:39945-1772989200-1773000000@nasejiznimorava.cz
SUMMARY:KNIHA DŽUNGLÍ I Blansko
DESCRIPTION:KNIHA DŽUNGLÍ I Blansko se uskuteční dne 2026-03-08 v 17:00 v Blansko\, Dělnický dům. \n🎟️ Koupit vstupenku \n\nMuzikál KNIHA DŽUNGLÍ – největší rodinný zážitek roku 2026!  \nOd ledna 2026 přichází do 55 měst po celé České republice překvapení pro celou rodinu! Novinka od producentů rodinných muzikálů\, jako je Popelka\, Alenka v říši divů či Vánoční loupež. \nČeká vás příběh plný emocí\, hudby\, smíchu i napětí – a to přímo ve vašem městě! \nSeznámíte se s odvážným Mauglím\, moudrým vlčím vůdcem Akélou\, ušlechtilým a statečným panterem Baghírou\, rozverným medvědem Balúem\, jehož kostým je jediný svého druhu v Evropě! Velkolepý dojem zanechá také obrovský král opic – gorila Ludvík v unikátním kostýmu. \nObrovským lákadlem je jedinečný kostým Hada KAA\, jaký jste ještě nikdy neviděli! \nO napětí se postará nelítostný tygr Šerchán\, jeho komicko-zákeřný společník hyena Tabaki\, a atmosféru odlehčí i vtipný a upovídaný papoušek a další známá zvířata. \n Spolu s projekcemi a dechberoucími vizuálními efekty se ocitnete přímo uprostřed kouzelné džungle. \nDěti se stanou součástí představení – pomohou Mauglímu zahnat Šerchána nebo najít med pro medvěda Balů\,  a společně s herci dotvářet kouzelný příběh. \nInteraktivní část vás vtáhne do děje – zvířata z džungle se objeví nejen na jevišti\, ale i mezi dětmi v hledišti\, aby si každý mohl zažít pocit\, že je součástí příběhu. \nSpeciální bonus: Každé dítě dostane ke vstupence zvířecí masku dle vlastního výběru.A po představení čeká malé diváky jedinečná možnost vyfotit se přímo na jevišti s herci v kostýmech! \n  \n Tip na vánoční dárek!Darujte svým dětem a celé rodině nezapomenutelný zážitek – vstupenky na muzikál\, o kterém se bude mluvit ještě dlouho. \n\nToto není jen muzikál. Je to největší zážitek u vás doma\, ve vašem městě!\nkapacita je omezená.\nKupte si vstupenky v síti smsticket a buďte u muzikálové události roku 2026!\n\n\nTento tip na kulturní akci v Blansko najdete v přehledu na nasejiznimorava.cz kde na jednom místě shromažďujeme desítky dalších koncertů\, festivalů\, divadelních představení i komunitních událostí z celého regionu i z celé ČR. Přehled je přehledně řazený\, pravidelně aktualizovaný a umožní vám rychle najít přesně to\, co vás zajímá – od velkých open-air akcí až po menší lokální programy. Každý si tak snadno vybere podle svého vkusu i času. Pokud vás některá akce zaujme\, nezapomeňte si včas zajistit vstupenky; stačí kliknout na detail události a budete bezpečně přesměrováni na oficiálního prodejce vstupenek..
URL:https://nasejiznimorava.cz/event/kniha-dzungli-i-blansko/
LOCATION:Dělnický dům\, Blansko\, Dělnický dům\, Blansko\, Česká republika
CATEGORIES:Divadlo
ATTACH;FMTTYPE=image/jpeg:https://nasejiznimorava.cz/wp-content/uploads/2025/12/320-2015c0e3eaee425bb4ac0fd14cdb46aa.jpg
END:VEVENT
BEGIN:VEVENT
DTSTART;TZID=Europe/Prague:20260308T180000
DTEND;TZID=Europe/Prague:20260308T210000
DTSTAMP:20260421T124743
CREATED:20251111T123337Z
LAST-MODIFIED:20251111T123337Z
UID:35930-1772992800-1773003600@nasejiznimorava.cz
SUMMARY:Techtle Mechtle - Hostinec u Maruny
DESCRIPTION:Techtle Mechtle – Hostinec u Maruny se uskuteční dne 2026-03-08 v 18:00 v Fryšták\, KD Fryšták. \n🎟️ Koupit vstupenku \n\nNejvětší česká travesti show Techtle Mechtle přiváží novou divadelní komedii HOSTINEC U MARUNY  \nTechtle Mechtle revue je v současné době nejúspěšnější česká show na poli divadelní scény. V podání Techtle Mechtle se vždy jedná o propracované divadelní představení s výpravnou scénou a více jak 80-ti kostýmy. Všechna představení jsou jednou velkou komedií\, a to od začátku až do konce.Má to jen jeden háček – všechny role\, a to včetně těch dámských\, tu hrají pouze muži a ti jsou navíc k nerozeznání od skutečných žen. Pánové Lukáš\, Martin\, Nikolas a Jarek společně s tanečníky Štěpánem\, Sayem a Danem pro Vás tentokrát připravili další bláznivou komedii z prostředí české vesnické hospody.Rázná hospodská Maruna\, která má nejen celý svůj hostinec\, ale také všechny svoje štamgasty pod palcem a k tomu příběhy\, které píše sám život. Co všechno se dá zažít v jedné vesnické hospůdce během přípravy hasičského plesu\, to uvidíte právě v české hudební komedii „Hostinec u Maruny“. Chybět nebude pořádná dávka českého humoru\, láska\, hospodská rvačka a pivo poteče jak jinak než proudem. Samozřejmě zazní během večera české hospodské písničky\, které si budete broukat ještě na cestě domů a i celý druhý den…Všechna představení jsou vlastní autorskou tvorbou pánů z Techtle Mechtle revue\, a to od scénáře\, přes dialogy\, hudbu\, návrhy scény i kostýmů. Nenechte si ujít strhující hudební představení v podání nejúspěšnějších českých travesti umělců a jejich tanečníků. \n\nTento tip na kulturní akci v Fryšták najdete v přehledu na nasejiznimorava.cz kde na jednom místě shromažďujeme desítky dalších koncertů\, festivalů\, divadelních představení i komunitních událostí z celého regionu i z celé ČR. Přehled je přehledně řazený\, pravidelně aktualizovaný a umožní vám rychle najít přesně to\, co vás zajímá – od velkých open-air akcí až po menší lokální programy. Každý si tak snadno vybere podle svého vkusu i času. Pokud vás některá akce zaujme\, nezapomeňte si včas zajistit vstupenky; stačí kliknout na detail události a budete bezpečně přesměrováni na oficiálního prodejce vstupenek..
URL:https://nasejiznimorava.cz/event/techtle-mechtle-hostinec-u-maruny/
LOCATION:KD Fryšták\, Fryšták\, KD Fryšták\, Fryšták\, Česká republika
CATEGORIES:Divadlo
ATTACH;FMTTYPE=image/jpeg:https://nasejiznimorava.cz/wp-content/uploads/2025/11/320-bf9eb4ba77b5453d8c24b2331aae9c40.jpg
END:VEVENT
BEGIN:VEVENT
DTSTART;TZID=Europe/Prague:20260308T190000
DTEND;TZID=Europe/Prague:20260308T220000
DTSTAMP:20260421T124743
CREATED:20251129T073002Z
LAST-MODIFIED:20251129T073002Z
UID:39465-1772996400-1773007200@nasejiznimorava.cz
SUMMARY:Sladké plody reality
DESCRIPTION:Sladké plody reality  se uskuteční dne 2026-03-08 v 19:00 v Nové Město na Moravě\, Kulturák NMnM. \n🎟️ Koupit vstupenku \n\n„Když už si v lásce nevíme rady\, vyměníme si partnery“ \nHořká situační komedie Strašnického divadla Praha – ADVERTE . \nKdyž už si v lásce nevíme rady\, vyměníme si partnery. Tato experimentální hra vypadá zpočátku jako situace z nějaké laciné reality show\, nakonec se z toho ovšem vyklube zajímavá sonda do problematiky partnerských vztahů současné mladé generace\, zabalená do místy až bláznivé komedie. Musíme si opravdu vyměňovat své partnery\, abychom se ubezpečili\, jestli jsme si vybrali správně? Je možné\, abychom žili dva partnerské životy\, kdy jeden slouží rodinnému štěstí a druhý milostným potřebám? Celoživotní přátelé snad mezi sebou takové otázky unesou. Ale co Vy? Vyzkoušíte si to také? Hořká situační komedie oblíbeného současného rakouského dramatika Stephana Vógela \nHraji : Jaromír Nosek\, Monika Zoubková\, Michal Slaný/Radomír Švec a Kristýna Kudrnáčová \nDélka představení 100 min včetně přestávky. \n\nTento tip na kulturní akci v Nové Město na Moravě najdete v přehledu na nasejiznimorava.cz kde na jednom místě shromažďujeme desítky dalších koncertů\, festivalů\, divadelních představení i komunitních událostí z celého regionu i z celé ČR. Přehled je přehledně řazený\, pravidelně aktualizovaný a umožní vám rychle najít přesně to\, co vás zajímá – od velkých open-air akcí až po menší lokální programy. Každý si tak snadno vybere podle svého vkusu i času. Pokud vás některá akce zaujme\, nezapomeňte si včas zajistit vstupenky; stačí kliknout na detail události a budete bezpečně přesměrováni na oficiálního prodejce vstupenek..
URL:https://nasejiznimorava.cz/event/sladke-plody-reality/
LOCATION:Kulturák NMnM\, Nové Město na Moravě\, Kulturák NMnM\, Nové Město na Moravě\, Česká republika
CATEGORIES:Divadlo
ATTACH;FMTTYPE=image/jpeg:https://nasejiznimorava.cz/wp-content/uploads/2025/11/320-bd91040bb3874b25ad975594d6d4c0f8.jpg
END:VEVENT
END:VCALENDAR