BEGIN:VCALENDAR
VERSION:2.0
PRODID:-// „Objev místa, kde se dobře pije, krásně spí a skvěle žije“  - ECPv6.15.20//NONSGML v1.0//EN
CALSCALE:GREGORIAN
METHOD:PUBLISH
X-WR-CALNAME: „Objev místa, kde se dobře pije, krásně spí a skvěle žije“ 
X-ORIGINAL-URL:https://nasejiznimorava.cz
X-WR-CALDESC:Akce na  „Objev místa, kde se dobře pije, krásně spí a skvěle žije“ 
REFRESH-INTERVAL;VALUE=DURATION:PT1H
X-Robots-Tag:noindex
X-PUBLISHED-TTL:PT1H
BEGIN:VTIMEZONE
TZID:Europe/Prague
BEGIN:DAYLIGHT
TZOFFSETFROM:+0100
TZOFFSETTO:+0200
TZNAME:CEST
DTSTART:20250330T010000
END:DAYLIGHT
BEGIN:STANDARD
TZOFFSETFROM:+0200
TZOFFSETTO:+0100
TZNAME:CET
DTSTART:20251026T010000
END:STANDARD
BEGIN:DAYLIGHT
TZOFFSETFROM:+0100
TZOFFSETTO:+0200
TZNAME:CEST
DTSTART:20260329T010000
END:DAYLIGHT
BEGIN:STANDARD
TZOFFSETFROM:+0200
TZOFFSETTO:+0100
TZNAME:CET
DTSTART:20261025T010000
END:STANDARD
BEGIN:DAYLIGHT
TZOFFSETFROM:+0100
TZOFFSETTO:+0200
TZNAME:CEST
DTSTART:20270328T010000
END:DAYLIGHT
BEGIN:STANDARD
TZOFFSETFROM:+0200
TZOFFSETTO:+0100
TZNAME:CET
DTSTART:20271031T010000
END:STANDARD
END:VTIMEZONE
BEGIN:VEVENT
DTSTART;TZID=Europe/Prague:20260311T190000
DTEND;TZID=Europe/Prague:20260311T220000
DTSTAMP:20260421T124629
CREATED:20260121T194102Z
LAST-MODIFIED:20260121T194110Z
UID:41889-1773255600-1773266400@nasejiznimorava.cz
SUMMARY:Divadlo Verze – Lež aneb komedie o pravdě
DESCRIPTION:Divadlo Verze – Lež aneb komedie o pravdě se uskuteční dne 2026-03-11 v 19:00 v Moravský Krumlov\, Kulturní a kreativní centrum. \n🎟️ Koupit vstupenku \n\nDivadlo Verze – Lež aneb komedie o pravdě \nKomedie o tom do jak komplikovaných situací vás může zavézt lež. Jak je těžké poznat\, kdo je vlastně lhářem a jestli nakonec není lež milosrdnější než pravda.  \nAlice a Paul jsou poměrně šťastný a spokojený manželský pár. Jednoho dne čekají hosty k večeři – své dlouholeté přátele Laurence a Michela\, kteří také žijí v harmonickém manželství. Alice je ale celá nesvá a žádá po manželovi\, aby večeři na poslední chvíli odvolal. Ten a chce znát důvod\, proč? Ona mu pravý důvod nechce říct: toho dne dopoledne zahlédla ve městě Michela\, jak se líbá s cizí ženou. Jejich hosté jsou už ale za dveřmi a návštěvu není možné zrušit… \nRežie: Thomas Zielinsky \nHrají: Petra špalková\, Petr Lněnička\, Eva Kodešová/Gabriela Mikulková\, Igor Chmela. \nDélka představení: 1 hod 40 minut bez přestávky \n  \n\nTento tip na kulturní akci v Moravský Krumlov najdete v přehledu na nasejiznimorava.cz kde na jednom místě shromažďujeme desítky dalších koncertů\, festivalů\, divadelních představení i komunitních událostí z celého regionu i z celé ČR. Přehled je přehledně řazený\, pravidelně aktualizovaný a umožní vám rychle najít přesně to\, co vás zajímá – od velkých open-air akcí až po menší lokální programy. Každý si tak snadno vybere podle svého vkusu i času. Pokud vás některá akce zaujme\, nezapomeňte si včas zajistit vstupenky; stačí kliknout na detail události a budete bezpečně přesměrováni na oficiálního prodejce vstupenek..
URL:https://nasejiznimorava.cz/event/divadlo-verze-lez-aneb-komedie-o-pravde/
LOCATION:Kulturní a kreativní centrum\, Moravský Krumlov\, Kulturní a kreativní centrum\, Moravský Krumlov\, Česká republika
CATEGORIES:Divadlo
ATTACH;FMTTYPE=image/jpeg:https://nasejiznimorava.cz/wp-content/uploads/2026/01/320-677692bb721a434fa27b2ff203a92098.jpg
END:VEVENT
END:VCALENDAR