BEGIN:VCALENDAR
VERSION:2.0
PRODID:-// „Objev místa, kde se dobře pije, krásně spí a skvěle žije“  - ECPv6.15.20//NONSGML v1.0//EN
CALSCALE:GREGORIAN
METHOD:PUBLISH
X-ORIGINAL-URL:https://nasejiznimorava.cz
X-WR-CALDESC:Akce na  „Objev místa, kde se dobře pije, krásně spí a skvěle žije“ 
REFRESH-INTERVAL;VALUE=DURATION:PT1H
X-Robots-Tag:noindex
X-PUBLISHED-TTL:PT1H
BEGIN:VTIMEZONE
TZID:Europe/Prague
BEGIN:DAYLIGHT
TZOFFSETFROM:+0100
TZOFFSETTO:+0200
TZNAME:CEST
DTSTART:20250330T010000
END:DAYLIGHT
BEGIN:STANDARD
TZOFFSETFROM:+0200
TZOFFSETTO:+0100
TZNAME:CET
DTSTART:20251026T010000
END:STANDARD
BEGIN:DAYLIGHT
TZOFFSETFROM:+0100
TZOFFSETTO:+0200
TZNAME:CEST
DTSTART:20260329T010000
END:DAYLIGHT
BEGIN:STANDARD
TZOFFSETFROM:+0200
TZOFFSETTO:+0100
TZNAME:CET
DTSTART:20261025T010000
END:STANDARD
BEGIN:DAYLIGHT
TZOFFSETFROM:+0100
TZOFFSETTO:+0200
TZNAME:CEST
DTSTART:20270328T010000
END:DAYLIGHT
BEGIN:STANDARD
TZOFFSETFROM:+0200
TZOFFSETTO:+0100
TZNAME:CET
DTSTART:20271031T010000
END:STANDARD
END:VTIMEZONE
BEGIN:VEVENT
DTSTART;TZID=Europe/Prague:20260313T180000
DTEND;TZID=Europe/Prague:20260313T210000
DTSTAMP:20260421T124849
CREATED:20260104T072408Z
LAST-MODIFIED:20260104T072409Z
UID:41280-1773424800-1773435600@nasejiznimorava.cz
SUMMARY:Fetish Burlesque Cabaret vol. 7
DESCRIPTION:Fetish Burlesque Cabaret vol. 7 se uskuteční dne 2026-03-13 v 18:00 v Praha\, Klub Kotelna. \n🎟️ Koupit vstupenku \n\nPřipravte se na večer\, kde se elegance potkává s odvahou a fantazie dostává reálnou podobu. \n  \nBurleska v celé své kráse\, atmosféra\, která otevře prostor hravosti\, svádění a smyslné estetiky.  \n  \nPonořte se tam\, kde se svádění mění v siluetu těla\, kde zvuk podpatků znamená začátek hry a kde se hranice nevinnosti lehce rozmazává krajkou\, kůží a pohledem\, který říká víc než slova. \n  \nKlub se otvírá v 18 hod\, show začíná v 21 hodin \nVstup od 18 let \n  \nPřijďte se dívat \, obdivovat\, prožívat!  \nDresscode – creative black tie\, elegance\, fetish…..rifle nechte doma \nOmezená kapacita – doporučujeme včasnou rezervaci cez smsticket –  \nTěšíme se na vás. \n===================================== \nGet ready for an evening where elegance meets courage and fantasy takes on a real form. \n  \nBurlesque in all its glory\, an atmosphere that opens up a space of playfulness\, seduction and sensual aesthetics. \n  \nImmerse yourself where seduction turns into a silhouette of the body\, where the sound of heels means the beginning of the game and where the line of innocence is slightly blurred with lace\, leather and a look that says more than words. \n  \nThe club opens at 6 pm\, the show starts at 9 pm \nEntrance from 18 years old \nCome watch\, admire\, experience! \nDresscode – creative black tie\, elegance\, fetish…..leave the rifle at home. \nLimited capacity – early booking is recommended through smsticket \n  \nWe look forward to seeing you. \n\nTento tip na kulturní akci v Praha najdete v přehledu na nasejiznimorava.cz kde na jednom místě shromažďujeme desítky dalších koncertů\, festivalů\, divadelních představení i komunitních událostí z celého regionu i z celé ČR. Přehled je přehledně řazený\, pravidelně aktualizovaný a umožní vám rychle najít přesně to\, co vás zajímá – od velkých open-air akcí až po menší lokální programy. Každý si tak snadno vybere podle svého vkusu i času. Pokud vás některá akce zaujme\, nezapomeňte si včas zajistit vstupenky; stačí kliknout na detail události a budete bezpečně přesměrováni na oficiálního prodejce vstupenek..
URL:https://nasejiznimorava.cz/event/fetish-burlesque-cabaret-vol-7/
LOCATION:Klub Kotelna\, Praha\, Klub Kotelna\, Praha\, Česká republika
CATEGORIES:Divadlo
ATTACH;FMTTYPE=image/jpeg:https://nasejiznimorava.cz/wp-content/uploads/2026/01/320-e15517f4e5ec4efa8bf01dbbeb8e088f.jpg
END:VEVENT
END:VCALENDAR