BEGIN:VCALENDAR
VERSION:2.0
PRODID:-// „Objev místa, kde se dobře pije, krásně spí a skvěle žije“  - ECPv6.15.20//NONSGML v1.0//EN
CALSCALE:GREGORIAN
METHOD:PUBLISH
X-ORIGINAL-URL:https://nasejiznimorava.cz
X-WR-CALDESC:Akce na  „Objev místa, kde se dobře pije, krásně spí a skvěle žije“ 
REFRESH-INTERVAL;VALUE=DURATION:PT1H
X-Robots-Tag:noindex
X-PUBLISHED-TTL:PT1H
BEGIN:VTIMEZONE
TZID:Europe/Prague
BEGIN:DAYLIGHT
TZOFFSETFROM:+0100
TZOFFSETTO:+0200
TZNAME:CEST
DTSTART:20250330T010000
END:DAYLIGHT
BEGIN:STANDARD
TZOFFSETFROM:+0200
TZOFFSETTO:+0100
TZNAME:CET
DTSTART:20251026T010000
END:STANDARD
BEGIN:DAYLIGHT
TZOFFSETFROM:+0100
TZOFFSETTO:+0200
TZNAME:CEST
DTSTART:20260329T010000
END:DAYLIGHT
BEGIN:STANDARD
TZOFFSETFROM:+0200
TZOFFSETTO:+0100
TZNAME:CET
DTSTART:20261025T010000
END:STANDARD
BEGIN:DAYLIGHT
TZOFFSETFROM:+0100
TZOFFSETTO:+0200
TZNAME:CEST
DTSTART:20270328T010000
END:DAYLIGHT
BEGIN:STANDARD
TZOFFSETFROM:+0200
TZOFFSETTO:+0100
TZNAME:CET
DTSTART:20271031T010000
END:STANDARD
END:VTIMEZONE
BEGIN:VEVENT
DTSTART;TZID=Europe/Prague:20260322T140000
DTEND;TZID=Europe/Prague:20260322T170000
DTSTAMP:20260421T124850
CREATED:20251214T071633Z
LAST-MODIFIED:20251214T071633Z
UID:39993-1774188000-1774198800@nasejiznimorava.cz
SUMMARY:KNIHA DŽUNGLÍ - Plzeň
DESCRIPTION:KNIHA DŽUNGLÍ – Plzeň se uskuteční dne 2026-03-22 v 14:00 v Plzeň\, Měšťanská beseda. \n🎟️ Koupit vstupenku \n\nMuzikál KNIHA DŽUNGLÍ – největší rodinný zážitek roku 2026! \nOd ledna 2026 přichází do 55 měst po celé České republice překvapení pro celou rodinu! Novinka od producentů rodinných muzikálů\, jako je Popelka\, Alenka v říši divů či Vánoční loupež. \nČeká vás příběh plný emocí\, hudby\, smíchu i napětí – a to přímo ve vašem městě! \nSeznámíte se s odvážným Mauglím\, moudrým vlčím vůdcem Akélou\, ušlechtilým a statečným panterem Baghírou\, rozverným medvědem Balúem\, jehož kostým je jediný svého druhu v Evropě! Velkolepý dojem zanechá také obrovský král opic – gorila Ludvík v unikátním kostýmu. \nObrovským lákadlem je jedinečný kostým Hada KAA\, jaký jste ještě nikdy neviděli! \nO napětí se postará nelítostný tygr Šerchán\, jeho komicko-zákeřný společník hyena Tabaki\, a atmosféru odlehčí i vtipný a upovídaný papoušek a další známá zvířata. \n Spolu s projekcemi a dechberoucími vizuálními efekty se ocitnete přímo uprostřed kouzelné džungle. \nDěti se stanou součástí představení – pomohou Mauglímu zahnat Šerchána nebo najít med pro medvěda Balů\,  a společně s herci dotvářet kouzelný příběh. \nInteraktivní část vás vtáhne do děje – zvířata z džungle se objeví nejen na jevišti\, ale i mezi dětmi v hledišti\, aby si každý mohl zažít pocit\, že je součástí příběhu. \nSpeciální bonus: Každé dítě dostane ke vstupence zvířecí masku dle vlastního výběru.A po představení čeká malé diváky jedinečná možnost vyfotit se přímo na jevišti s herci v kostýmech! \n  \nTip na vánoční dárek!Darujte svým dětem a celé rodině nezapomenutelný zážitek – vstupenky na muzikál\, o kterém se bude mluvit ještě dlouho. \nToto není jen muzikál. Je to největší zážitek u vás doma\, ve vašem městě! \nPředprodej vstupenek spuštěn právě teď – kapacita je omezená.Kupte si vstupenky v síti smsticket a buďte u muzikálové události roku 2026! \n\nTento tip na kulturní akci v Plzeň najdete v přehledu na nasejiznimorava.cz kde na jednom místě shromažďujeme desítky dalších koncertů\, festivalů\, divadelních představení i komunitních událostí z celého regionu i z celé ČR. Přehled je přehledně řazený\, pravidelně aktualizovaný a umožní vám rychle najít přesně to\, co vás zajímá – od velkých open-air akcí až po menší lokální programy. Každý si tak snadno vybere podle svého vkusu i času. Pokud vás některá akce zaujme\, nezapomeňte si včas zajistit vstupenky; stačí kliknout na detail události a budete bezpečně přesměrováni na oficiálního prodejce vstupenek..
URL:https://nasejiznimorava.cz/event/kniha-dzungli-plzen-2/
LOCATION:Měšťanská beseda\, Plzeň\, Měšťanská beseda\, Plzeň\, Česká republika
CATEGORIES:Divadlo
ATTACH;FMTTYPE=image/jpeg:https://nasejiznimorava.cz/wp-content/uploads/2025/12/320-35d14db1c39b4c1b9c510db1b15d6231.jpg
END:VEVENT
BEGIN:VEVENT
DTSTART;TZID=Europe/Prague:20260322T160000
DTEND;TZID=Europe/Prague:20260322T190000
DTSTAMP:20260421T124850
CREATED:20251112T181050Z
LAST-MODIFIED:20251112T181050Z
UID:38815-1774195200-1774206000@nasejiznimorava.cz
SUMMARY:Velikonoční příběh
DESCRIPTION:Velikonoční příběh se uskuteční dne 2026-03-22 v 16:00 v Nové Město na Moravě\, Kulturák NMnM. \n🎟️ Koupit vstupenku \n\n„Ten malý nevinný Ježíšek v jesličkách je jeden a ten samý jako ten pán přibitý na kříži? To asi nebude moc pohádka pro děti\, pane učiteli. To se mi moc hrát nechce.“ „Neboj\, Vojtěchu\, jako každá správná pohádka i tato bude mít dobrý konec.“ \nLoutkář\, kejklíř a komediant Vojtěch se setkává se svým panem učitelem\, aby spolu sehráli Velikonoční příběh. Zatímco Vojtěch coby loutkář má připravené klasické loutkové divadlo\, tedy kukátkovou scénu a loutky z lidových pohádek\, pan učitel přichází vybaven jen starou biblí. Přesto\, nebo možná právě proto\, spolu dokážou rozehrát prastarý příběh o lásce a obětování se za druhé\, za nás za všechny. \n\nHrají: Vojtěch Vrtek a Pavel Šmíd\nRežie: Stanislava Kočvarová\nScénář: Pavel Šmíd\nScéna: Vojtěch Vrtek\, malovala Simonetta Šmídová\nLoutky: Jan Růžička\n\n\nTento tip na kulturní akci v Nové Město na Moravě najdete v přehledu na nasejiznimorava.cz kde na jednom místě shromažďujeme desítky dalších koncertů\, festivalů\, divadelních představení i komunitních událostí z celého regionu i z celé ČR. Přehled je přehledně řazený\, pravidelně aktualizovaný a umožní vám rychle najít přesně to\, co vás zajímá – od velkých open-air akcí až po menší lokální programy. Každý si tak snadno vybere podle svého vkusu i času. Pokud vás některá akce zaujme\, nezapomeňte si včas zajistit vstupenky; stačí kliknout na detail události a budete bezpečně přesměrováni na oficiálního prodejce vstupenek..
URL:https://nasejiznimorava.cz/event/velikonocni-pribeh/
LOCATION:Kulturák NMnM\, Nové Město na Moravě\, Kulturák NMnM\, Nové Město na Moravě\, Česká republika
CATEGORIES:Divadlo
ATTACH;FMTTYPE=image/jpeg:https://nasejiznimorava.cz/wp-content/uploads/2025/11/320-f8e11ff03ef94b428b7f7fab4e8ffa65.jpg
END:VEVENT
BEGIN:VEVENT
DTSTART;TZID=Europe/Prague:20260322T170000
DTEND;TZID=Europe/Prague:20260322T200000
DTSTAMP:20260421T124850
CREATED:20251214T071632Z
LAST-MODIFIED:20251214T071632Z
UID:39990-1774198800-1774209600@nasejiznimorava.cz
SUMMARY:KNIHA DŽUNGLÍ - Plzeň
DESCRIPTION:KNIHA DŽUNGLÍ – Plzeň se uskuteční dne 2026-03-22 v 17:00 v Plzeň\, Měšťanská beseda. \n🎟️ Koupit vstupenku \n\nMuzikál KNIHA DŽUNGLÍ – největší rodinný zážitek roku 2026! \nOd ledna 2026 přichází do 55 měst po celé České republice překvapení pro celou rodinu! Novinka od producentů rodinných muzikálů\, jako je Popelka\, Alenka v říši divů či Vánoční loupež. \nČeká vás příběh plný emocí\, hudby\, smíchu i napětí – a to přímo ve vašem městě! \nSeznámíte se s odvážným Mauglím\, moudrým vlčím vůdcem Akélou\, ušlechtilým a statečným panterem Baghírou\, rozverným medvědem Balúem\, jehož kostým je jediný svého druhu v Evropě! Velkolepý dojem zanechá také obrovský král opic – gorila Ludvík v unikátním kostýmu. \nObrovským lákadlem je jedinečný kostým Hada KAA\, jaký jste ještě nikdy neviděli! \nO napětí se postará nelítostný tygr Šerchán\, jeho komicko-zákeřný společník hyena Tabaki\, a atmosféru odlehčí i vtipný a upovídaný papoušek a další známá zvířata. \n Spolu s projekcemi a dechberoucími vizuálními efekty se ocitnete přímo uprostřed kouzelné džungle. \nDěti se stanou součástí představení – pomohou Mauglímu zahnat Šerchána nebo najít med pro medvěda Balů\,  a společně s herci dotvářet kouzelný příběh. \nInteraktivní část vás vtáhne do děje – zvířata z džungle se objeví nejen na jevišti\, ale i mezi dětmi v hledišti\, aby si každý mohl zažít pocit\, že je součástí příběhu. \nSpeciální bonus: Každé dítě dostane ke vstupence zvířecí masku dle vlastního výběru.A po představení čeká malé diváky jedinečná možnost vyfotit se přímo na jevišti s herci v kostýmech! \n  \nTip na vánoční dárek!Darujte svým dětem a celé rodině nezapomenutelný zážitek – vstupenky na muzikál\, o kterém se bude mluvit ještě dlouho. \nToto není jen muzikál. Je to největší zážitek u vás doma\, ve vašem městě! \nPředprodej vstupenek spuštěn právě teď – kapacita je omezená.Kupte si vstupenky v síti smsticket a buďte u muzikálové události roku 2026! \n\nTento tip na kulturní akci v Plzeň najdete v přehledu na nasejiznimorava.cz kde na jednom místě shromažďujeme desítky dalších koncertů\, festivalů\, divadelních představení i komunitních událostí z celého regionu i z celé ČR. Přehled je přehledně řazený\, pravidelně aktualizovaný a umožní vám rychle najít přesně to\, co vás zajímá – od velkých open-air akcí až po menší lokální programy. Každý si tak snadno vybere podle svého vkusu i času. Pokud vás některá akce zaujme\, nezapomeňte si včas zajistit vstupenky; stačí kliknout na detail události a budete bezpečně přesměrováni na oficiálního prodejce vstupenek..
URL:https://nasejiznimorava.cz/event/kniha-dzungli-plzen/
LOCATION:Měšťanská beseda\, Plzeň\, Měšťanská beseda\, Plzeň\, Česká republika
CATEGORIES:Divadlo
ATTACH;FMTTYPE=image/jpeg:https://nasejiznimorava.cz/wp-content/uploads/2025/12/320-22bbeec17886498e9dfae1ede2db945c.jpg
END:VEVENT
BEGIN:VEVENT
DTSTART;TZID=Europe/Prague:20260322T190000
DTEND;TZID=Europe/Prague:20260322T220000
DTSTAMP:20260421T124850
CREATED:20251111T131702Z
LAST-MODIFIED:20251111T131703Z
UID:36863-1774206000-1774216800@nasejiznimorava.cz
SUMMARY:Za dveřmi kanceláří
DESCRIPTION:Za dveřmi kanceláří se uskuteční dne 2026-03-22 v 19:00 v Zbýšov\, Kino Horník. \n🎟️ Koupit vstupenku \nTento tip na kulturní akci v Zbýšov najdete v přehledu na nasejiznimorava.cz kde na jednom místě shromažďujeme desítky dalších koncertů\, festivalů\, divadelních představení i komunitních událostí z celého regionu i z celé ČR. Přehled je přehledně řazený\, pravidelně aktualizovaný a umožní vám rychle najít přesně to\, co vás zajímá – od velkých open-air akcí až po menší lokální programy. Každý si tak snadno vybere podle svého vkusu i času. Pokud vás některá akce zaujme\, nezapomeňte si včas zajistit vstupenky; stačí kliknout na detail události a budete bezpečně přesměrováni na oficiálního prodejce vstupenek..
URL:https://nasejiznimorava.cz/event/za-dvermi-kancelari/
LOCATION:Kino Horník\, Zbýšov\, Kino Horník\, Zbýšov\, Česká republika
CATEGORIES:Divadlo
ATTACH;FMTTYPE=image/jpeg:https://nasejiznimorava.cz/wp-content/uploads/2025/11/320-90a22b96beab49a39b4047a6af4f1a15.jpg
END:VEVENT
BEGIN:VEVENT
DTSTART;TZID=Europe/Prague:20260322T190000
DTEND;TZID=Europe/Prague:20260322T220000
DTSTAMP:20260421T124850
CREATED:20251222T193835Z
LAST-MODIFIED:20251222T193836Z
UID:40974-1774206000-1774216800@nasejiznimorava.cz
SUMMARY:Cena za něžnost
DESCRIPTION:Cena za něžnost se uskuteční dne 2026-03-22 v 19:00 v Olomouc\, Reduta. \n🎟️ Koupit vstupenku \n\nLáska a humor  vždy dodají sílu jít dál a nic v životě nevzdávat.  Dojemný příběh o matce a dceři\, a jednom astronautovi.  \nHra byla předlohou oscarového filmu a je uváděna k příležitosti 70.narozenin Simony STAŠOVÉ. \nHrají:  Simona STAŠOVÁ\,  Miroslav ETZLER\,  Kamila  TRNKOVÁ\,  Otakar BROUSEK ml./J.TEPLÝ ml.\, Jessica BECHYŇOVÁ.                                    \n\nTento tip na kulturní akci v Olomouc najdete v přehledu na nasejiznimorava.cz kde na jednom místě shromažďujeme desítky dalších koncertů\, festivalů\, divadelních představení i komunitních událostí z celého regionu i z celé ČR. Přehled je přehledně řazený\, pravidelně aktualizovaný a umožní vám rychle najít přesně to\, co vás zajímá – od velkých open-air akcí až po menší lokální programy. Každý si tak snadno vybere podle svého vkusu i času. Pokud vás některá akce zaujme\, nezapomeňte si včas zajistit vstupenky; stačí kliknout na detail události a budete bezpečně přesměrováni na oficiálního prodejce vstupenek..
URL:https://nasejiznimorava.cz/event/cena-za-neznost-3/
LOCATION:Reduta\, Olomouc\, Reduta\, Olomouc\, Česká republika
CATEGORIES:Divadlo
ATTACH;FMTTYPE=image/jpeg:https://nasejiznimorava.cz/wp-content/uploads/2025/12/320-91ec90c3b8384f67b4c9a97a7504dc8c.jpg
END:VEVENT
END:VCALENDAR