BEGIN:VCALENDAR
VERSION:2.0
PRODID:-// „Objev místa, kde se dobře pije, krásně spí a skvěle žije“  - ECPv6.15.20//NONSGML v1.0//EN
CALSCALE:GREGORIAN
METHOD:PUBLISH
X-WR-CALNAME: „Objev místa, kde se dobře pije, krásně spí a skvěle žije“ 
X-ORIGINAL-URL:https://nasejiznimorava.cz
X-WR-CALDESC:Akce na  „Objev místa, kde se dobře pije, krásně spí a skvěle žije“ 
REFRESH-INTERVAL;VALUE=DURATION:PT1H
X-Robots-Tag:noindex
X-PUBLISHED-TTL:PT1H
BEGIN:VTIMEZONE
TZID:Europe/Prague
BEGIN:DAYLIGHT
TZOFFSETFROM:+0100
TZOFFSETTO:+0200
TZNAME:CEST
DTSTART:20250330T010000
END:DAYLIGHT
BEGIN:STANDARD
TZOFFSETFROM:+0200
TZOFFSETTO:+0100
TZNAME:CET
DTSTART:20251026T010000
END:STANDARD
BEGIN:DAYLIGHT
TZOFFSETFROM:+0100
TZOFFSETTO:+0200
TZNAME:CEST
DTSTART:20260329T010000
END:DAYLIGHT
BEGIN:STANDARD
TZOFFSETFROM:+0200
TZOFFSETTO:+0100
TZNAME:CET
DTSTART:20261025T010000
END:STANDARD
BEGIN:DAYLIGHT
TZOFFSETFROM:+0100
TZOFFSETTO:+0200
TZNAME:CEST
DTSTART:20270328T010000
END:DAYLIGHT
BEGIN:STANDARD
TZOFFSETFROM:+0200
TZOFFSETTO:+0100
TZNAME:CET
DTSTART:20271031T010000
END:STANDARD
END:VTIMEZONE
BEGIN:VEVENT
DTSTART;TZID=Europe/Prague:20261031T153000
DTEND;TZID=Europe/Prague:20261031T183000
DTSTAMP:20260421T140324
CREATED:20251222T192844Z
LAST-MODIFIED:20251222T192844Z
UID:40890-1793460600-1793471400@nasejiznimorava.cz
SUMMARY:Zimní příhody včelích medvídků
DESCRIPTION:Zimní příhody včelích medvídků  se uskuteční dne 2026-10-31 v 15:30 v Brno\, KD Rubín. \n🎟️ Koupit vstupenku \n\nA je to tady! Léto končí a na paloučku u čmeláčí chaloupky začíná podzim. Všechno odkvetlo a všechno padá. Čmeldové ochutnávají první sladké hrušky\, jenže neví\, že si na nich taky pochutnává nebezpečný Sršeň.  \nJeště že ty hrušky padaj. Vrací se vyděšení čmeldové k mamince\, která má proně také překvapení. \nNa oslavu posledního sluníčkového dne k nim přichází sousedé – pan Babočka\, paní Mnohonožka Božka\, pan Kvapík\, pan Cvrček\, babička Čmelinda a nesmí chybět ani Beruška. Všichni mají pro ně nějaký dárek\, aby se Čmeláčkům v zimě dobře spalo. \nA taky spí. Jenže Zima zimice je tak krutá\, že se Čmeldové probouzí u prostřed zimy\, aby si přitopili. \nStopy ve sněhu jim nahánějí strach. Kdo jim to chodí kolem čmeláčí chaloupky? To už uvidíte sami! \nVíte\,jak se Čmeláčci chystají na zimu?Proč je podzim tak sladký?Kde spí v zimě pavouk?Co dělají Čmeláčci o Vánocích?Kdo je to bílé strašidlo s pometlem?Čí jsou stopy ve sněhu? \npodle literární předlohy Jiřího Kahouna \nScénář: Michaela Sajlerová a Zdeněk Tomeš \nHudba: Petr Skoumal \nTexty písní: Zdeněk Svěrák \nScéna a kostýmy: Eva Blahová \nPučmelouda vyrobil: Miloslav Sajler s Evou Blahovou \nRežie a choreografie: Zdeněk Tomeš \nHrají: Čmeldu a Brumdu – Jiří Kohout / Patrik Vojtíšek / Ondřej Švec \nSršáně\, Motýla\, Cvrčka\, Kvapíka a Pučmelouda – Zdeněk Tomeš \nMaminku\, Babičku\, Berušku\, Mnohonožku a Zimu Zimici – Michaela Sajlerová \n\nTento tip na kulturní akci v Brno najdete v přehledu na nasejiznimorava.cz kde na jednom místě shromažďujeme desítky dalších koncertů\, festivalů\, divadelních představení i komunitních událostí z celého regionu i z celé ČR. Přehled je přehledně řazený\, pravidelně aktualizovaný a umožní vám rychle najít přesně to\, co vás zajímá – od velkých open-air akcí až po menší lokální programy. Každý si tak snadno vybere podle svého vkusu i času. Pokud vás některá akce zaujme\, nezapomeňte si včas zajistit vstupenky; stačí kliknout na detail události a budete bezpečně přesměrováni na oficiálního prodejce vstupenek..
URL:https://nasejiznimorava.cz/event/zimni-prihody-vcelich-medvidku-2/
LOCATION:KD Rubín\, Brno\, KD Rubín\, Brno\, Česká republika
CATEGORIES:Divadlo
ATTACH;FMTTYPE=image/jpeg:https://nasejiznimorava.cz/wp-content/uploads/2025/12/320-6b49fc2e167043b6b693a042887be9e6-1.jpg
END:VEVENT
BEGIN:VEVENT
DTSTART;TZID=Europe/Prague:20261031T153000
DTEND;TZID=Europe/Prague:20261031T183000
DTSTAMP:20260421T140324
CREATED:20251222T192844Z
LAST-MODIFIED:20251222T192844Z
UID:40891-1793460600-1793471400@nasejiznimorava.cz
SUMMARY:Zimní příhody včelích medvídků
DESCRIPTION:Zimní příhody včelích medvídků  se uskuteční dne 2026-10-31 v 15:30 v Brno\, KD Rubín. \n🎟️ Koupit vstupenku \n\nA je to tady! Léto končí a na paloučku u čmeláčí chaloupky začíná podzim. Všechno odkvetlo a všechno padá. Čmeldové ochutnávají první sladké hrušky\, jenže neví\, že si na nich taky pochutnává nebezpečný Sršeň.  \nJeště že ty hrušky padaj. Vrací se vyděšení čmeldové k mamince\, která má proně také překvapení. \nNa oslavu posledního sluníčkového dne k nim přichází sousedé – pan Babočka\, paní Mnohonožka Božka\, pan Kvapík\, pan Cvrček\, babička Čmelinda a nesmí chybět ani Beruška. Všichni mají pro ně nějaký dárek\, aby se Čmeláčkům v zimě dobře spalo. \nA taky spí. Jenže Zima zimice je tak krutá\, že se Čmeldové probouzí u prostřed zimy\, aby si přitopili. \nStopy ve sněhu jim nahánějí strach. Kdo jim to chodí kolem čmeláčí chaloupky? To už uvidíte sami! \nVíte\,jak se Čmeláčci chystají na zimu?Proč je podzim tak sladký?Kde spí v zimě pavouk?Co dělají Čmeláčci o Vánocích?Kdo je to bílé strašidlo s pometlem?Čí jsou stopy ve sněhu? \npodle literární předlohy Jiřího Kahouna \nScénář: Michaela Sajlerová a Zdeněk Tomeš \nHudba: Petr Skoumal \nTexty písní: Zdeněk Svěrák \nScéna a kostýmy: Eva Blahová \nPučmelouda vyrobil: Miloslav Sajler s Evou Blahovou \nRežie a choreografie: Zdeněk Tomeš \nHrají: Čmeldu a Brumdu – Jiří Kohout / Patrik Vojtíšek / Ondřej Švec \nSršáně\, Motýla\, Cvrčka\, Kvapíka a Pučmelouda – Zdeněk Tomeš \nMaminku\, Babičku\, Berušku\, Mnohonožku a Zimu Zimici – Michaela Sajlerová \n\nTento tip na kulturní akci v Brno najdete v přehledu na nasejiznimorava.cz kde na jednom místě shromažďujeme desítky dalších koncertů\, festivalů\, divadelních představení i komunitních událostí z celého regionu i z celé ČR. Přehled je přehledně řazený\, pravidelně aktualizovaný a umožní vám rychle najít přesně to\, co vás zajímá – od velkých open-air akcí až po menší lokální programy. Každý si tak snadno vybere podle svého vkusu i času. Pokud vás některá akce zaujme\, nezapomeňte si včas zajistit vstupenky; stačí kliknout na detail události a budete bezpečně přesměrováni na oficiálního prodejce vstupenek..
URL:https://nasejiznimorava.cz/event/zimni-prihody-vcelich-medvidku/
LOCATION:KD Rubín\, Brno\, KD Rubín\, Brno\, Česká republika
CATEGORIES:Divadlo
ATTACH;FMTTYPE=image/jpeg:https://nasejiznimorava.cz/wp-content/uploads/2025/12/320-6b49fc2e167043b6b693a042887be9e6.jpg
END:VEVENT
BEGIN:VEVENT
DTSTART;TZID=Europe/Prague:20261216T190000
DTEND;TZID=Europe/Prague:20261216T220000
DTSTAMP:20260421T140324
CREATED:20251217T155420Z
LAST-MODIFIED:20251217T155421Z
UID:40676-1797447600-1797458400@nasejiznimorava.cz
SUMMARY:Dva nahatý chlapi
DESCRIPTION:Dva nahatý chlapi se uskuteční dne 2026-12-16 v 19:00 v Dolní Benešov\, Kulturní dům Dolní Benešov. \n🎟️ Koupit vstupenku \n\nautor: Sébastien Thiéryrežie: Antonín Procházkaprodukce: JT Promotion \nhrají: Martin Zounar\, Martin Kraus\, Martina Randová\, Daniela Šinkorová nebo Michaela Dittrichová \nBláznivá komedie kontroverzního francouzského autora. Seriozní advokát\, věrný manžel a otec dvou dětí\, se jednoho dne probudí nahý v posteli se svým kolegou z práce. Ani jeden netuší jak se do této situace dostali\, manželka jednoho z nich však vymyslí způsob\, jak zjistit pravdu. Ale ta je\, jak se nakonec ukáže skutečné pravdě hodně vzdálená. \n\nTento tip na kulturní akci v Dolní Benešov najdete v přehledu na nasejiznimorava.cz kde na jednom místě shromažďujeme desítky dalších koncertů\, festivalů\, divadelních představení i komunitních událostí z celého regionu i z celé ČR. Přehled je přehledně řazený\, pravidelně aktualizovaný a umožní vám rychle najít přesně to\, co vás zajímá – od velkých open-air akcí až po menší lokální programy. Každý si tak snadno vybere podle svého vkusu i času. Pokud vás některá akce zaujme\, nezapomeňte si včas zajistit vstupenky; stačí kliknout na detail události a budete bezpečně přesměrováni na oficiálního prodejce vstupenek..
URL:https://nasejiznimorava.cz/event/dva-nahaty-chlapi/
LOCATION:Kulturní dům Dolní Benešov\, Dolní Benešov\, Kulturní dům Dolní Benešov\, Dolní Benešov\, Česká republika
CATEGORIES:Divadlo
ATTACH;FMTTYPE=image/jpeg:https://nasejiznimorava.cz/wp-content/uploads/2025/12/320-9cfa52c819ef4b589b8e0bf993f79a0e.jpg
END:VEVENT
END:VCALENDAR