BEGIN:VCALENDAR
VERSION:2.0
PRODID:-// „Objev místa, kde se dobře pije, krásně spí a skvěle žije“  - ECPv6.15.20//NONSGML v1.0//EN
CALSCALE:GREGORIAN
METHOD:PUBLISH
X-WR-CALNAME: „Objev místa, kde se dobře pije, krásně spí a skvěle žije“ 
X-ORIGINAL-URL:https://nasejiznimorava.cz
X-WR-CALDESC:Akce na  „Objev místa, kde se dobře pije, krásně spí a skvěle žije“ 
REFRESH-INTERVAL;VALUE=DURATION:PT1H
X-Robots-Tag:noindex
X-PUBLISHED-TTL:PT1H
BEGIN:VTIMEZONE
TZID:Europe/Prague
BEGIN:DAYLIGHT
TZOFFSETFROM:+0100
TZOFFSETTO:+0200
TZNAME:CEST
DTSTART:20250330T010000
END:DAYLIGHT
BEGIN:STANDARD
TZOFFSETFROM:+0200
TZOFFSETTO:+0100
TZNAME:CET
DTSTART:20251026T010000
END:STANDARD
BEGIN:DAYLIGHT
TZOFFSETFROM:+0100
TZOFFSETTO:+0200
TZNAME:CEST
DTSTART:20260329T010000
END:DAYLIGHT
BEGIN:STANDARD
TZOFFSETFROM:+0200
TZOFFSETTO:+0100
TZNAME:CET
DTSTART:20261025T010000
END:STANDARD
BEGIN:DAYLIGHT
TZOFFSETFROM:+0100
TZOFFSETTO:+0200
TZNAME:CEST
DTSTART:20270328T010000
END:DAYLIGHT
BEGIN:STANDARD
TZOFFSETFROM:+0200
TZOFFSETTO:+0100
TZNAME:CET
DTSTART:20271031T010000
END:STANDARD
END:VTIMEZONE
BEGIN:VEVENT
DTSTART;TZID=Europe/Prague:20260407T190000
DTEND;TZID=Europe/Prague:20260407T220000
DTSTAMP:20260421T200811
CREATED:20260107T163551Z
LAST-MODIFIED:20260107T163552Z
UID:41418-1775588400-1775599200@nasejiznimorava.cz
SUMMARY:Hudba Bridgerton při svíčkách
DESCRIPTION:Hudba Bridgerton při svíčkách se uskuteční dne 2026-04-07 v 19:00 v Bílina\, Městské divadlo Bílina. \n🎟️ Koupit vstupenku \n\nNenechte si ujít večer plný romantiky a elegance\, kde zazní ty nejznámější melodie a písně z oblíbeného seriálu Bridgerton. Světlo stovky svíček vytvoří okouzlující atmosféru koncertu. \nProgram v jedinečném provedení smyčcového kvarteta představí výběr hudebních skladeb z tohoto populárního seriálu\, inspirovaných klasickými díly i moderními popovými melodiemi\, které si získaly srdce diváků po celém světě. \nTento koncert nabídne víc než jen hudbu; stovky svíček rozzáří prostor a vytvoří atmosféru plnou noblesy\, romantiky a neodolatelného kouzla historické doby. \nAkce je přístupná od 12 let. Každý účastník musí předložit platnou vstupenku  zakoupenou výhradně v síti smsticket. \n\nTento tip na kulturní akci v Bílina najdete v přehledu na nasejiznimorava.cz kde na jednom místě shromažďujeme desítky dalších koncertů\, festivalů\, divadelních představení i komunitních událostí z celého regionu i z celé ČR. Přehled je přehledně řazený\, pravidelně aktualizovaný a umožní vám rychle najít přesně to\, co vás zajímá – od velkých open-air akcí až po menší lokální programy. Každý si tak snadno vybere podle svého vkusu i času. Pokud vás některá akce zaujme\, nezapomeňte si včas zajistit vstupenky; stačí kliknout na detail události a budete bezpečně přesměrováni na oficiálního prodejce vstupenek..
URL:https://nasejiznimorava.cz/event/hudba-bridgerton-pri-svickach-25/
LOCATION:Městské divadlo Bílina\, Bílina\, Městské divadlo Bílina\, Bílina\, Česká republika
CATEGORIES:Koncert
ATTACH;FMTTYPE=image/jpeg:https://nasejiznimorava.cz/wp-content/uploads/2026/01/320-0a75c1367cb54dfcb2ae559cce44a1ec.jpg
END:VEVENT
BEGIN:VEVENT
DTSTART;TZID=Europe/Prague:20260403T190000
DTEND;TZID=Europe/Prague:20260403T220000
DTSTAMP:20260421T200811
CREATED:20251111T143200Z
LAST-MODIFIED:20251111T143200Z
UID:37537-1775242800-1775253600@nasejiznimorava.cz
SUMMARY:ABBA SHOW 50 | Bílina
DESCRIPTION:ABBA SHOW 50 | Bílina se uskuteční dne 2026-04-03 v 19:00 v Bílina\, Městské divadlo Bílina. \n🎟️ Koupit vstupenku \n\nABBA WORLD Revival je desetičlenný soubor profesionálních hudebníků\, které spojuje obdiv k tvorbě světoznámé švédské skupiny ABBA.Tato tribute show patří mezi světovou špičku a přináší 100% živé vystoupení bez playbacků a half-playbacků. \nV repertoáru mají více než 30 nejznámějších hitů skupiny ABBA\, které jsou zahrány s takovou přesností\, že jsou téměř k nerozeznání od originálů. Celou show doplňují autentické dobové kostýmy\, image a choreografie. \nDíky svému charakteristickému zvuku a preciznímu hudebnímu provedení vystupuje ABBA WORLD Revival úspěšně po celé Evropě a oslovuje posluchače všech generací. Množství odehraných koncertů a léta úspěšné existence jsou toho nejlepším důkazem. \n\nTento tip na kulturní akci v Bílina najdete v přehledu na nasejiznimorava.cz kde na jednom místě shromažďujeme desítky dalších koncertů\, festivalů\, divadelních představení i komunitních událostí z celého regionu i z celé ČR. Přehled je přehledně řazený\, pravidelně aktualizovaný a umožní vám rychle najít přesně to\, co vás zajímá – od velkých open-air akcí až po menší lokální programy. Každý si tak snadno vybere podle svého vkusu i času. Pokud vás některá akce zaujme\, nezapomeňte si včas zajistit vstupenky; stačí kliknout na detail události a budete bezpečně přesměrováni na oficiálního prodejce vstupenek..
URL:https://nasejiznimorava.cz/event/abba-show-50-bilina/
LOCATION:Městské divadlo Bílina\, Bílina\, Městské divadlo Bílina\, Bílina\, Česká republika
CATEGORIES:Koncert
ATTACH;FMTTYPE=image/jpeg:https://nasejiznimorava.cz/wp-content/uploads/2025/11/320-80d2070d6bce40cba955914188f8eede.jpg
END:VEVENT
BEGIN:VEVENT
DTSTART;TZID=Europe/Prague:20260319T190000
DTEND;TZID=Europe/Prague:20260319T220000
DTSTAMP:20260421T200811
CREATED:20251214T080515Z
LAST-MODIFIED:20251214T080516Z
UID:40163-1773946800-1773957600@nasejiznimorava.cz
SUMMARY:Velká zebra v Bílině
DESCRIPTION:Velká zebra v Bílině se uskuteční dne 2026-03-19 v 19:00 v Bílina\, Městské divadlo Bílina. \n🎟️ Koupit vstupenku \n\nVelká zebra aneb Jak že se to jmenujete? \nKomedie o tom\, proč před problémy (ne)utíkat. \nHrají:Ondřej VetchýJaromír DulavaJitka Ježková / Eva KodešováDana ČernáMartina HudečkováZdeněk Vencl / Jiří Štrébl / Zdeněk Velen \nChristian má „nemoc“. S každou ženou vydrží jen chvíli. Byl ženatý s Gisele\, ale po čase na něj padla hrůza a pocítil nepřekonatelnou potřebu utéct. Aby své svědomí alespoň částečně utišil\, uzavřel ve prospěch své ženy vysokou životní pojistku a předstíral\, že se na rybách utopil. \nTento trik úspěšně použil v životě dvakrát a právě se ho chystá zrealizovat potřetí. Jenomže tentokrát mu osud postaví do cesty problém v podobě přítele z dětství\, který ho pozná podle náhodné fotografie v novinách a navštíví ho. \nChristian\, který měl vždy vše dopodrobna naplánováno\, musí najednou improvizovat a ke své hrůze se ocitá tváří v tvář se svými „vdovami“ i novou snoubenkou. Podaří se mu tuto nezávidění hodnou situaci zvládnout i potřetí? \nAutoři: Jean-Jacques Bricaire\, Maurice LassayquesPřeklad: Jaromír JanečekRežie: Petr Palouš \n\nTento tip na kulturní akci v Bílina najdete v přehledu na nasejiznimorava.cz kde na jednom místě shromažďujeme desítky dalších koncertů\, festivalů\, divadelních představení i komunitních událostí z celého regionu i z celé ČR. Přehled je přehledně řazený\, pravidelně aktualizovaný a umožní vám rychle najít přesně to\, co vás zajímá – od velkých open-air akcí až po menší lokální programy. Každý si tak snadno vybere podle svého vkusu i času. Pokud vás některá akce zaujme\, nezapomeňte si včas zajistit vstupenky; stačí kliknout na detail události a budete bezpečně přesměrováni na oficiálního prodejce vstupenek..
URL:https://nasejiznimorava.cz/event/velka-zebra-v-biline/
LOCATION:Městské divadlo Bílina\, Bílina\, Městské divadlo Bílina\, Bílina\, Česká republika
CATEGORIES:Divadlo
ATTACH;FMTTYPE=image/jpeg:https://nasejiznimorava.cz/wp-content/uploads/2025/12/320-ee921c42843b46e2812ff6ce258a93b6.jpg
END:VEVENT
END:VCALENDAR