BEGIN:VCALENDAR
VERSION:2.0
PRODID:-// „Objev místa, kde se dobře pije, krásně spí a skvěle žije“  - ECPv6.15.20//NONSGML v1.0//EN
CALSCALE:GREGORIAN
METHOD:PUBLISH
X-WR-CALNAME: „Objev místa, kde se dobře pije, krásně spí a skvěle žije“ 
X-ORIGINAL-URL:https://nasejiznimorava.cz
X-WR-CALDESC:Akce na  „Objev místa, kde se dobře pije, krásně spí a skvěle žije“ 
REFRESH-INTERVAL;VALUE=DURATION:PT1H
X-Robots-Tag:noindex
X-PUBLISHED-TTL:PT1H
BEGIN:VTIMEZONE
TZID:Europe/Prague
BEGIN:DAYLIGHT
TZOFFSETFROM:+0100
TZOFFSETTO:+0200
TZNAME:CEST
DTSTART:20250330T010000
END:DAYLIGHT
BEGIN:STANDARD
TZOFFSETFROM:+0200
TZOFFSETTO:+0100
TZNAME:CET
DTSTART:20251026T010000
END:STANDARD
BEGIN:DAYLIGHT
TZOFFSETFROM:+0100
TZOFFSETTO:+0200
TZNAME:CEST
DTSTART:20260329T010000
END:DAYLIGHT
BEGIN:STANDARD
TZOFFSETFROM:+0200
TZOFFSETTO:+0100
TZNAME:CET
DTSTART:20261025T010000
END:STANDARD
BEGIN:DAYLIGHT
TZOFFSETFROM:+0100
TZOFFSETTO:+0200
TZNAME:CEST
DTSTART:20270328T010000
END:DAYLIGHT
BEGIN:STANDARD
TZOFFSETFROM:+0200
TZOFFSETTO:+0100
TZNAME:CET
DTSTART:20271031T010000
END:STANDARD
END:VTIMEZONE
BEGIN:VEVENT
DTSTART;TZID=Europe/Prague:20260422T190000
DTEND;TZID=Europe/Prague:20260422T220000
DTSTAMP:20260419T181742
CREATED:20251222T145832Z
LAST-MODIFIED:20251222T145833Z
UID:40844-1776884400-1776895200@nasejiznimorava.cz
SUMMARY:Ryba ve čtyřech
DESCRIPTION:Ryba ve čtyřech se uskuteční dne 2026-04-22 v 19:00 v Blansko\, Dělnický dům. \n🎟️ Koupit vstupenku \n\nHořká komedie o třech starých dámách a jejich sluhovi\, kterému pomalu dochází trpělivost…. \nHrají:Cecílie – Jana ŠvandováKlementýna – Veronika FreimanováKarolína – Zuzana Bydžovskásluha Rudolf – Zdeněk Maryška \nAutor – Wolfgang Kohlhaase a Rita Zimmer-GawrikowRežie – Viktorie Čermáková \n  \n\nTento tip na kulturní akci v Blansko najdete v přehledu na nasejiznimorava.cz kde na jednom místě shromažďujeme desítky dalších koncertů\, festivalů\, divadelních představení i komunitních událostí z celého regionu i z celé ČR. Přehled je přehledně řazený\, pravidelně aktualizovaný a umožní vám rychle najít přesně to\, co vás zajímá – od velkých open-air akcí až po menší lokální programy. Každý si tak snadno vybere podle svého vkusu i času. Pokud vás některá akce zaujme\, nezapomeňte si včas zajistit vstupenky; stačí kliknout na detail události a budete bezpečně přesměrováni na oficiálního prodejce vstupenek..
URL:https://nasejiznimorava.cz/event/ryba-ve-ctyrech/
LOCATION:Dělnický dům\, Blansko\, Dělnický dům\, Blansko\, Česká republika
CATEGORIES:Divadlo
ATTACH;FMTTYPE=image/jpeg:https://nasejiznimorava.cz/wp-content/uploads/2025/12/320-c9b3754816c34401a1d8da05fb8bfe28.jpg
END:VEVENT
BEGIN:VEVENT
DTSTART;TZID=Europe/Prague:20260520T190000
DTEND;TZID=Europe/Prague:20260520T220000
DTSTAMP:20260419T181742
CREATED:20251215T115627Z
LAST-MODIFIED:20251215T115628Z
UID:40550-1779303600-1779314400@nasejiznimorava.cz
SUMMARY:Vzhůru ke hvězdám
DESCRIPTION:Vzhůru ke hvězdám se uskuteční dne 2026-05-20 v 19:00 v Blansko\, Dělnický dům. \n🎟️ Koupit vstupenku \n\nMěl to být obyčejný den v životě obyčejných pečovatelek. Všechno se ale zvrtlo. Bláznivá komedie o touze po lepších časech. \nHrají: Iva Pazderková\, Petra NesvačilováZe záznamu: Jitka Smutná\, Erik ZabruckýPřeklad: Zuzana JoskováVýprava: Marek CpinHudba: Beata Hlavenková a citace. Režie: Pavel Ondruch \nČeské premiéry 27. a 28. dubna 2024. Obvyklá délka představení je 2 hodiny včetně přestávky. \n\nTento tip na kulturní akci v Blansko najdete v přehledu na nasejiznimorava.cz kde na jednom místě shromažďujeme desítky dalších koncertů\, festivalů\, divadelních představení i komunitních událostí z celého regionu i z celé ČR. Přehled je přehledně řazený\, pravidelně aktualizovaný a umožní vám rychle najít přesně to\, co vás zajímá – od velkých open-air akcí až po menší lokální programy. Každý si tak snadno vybere podle svého vkusu i času. Pokud vás některá akce zaujme\, nezapomeňte si včas zajistit vstupenky; stačí kliknout na detail události a budete bezpečně přesměrováni na oficiálního prodejce vstupenek..
URL:https://nasejiznimorava.cz/event/vzhuru-ke-hvezdam/
LOCATION:Dělnický dům\, Blansko\, Dělnický dům\, Blansko\, Česká republika
CATEGORIES:Divadlo
ATTACH;FMTTYPE=image/jpeg:https://nasejiznimorava.cz/wp-content/uploads/2025/12/320-4d24ceeb74ff4be786d426f5cedaf1fd.jpg
END:VEVENT
BEGIN:VEVENT
DTSTART;TZID=Europe/Prague:20261007T190000
DTEND;TZID=Europe/Prague:20261007T220000
DTSTAMP:20260419T181742
CREATED:20251214T072820Z
LAST-MODIFIED:20251214T072820Z
UID:40077-1791399600-1791410400@nasejiznimorava.cz
SUMMARY:Kecy & politika
DESCRIPTION:Kecy & politika se uskuteční dne 2026-10-07 v 19:00 v Blansko\, Dělnický dům. \n🎟️ Koupit vstupenku \n\nKecy a politika je podcast komentátora Bohumila Pečinky a Petrose Michopulose\, muže\, který se čtvrtstoletí zabývá marketingem a politikou. Současná politika pohledem dvou rozdílných osobností\, kteří se nebojí říct své názory. Nekorektní podcast\, v němž se věci zasazují do kontextu a přísně se tu oddělují prázdné kecy od skutečné politiky. \n  \nVystupující \nKecy a politika (CZ) – web / fb / youtube / Spotify \n\nTento tip na kulturní akci v Blansko najdete v přehledu na nasejiznimorava.cz kde na jednom místě shromažďujeme desítky dalších koncertů\, festivalů\, divadelních představení i komunitních událostí z celého regionu i z celé ČR. Přehled je přehledně řazený\, pravidelně aktualizovaný a umožní vám rychle najít přesně to\, co vás zajímá – od velkých open-air akcí až po menší lokální programy. Každý si tak snadno vybere podle svého vkusu i času. Pokud vás některá akce zaujme\, nezapomeňte si včas zajistit vstupenky; stačí kliknout na detail události a budete bezpečně přesměrováni na oficiálního prodejce vstupenek..
URL:https://nasejiznimorava.cz/event/kecy-politika/
LOCATION:Dělnický dům\, Blansko\, Dělnický dům\, Blansko\, Česká republika
CATEGORIES:Zábava
ATTACH;FMTTYPE=image/jpeg:https://nasejiznimorava.cz/wp-content/uploads/2025/12/320-14082494d0864f949e60e7c3265077a8.jpg
END:VEVENT
END:VCALENDAR