BEGIN:VCALENDAR
VERSION:2.0
PRODID:-// „Objev místa, kde se dobře pije, krásně spí a skvěle žije“  - ECPv6.15.20//NONSGML v1.0//EN
CALSCALE:GREGORIAN
METHOD:PUBLISH
X-WR-CALNAME: „Objev místa, kde se dobře pije, krásně spí a skvěle žije“ 
X-ORIGINAL-URL:https://nasejiznimorava.cz
X-WR-CALDESC:Akce na  „Objev místa, kde se dobře pije, krásně spí a skvěle žije“ 
REFRESH-INTERVAL;VALUE=DURATION:PT1H
X-Robots-Tag:noindex
X-PUBLISHED-TTL:PT1H
BEGIN:VTIMEZONE
TZID:Europe/Prague
BEGIN:DAYLIGHT
TZOFFSETFROM:+0100
TZOFFSETTO:+0200
TZNAME:CEST
DTSTART:20240331T010000
END:DAYLIGHT
BEGIN:STANDARD
TZOFFSETFROM:+0200
TZOFFSETTO:+0100
TZNAME:CET
DTSTART:20241027T010000
END:STANDARD
BEGIN:DAYLIGHT
TZOFFSETFROM:+0100
TZOFFSETTO:+0200
TZNAME:CEST
DTSTART:20250330T010000
END:DAYLIGHT
BEGIN:STANDARD
TZOFFSETFROM:+0200
TZOFFSETTO:+0100
TZNAME:CET
DTSTART:20251026T010000
END:STANDARD
BEGIN:DAYLIGHT
TZOFFSETFROM:+0100
TZOFFSETTO:+0200
TZNAME:CEST
DTSTART:20260329T010000
END:DAYLIGHT
BEGIN:STANDARD
TZOFFSETFROM:+0200
TZOFFSETTO:+0100
TZNAME:CET
DTSTART:20261025T010000
END:STANDARD
BEGIN:DAYLIGHT
TZOFFSETFROM:+0100
TZOFFSETTO:+0200
TZNAME:CEST
DTSTART:20270328T010000
END:DAYLIGHT
BEGIN:STANDARD
TZOFFSETFROM:+0200
TZOFFSETTO:+0100
TZNAME:CET
DTSTART:20271031T010000
END:STANDARD
END:VTIMEZONE
BEGIN:VEVENT
DTSTART;TZID=Europe/Prague:20260110T200000
DTEND;TZID=Europe/Prague:20260110T230000
DTSTAMP:20260421T095143
CREATED:20251217T151029Z
LAST-MODIFIED:20251217T151029Z
UID:40605-1768075200-1768086000@nasejiznimorava.cz
SUMMARY:ČECHOMOR
DESCRIPTION:ČECHOMOR se uskuteční dne 2026-01-10 v 20:00 v Blansko\, Dělnický dům. \n🎟️ Koupit vstupenku \n\nSkupina Čechomor patří už více než tři desetiletí k nejvýraznějším českým kapelám\, které propojují lidovou hudbu s rockem. \nDo Blanska přiváží svůj osobitý zvuk\, energii a poctivou muziku vycházející z českých a moravských kořenů. Jejich koncert nabídne sílu tradice v moderním podání.  \nČECHOMOŘI jsou: František Černý\, Karel Holas\, Jan Kolář\, Matěj Lienert\, Lukáš Čunta \nČasový harmonogram:19:00 Otevření sálu20:00 Začátek koncert ČECHOMOR \nJejich hudba zazněla i v legendárním filmu Rok ďábla\, za který kapela získala tři České lvy.  \n\nTento tip na kulturní akci v Blansko najdete v přehledu na nasejiznimorava.cz kde na jednom místě shromažďujeme desítky dalších koncertů\, festivalů\, divadelních představení i komunitních událostí z celého regionu i z celé ČR. Přehled je přehledně řazený\, pravidelně aktualizovaný a umožní vám rychle najít přesně to\, co vás zajímá – od velkých open-air akcí až po menší lokální programy. Každý si tak snadno vybere podle svého vkusu i času. Pokud vás některá akce zaujme\, nezapomeňte si včas zajistit vstupenky; stačí kliknout na detail události a budete bezpečně přesměrováni na oficiálního prodejce vstupenek..
URL:https://nasejiznimorava.cz/event/cechomor/
LOCATION:Dělnický dům\, Blansko\, Dělnický dům\, Blansko\, Česká republika
CATEGORIES:Koncert
ATTACH;FMTTYPE=image/jpeg:https://nasejiznimorava.cz/wp-content/uploads/2025/12/320-ce000ccb48f1428ba24d726e9777db4a.jpg
END:VEVENT
BEGIN:VEVENT
DTSTART;TZID=Europe/Prague:20260109T190000
DTEND;TZID=Europe/Prague:20260109T220000
DTSTAMP:20260421T095143
CREATED:20251222T193401Z
LAST-MODIFIED:20251222T193402Z
UID:40934-1767985200-1767996000@nasejiznimorava.cz
SUMMARY:Petr Tomeček / Novoroční Panova flétna
DESCRIPTION:Petr Tomeček / Novoroční Panova flétna se uskuteční dne 2026-01-09 v 19:00 v Blansko\, Zámek. \n🎟️ Koupit vstupenku \n\nSrdečně Vás zveme na slavnostní novoroční koncert\, který rozezní jedinečné prostory historického Blanenského zámku. V jejich výjimečné atmosféře se ponese okouzlující zvuk Panovy flétny – nástroje s tajemným a nadčasovým kouzlem\, jenž dokáže probouzet nejjemnější emoce. \nNa klavír zazní brilantní doprovod Václava Metoděje Uhlíře\, který svým mistrovstvím a citem pro romantickou melodiku podtrhne kouzlo tohoto mimořádného večera. \nProgram nabídne výběr českých i světových melodií\, v nichž se snoubí romantika\, krása a novoroční naděje. \nPřijďte s námi přivítat nový rok v duchu hudby\, která inspiruje a těší duši. \n\nTento tip na kulturní akci v Blansko najdete v přehledu na nasejiznimorava.cz kde na jednom místě shromažďujeme desítky dalších koncertů\, festivalů\, divadelních představení i komunitních událostí z celého regionu i z celé ČR. Přehled je přehledně řazený\, pravidelně aktualizovaný a umožní vám rychle najít přesně to\, co vás zajímá – od velkých open-air akcí až po menší lokální programy. Každý si tak snadno vybere podle svého vkusu i času. Pokud vás některá akce zaujme\, nezapomeňte si včas zajistit vstupenky; stačí kliknout na detail události a budete bezpečně přesměrováni na oficiálního prodejce vstupenek..
URL:https://nasejiznimorava.cz/event/petr-tomecek-novorocni-panova-fletna-2/
LOCATION:Zámek\, Blansko\, Zámek\, Blansko\, Česká republika
CATEGORIES:Koncert
ATTACH;FMTTYPE=image/jpeg:https://nasejiznimorava.cz/wp-content/uploads/2025/12/320-b46efe78818c4d9e80c892ca5fe268cf.jpg
END:VEVENT
BEGIN:VEVENT
DTSTART;TZID=Europe/Prague:20260107T190000
DTEND;TZID=Europe/Prague:20260107T220000
DTSTAMP:20260421T095143
CREATED:20251126T191348Z
LAST-MODIFIED:20251126T191352Z
UID:39251-1767812400-1767823200@nasejiznimorava.cz
SUMMARY:Hudba Bridgerton při svíčkách
DESCRIPTION:Hudba Bridgerton při svíčkách se uskuteční dne 2026-01-07 v 19:00 v Blansko\, Dělnický dům. \n🎟️ Koupit vstupenku \n\nNenechte si ujít večer plný romantiky a elegance\, kde zazní ty nejznámější melodie a písně z oblíbeného seriálu Bridgerton. Světlo stovky svíček vytvoří okouzlující atmosféru koncertu. \nProgram v jedinečném provedení smyčcového kvarteta představí výběr hudebních skladeb z tohoto populárního seriálu\, inspirovaných klasickými díly i moderními popovými melodiemi\, které si získaly srdce diváků po celém světě. \nTento koncert nabídne víc než jen hudbu; stovky svíček rozzáří prostor a vytvoří atmosféru plnou noblesy\, romantiky a neodolatelného kouzla historické doby. \nAkce je přístupná od 12 let. Každý účastník musí předložit platnou vstupenku  zakoupenou výhradně v síti smsticket. \n\nTento tip na kulturní akci v Blansko najdete v přehledu na nasejiznimorava.cz kde na jednom místě shromažďujeme desítky dalších koncertů\, festivalů\, divadelních představení i komunitních událostí z celého regionu i z celé ČR. Přehled je přehledně řazený\, pravidelně aktualizovaný a umožní vám rychle najít přesně to\, co vás zajímá – od velkých open-air akcí až po menší lokální programy. Každý si tak snadno vybere podle svého vkusu i času. Pokud vás některá akce zaujme\, nezapomeňte si včas zajistit vstupenky; stačí kliknout na detail události a budete bezpečně přesměrováni na oficiálního prodejce vstupenek..
URL:https://nasejiznimorava.cz/event/hudba-bridgerton-pri-svickach-8/
LOCATION:Dělnický dům\, Blansko\, Dělnický dům\, Blansko\, Česká republika
CATEGORIES:Koncert
ATTACH;FMTTYPE=image/jpeg:https://nasejiznimorava.cz/wp-content/uploads/2025/11/320-c95cb22b348d4bceb9e9cdb66d8b3a93.jpg
END:VEVENT
BEGIN:VEVENT
DTSTART;TZID=Europe/Prague:20251216T190000
DTEND;TZID=Europe/Prague:20251216T220000
DTSTAMP:20260421T095143
CREATED:20251111T155423Z
LAST-MODIFIED:20251111T155424Z
UID:37891-1765911600-1765922400@nasejiznimorava.cz
SUMMARY:KOUZLO VÁNOC - Grande Moravia Ladislava Pavluše
DESCRIPTION:KOUZLO VÁNOC – Grande Moravia Ladislava Pavluše se uskuteční dne 2025-12-16 v 19:00 v Blansko\, Dělnický dům. \n🎟️ Koupit vstupenku \n\nKOUZLO VÁNOCGrande Moravia Ladislava Pavluše&Tři Barvy – Mária Bikárová\, Eliška Trtíková\, Lucie Bikárová(alt. Leona Klempárová) \nPonořte se do kouzelné vánoční atmosféry a nechte se unést melodiemi\, které rozezní srdce i nejchladnější zimní večer.Velmi oblíbený orchestr Grande Moravia spolu s půvabným dívčím triem Tři Barvy přinášejí výběr nejkrásnějších vánočních písní\,  které vám vykouzlí úsměv na tváři a zahřejí duši. \nZažijte večer plný radosti\, hudby a společných chvil\, které rozsvítí vaše předvánoční dny. \n\nTento tip na kulturní akci v Blansko najdete v přehledu na nasejiznimorava.cz kde na jednom místě shromažďujeme desítky dalších koncertů\, festivalů\, divadelních představení i komunitních událostí z celého regionu i z celé ČR. Přehled je přehledně řazený\, pravidelně aktualizovaný a umožní vám rychle najít přesně to\, co vás zajímá – od velkých open-air akcí až po menší lokální programy. Každý si tak snadno vybere podle svého vkusu i času. Pokud vás některá akce zaujme\, nezapomeňte si včas zajistit vstupenky; stačí kliknout na detail události a budete bezpečně přesměrováni na oficiálního prodejce vstupenek..
URL:https://nasejiznimorava.cz/event/kouzlo-vanoc-grande-moravia-ladislava-pavluse-6/
LOCATION:Dělnický dům\, Blansko\, Dělnický dům\, Blansko\, Česká republika
CATEGORIES:Koncert
ATTACH;FMTTYPE=image/jpeg:https://nasejiznimorava.cz/wp-content/uploads/2025/11/320-5fb579e0380c4dffa7b09546841e23ba.jpg
END:VEVENT
BEGIN:VEVENT
DTSTART;TZID=Europe/Prague:20251209T190000
DTEND;TZID=Europe/Prague:20251209T220000
DTSTAMP:20260421T095143
CREATED:20251111T123037Z
LAST-MODIFIED:20251111T123037Z
UID:35825-1765306800-1765317600@nasejiznimorava.cz
SUMMARY:Hledám ženu\, nástup ihned
DESCRIPTION:Hledám ženu\, nástup ihned se uskuteční dne 2025-12-09 v 19:00 v Blansko\, Dělnický dům. \n🎟️ Koupit vstupenku \n\nBláznivá komedie\, která se strhne kolem jedné malé ale nutné lži. \nJim\, který žije nesezdán se svou milenkou\, pozve na návštěvu šéfa s chotí. Šéf je ovšem členem Ligy  pro morálku a nesnáší\, když jsou jeho podřízení ve svazku „na psí knížku“. Jim si tedy musí opatřit „manželku“ na jeden večer. Jeho milenka to odmítá… Do hry tedy vstupuje pitoreskní uklízečka\, Jimova snaživá asistentka a… Vír nedorozumění je roztočen… \nHrají:Jim Watt – Marek AdamczykHelena Fosterová – Marta Dancingerová / Michaela Sejnová DittrichováEdna Chapmanová – Nela BoudováTerri Pringlová – Henrieta Hornáčková / Dominika BýmováBill McGregor – Josef Carda / Karel VlčekNancy McGregorová – Vlasta Žehrová \nObvyklá délka představení je 130 minut včetně přestávky. \n\nTento tip na kulturní akci v Blansko najdete v přehledu na nasejiznimorava.cz kde na jednom místě shromažďujeme desítky dalších koncertů\, festivalů\, divadelních představení i komunitních událostí z celého regionu i z celé ČR. Přehled je přehledně řazený\, pravidelně aktualizovaný a umožní vám rychle najít přesně to\, co vás zajímá – od velkých open-air akcí až po menší lokální programy. Každý si tak snadno vybere podle svého vkusu i času. Pokud vás některá akce zaujme\, nezapomeňte si včas zajistit vstupenky; stačí kliknout na detail události a budete bezpečně přesměrováni na oficiálního prodejce vstupenek..
URL:https://nasejiznimorava.cz/event/hledam-zenu-nastup-ihned/
LOCATION:Dělnický dům\, Blansko\, Dělnický dům\, Blansko\, Česká republika
CATEGORIES:Divadlo
ATTACH;FMTTYPE=image/jpeg:https://nasejiznimorava.cz/wp-content/uploads/2025/11/320-4facbfc689db427e9747229b24750339.jpg
END:VEVENT
BEGIN:VEVENT
DTSTART;TZID=Europe/Prague:20251207T190000
DTEND;TZID=Europe/Prague:20251207T220000
DTSTAMP:20260421T095143
CREATED:20251111T130527Z
LAST-MODIFIED:20251111T130527Z
UID:36602-1765134000-1765144800@nasejiznimorava.cz
SUMMARY:LÁĎA KŘÍŽEK - Adventní koncert Blansko
DESCRIPTION:LÁĎA KŘÍŽEK – Adventní koncert Blansko se uskuteční dne 2025-12-07 v 19:00 v Blansko\, Dělnický dům. \n🎟️ Koupit vstupenku \n\nLadislav Křížek stálice československé hudební scény\, zpěvák\, skladatel\, textař a zakladatel skupiny KREYSON vystoupí v Blansku na svém adventním akustickém koncertě. \nZa více než pětatřicet let na scéně má za sebou stovky vyprodaných koncertů a sedm zlatých desek\, jednu s kapelou Citron\, tři s Kreysonem a tři se svým bratrem Miroslavem pod značkou Damiens. Je držitelem diamantové desky za víc jak půlmilionu prodaných nosičů\, celkově jich prodal přes milion\, a to nejen doma\, ale i v Evropě a Japonsku. \nNa akustickém koncertě zazní best of kapel Vitacit\, Kreyson\, Damiens\, Citron a hity z Láďovy sólové tvorby. \nZávěr koncertu bude patřit společnému vystoupení Ladislava Křížka s  dětským pěveckým sborem ZUŠ Blansko\, kdy spolu zazpívají naše krásné české koledy. \n“Těšíme se na setkání s vámi a věřím\, že společně zažijeme krásnou předvánoční atmosféru\, která pohladí naše srdce. Váš Láďa“.  \n\nTento tip na kulturní akci v Blansko najdete v přehledu na nasejiznimorava.cz kde na jednom místě shromažďujeme desítky dalších koncertů\, festivalů\, divadelních představení i komunitních událostí z celého regionu i z celé ČR. Přehled je přehledně řazený\, pravidelně aktualizovaný a umožní vám rychle najít přesně to\, co vás zajímá – od velkých open-air akcí až po menší lokální programy. Každý si tak snadno vybere podle svého vkusu i času. Pokud vás některá akce zaujme\, nezapomeňte si včas zajistit vstupenky; stačí kliknout na detail události a budete bezpečně přesměrováni na oficiálního prodejce vstupenek..
URL:https://nasejiznimorava.cz/event/lada-krizek-adventni-koncert-blansko/
LOCATION:Dělnický dům\, Blansko\, Dělnický dům\, Blansko\, Česká republika
CATEGORIES:Koncert
ATTACH;FMTTYPE=image/jpeg:https://nasejiznimorava.cz/wp-content/uploads/2025/11/320-c158b3f4e4964ecdb5eb215d710d521a.jpg
END:VEVENT
BEGIN:VEVENT
DTSTART;TZID=Europe/Prague:20251204T200000
DTEND;TZID=Europe/Prague:20251204T230000
DTSTAMP:20260421T095143
CREATED:20251123T105843Z
LAST-MODIFIED:20251123T105845Z
UID:39238-1764878400-1764889200@nasejiznimorava.cz
SUMMARY:Fanfán Tulipán
DESCRIPTION:Fanfán Tulipán  se uskuteční dne 2025-12-04 v 20:00 v Blansko\, Suterén. \n🎟️ Koupit vstupenku \n\nHravost\, originalita\, groove a neobvyklé nástroje. To je poznávací znamení Fanfána Tulipána\, nadžánrové formace s melodikou Hammond\, klavírem\, saxofonem\, estonskou citerou\, hrací skříňkou a energickou rytmikou. \nOriginální symbióza jazzu\, funku\, filmové hudby i šansonu s estonským kořením i rytmy z morseovky – Fanfánova žánrová „promiskuita“ opravdu nezná hranic! \nMůžete si zatančit s Muži v oflajnu\, projít se Komnatami ozvěny\, pohlédnout do sovích očí a zažít genius loci postindustriálních krajin Polabí  – na to vše se můžete těšit v prosinci v Suterénu.  \nFanfána založila v roce 2009 skladatelka Eliška Vidomus\, která je autorkou repertoáru – její skladby obvykle stojí na výrazných basových groovech a zpěvných melodiích. V kapele hraje na melodiku Hammond\, estonskou citeru a zpívá. Dalšími členy jsou: saxofonista Martin Forst\, pianista Petr Svoboda\, basista Pavel Husa (Bizarre Band) a bubeník Šimon Hajdovský (North Innergy). Fanfán Tulipán vystoupil na festivalech Bohemia Jazz Fest\, Jazz an der Donau\, Jazz Goes To Town\, Bratislavské jazzové dni\, na bulharském Bansko Jazz Festu nebo na rumunském festivalu SoundCzech. \n  \n\nTento tip na kulturní akci v Blansko najdete v přehledu na nasejiznimorava.cz kde na jednom místě shromažďujeme desítky dalších koncertů\, festivalů\, divadelních představení i komunitních událostí z celého regionu i z celé ČR. Přehled je přehledně řazený\, pravidelně aktualizovaný a umožní vám rychle najít přesně to\, co vás zajímá – od velkých open-air akcí až po menší lokální programy. Každý si tak snadno vybere podle svého vkusu i času. Pokud vás některá akce zaujme\, nezapomeňte si včas zajistit vstupenky; stačí kliknout na detail události a budete bezpečně přesměrováni na oficiálního prodejce vstupenek..
URL:https://nasejiznimorava.cz/event/fanfan-tulipan/
LOCATION:Suterén\, Blansko\, Suterén\, Blansko\, Česká republika
CATEGORIES:Koncert
ATTACH;FMTTYPE=image/jpeg:https://nasejiznimorava.cz/wp-content/uploads/2025/11/320-f3d8f3d46c8242e3a578306c58319bf5.jpg
END:VEVENT
BEGIN:VEVENT
DTSTART;TZID=Europe/Prague:20251122T200000
DTEND;TZID=Europe/Prague:20251122T230000
DTSTAMP:20260421T095143
CREATED:20251111T122751Z
LAST-MODIFIED:20251111T122751Z
UID:35686-1763841600-1763852400@nasejiznimorava.cz
SUMMARY:Tata Bojs
DESCRIPTION:Tata Bojs se uskuteční dne 2025-11-22 v 20:00 v Blansko\, Dělnický dům. \n🎟️ Koupit vstupenku \n\nDlouhodobě jedna z nejpopulárnějších současných českých hudebních skupin\, která vznikla už v roce 1988 na pražské Hanspaulce a která je známá svými energií nabitými koncerty. Založili ji dva spolužáci ze základní školy Milan Cais a Marek Huňát alias Mardoša. \nDeset řadových alb\, čtyři živáky z toho dva i na DVD a jeden pro stanici HBO\, jedno koncepční a jedno remixové album\, unikátní společný projekt s korejským Ahn Trio\, jedno best of\, šest reedičních vinylů\, deset cen Anděl i jiných hudebních ocenění včetně alba desetiletí (Futuretro 2000)\, spolupráce se Symfonickým Orchestrem Českého rozhlasu\, která rozběhla sérii společných koncertů s dalšími symfonickými tělesy napříč Českou republikou\, řada klipů a nespočet nejen klubových ale také výpravných halových a venkovních koncertů\, jedna velká výstava mapující třicet let existence v Centru současného umění DOX\, vizuálně dotažená a obsáhlá monografie s názvem TATALOG\, chytré texty a do detailů propracovaná hudba i produkce – nějak takhle by se ve stručnosti dala shrnout dosavadní kariéra Tata Bojs\, o kterých šel v roce 2024 do kin i celovečerní dokument Marka Najbrta. \nTata Bojs jsou: Milan Cais\, Mardoša\, Vladimír Bár\, Matěj Belko\, Dušan Neuwerth \nČasový harmonogram akce:19:00   otevření sálu20:00   začátek koncertu TATA BOJS \nNadčasová\, česká kapela oceněná hned několikrát cenou Anděl! \n\nTento tip na kulturní akci v Blansko najdete v přehledu na nasejiznimorava.cz kde na jednom místě shromažďujeme desítky dalších koncertů\, festivalů\, divadelních představení i komunitních událostí z celého regionu i z celé ČR. Přehled je přehledně řazený\, pravidelně aktualizovaný a umožní vám rychle najít přesně to\, co vás zajímá – od velkých open-air akcí až po menší lokální programy. Každý si tak snadno vybere podle svého vkusu i času. Pokud vás některá akce zaujme\, nezapomeňte si včas zajistit vstupenky; stačí kliknout na detail události a budete bezpečně přesměrováni na oficiálního prodejce vstupenek..
URL:https://nasejiznimorava.cz/event/tata-bojs/
LOCATION:Dělnický dům\, Blansko\, Dělnický dům\, Blansko\, Česká republika
CATEGORIES:Koncert
ATTACH;FMTTYPE=image/jpeg:https://nasejiznimorava.cz/wp-content/uploads/2025/11/320-7fa6fee603764be0bde87d08badeb31b.jpg
END:VEVENT
BEGIN:VEVENT
DTSTART;TZID=Europe/Prague:20251112T190000
DTEND;TZID=Europe/Prague:20251112T220000
DTSTAMP:20260421T095143
CREATED:20251111T123014Z
LAST-MODIFIED:20251111T123015Z
UID:35805-1762974000-1762984800@nasejiznimorava.cz
SUMMARY:Geniální houslista Tomáš Mach / Hudba na zámku 2025
DESCRIPTION:Geniální houslista Tomáš Mach / Hudba na zámku 2025 se uskuteční dne 2025-11-12 v 19:00 v Blansko\, Zámek. \n🎟️ Koupit vstupenku \n\nOficiální název: Geniální houslista Tomáš Mach (zastoupení Maria Prusali) \nVystupují: \nTomáš Mach – housle \nHudební kompozice Tomáše Macha jsou založeny na klasických principech a současně nezastřou silné ovlivnění mnohými hudebními styly\, s nimiž se během své kariéry setkal. Představuje tak výjimečný crossover mezi klasickou vážnou hudbou\, jazzem\, bluegrassem a různými druhy world music.Za své skladby byl několikrát oceněn v Mezinárodní kompoziční soutěži ISC v Nashvillu\, USA. Jako pedagog učil na Konzervatoři Jaroslava Ježka v Praze a na Bangkok Symphony Music School v Thajsku.Koncertoval v mnoha zemích Evropy\, v USA\, v Indii a pravidelně též v Japonsku. \n\nTento tip na kulturní akci v Blansko najdete v přehledu na nasejiznimorava.cz kde na jednom místě shromažďujeme desítky dalších koncertů\, festivalů\, divadelních představení i komunitních událostí z celého regionu i z celé ČR. Přehled je přehledně řazený\, pravidelně aktualizovaný a umožní vám rychle najít přesně to\, co vás zajímá – od velkých open-air akcí až po menší lokální programy. Každý si tak snadno vybere podle svého vkusu i času. Pokud vás některá akce zaujme\, nezapomeňte si včas zajistit vstupenky; stačí kliknout na detail události a budete bezpečně přesměrováni na oficiálního prodejce vstupenek..
URL:https://nasejiznimorava.cz/event/genialni-houslista-tomas-mach-hudba-na-zamku-2025/
LOCATION:Zámek\, Blansko\, Zámek\, Blansko\, Česká republika
CATEGORIES:Koncert
ATTACH;FMTTYPE=image/jpeg:https://nasejiznimorava.cz/wp-content/uploads/2025/11/320-190e2861fa6942209c7693f157c8a9a1.jpg
END:VEVENT
END:VCALENDAR