BEGIN:VCALENDAR
VERSION:2.0
PRODID:-// „Objev místa, kde se dobře pije, krásně spí a skvěle žije“  - ECPv6.15.20//NONSGML v1.0//EN
CALSCALE:GREGORIAN
METHOD:PUBLISH
X-ORIGINAL-URL:https://nasejiznimorava.cz
X-WR-CALDESC:Akce na  „Objev místa, kde se dobře pije, krásně spí a skvěle žije“ 
REFRESH-INTERVAL;VALUE=DURATION:PT1H
X-Robots-Tag:noindex
X-PUBLISHED-TTL:PT1H
BEGIN:VTIMEZONE
TZID:Europe/Prague
BEGIN:DAYLIGHT
TZOFFSETFROM:+0100
TZOFFSETTO:+0200
TZNAME:CEST
DTSTART:20250330T010000
END:DAYLIGHT
BEGIN:STANDARD
TZOFFSETFROM:+0200
TZOFFSETTO:+0100
TZNAME:CET
DTSTART:20251026T010000
END:STANDARD
BEGIN:DAYLIGHT
TZOFFSETFROM:+0100
TZOFFSETTO:+0200
TZNAME:CEST
DTSTART:20260329T010000
END:DAYLIGHT
BEGIN:STANDARD
TZOFFSETFROM:+0200
TZOFFSETTO:+0100
TZNAME:CET
DTSTART:20261025T010000
END:STANDARD
BEGIN:DAYLIGHT
TZOFFSETFROM:+0100
TZOFFSETTO:+0200
TZNAME:CEST
DTSTART:20270328T010000
END:DAYLIGHT
BEGIN:STANDARD
TZOFFSETFROM:+0200
TZOFFSETTO:+0100
TZNAME:CET
DTSTART:20271031T010000
END:STANDARD
END:VTIMEZONE
BEGIN:VEVENT
DTSTART;TZID=Europe/Prague:20260101T160000
DTEND;TZID=Europe/Prague:20260101T190000
DTSTAMP:20260421T130625
CREATED:20251111T131518Z
LAST-MODIFIED:20251111T131519Z
UID:36806-1767283200-1767294000@nasejiznimorava.cz
SUMMARY:Novoroční swingový koncert: Velikáni swingu
DESCRIPTION:Novoroční swingový koncert: Velikáni swingu se uskuteční dne 2026-01-01 v 16:00 v Praha\, Novogotická modlitebna církve československé. \n🎟️ Koupit vstupenku \n\nvystoupí: Swing Big Band Pražského salónního orchestru (18 vystupujících) \nprůvodní slovo a zpěv: Václav Vomáčka\, dirigent orchestru: Zdeněk Foit \nDélka koncertu: cca 75 minut\, objekt je vytápěný. \n  \nPROGRAM: \nGlenn MILLER                   American Patrol \nH. Warren/G.MILLER        At Last \nH. Warren/G.MILLER        Chattanooga Choo Choo \nW.C. HANDY/G.MILLER   St. Louis Blues \nS. WYCHE/M.Watts          All Right\, O.K. \nGlenn MILLER/MEDLEY   Moonlight Serenade \nJ. GARLAND/G.MILLER    In The Mood \nIrving BERLIN                    Alexander´s Ragtime Band \nGeorge GERSHWIN          Fascinating Rhythm \nGeorge GERSHWIN          They can´t take that away from me \nGeorge GERSHWIN          Summertime \nCole PORTER                    Too Darn Hot \n Bob THIELE                      What A Wonderful World \nDuke ELLINGTON             Caravan \nRichard RODGERS           Harlem Nocturno \n  \nkoncert trvá asi 75 minut \n(změna programu a účinkujících vyhrazena). \n  \n  \n\nTento tip na kulturní akci v Praha najdete v přehledu na nasejiznimorava.cz kde na jednom místě shromažďujeme desítky dalších koncertů\, festivalů\, divadelních představení i komunitních událostí z celého regionu i z celé ČR. Přehled je přehledně řazený\, pravidelně aktualizovaný a umožní vám rychle najít přesně to\, co vás zajímá – od velkých open-air akcí až po menší lokální programy. Každý si tak snadno vybere podle svého vkusu i času. Pokud vás některá akce zaujme\, nezapomeňte si včas zajistit vstupenky; stačí kliknout na detail události a budete bezpečně přesměrováni na oficiálního prodejce vstupenek..
URL:https://nasejiznimorava.cz/event/novorocni-swingovy-koncert-velikani-swingu/
LOCATION:Novogotická modlitebna církve československé\, Praha\, Novogotická modlitebna církve československé\, Praha\, Česká republika
CATEGORIES:Koncert
ATTACH;FMTTYPE=image/jpeg:https://nasejiznimorava.cz/wp-content/uploads/2025/11/320-23816d6c77134a779b8383b5f88262e8.jpg
END:VEVENT
BEGIN:VEVENT
DTSTART;TZID=Europe/Prague:20260122T183000
DTEND;TZID=Europe/Prague:20260122T213000
DTSTAMP:20260421T130625
CREATED:20251112T055306Z
LAST-MODIFIED:20251112T055307Z
UID:38608-1769106600-1769117400@nasejiznimorava.cz
SUMMARY:Slavné filmové melodie české i světové
DESCRIPTION:Slavné filmové melodie české i světové se uskuteční dne 2026-01-22 v 18:30 v Praha\, Novogotická modlitebna církve československé. \n🎟️ Koupit vstupenku \n\nPojďte si užít zbrusu nové nastudování krásných filmových melodií českých a zahraničních s přesahem do muzikálů a dalších žánrů do vytápěného sále Novogotické kaple ČCE (spíše divadelní sál). \n  \nKvinteto Dobře naladěni \nAnna Pacvoňová – housle\, Jana Hachranová – flétna\, Jana Rambousková – klavír\, Jan Čoňka – kytara\, Václav Hořák – kontrabas/baskytara \n. \nPROGRAM: \nGLADIÁTOR \nDOBYTÍ RÁJE \nLIMONÁDOVÝ JOE \nPANNA A NETVOR \nADÉLA JEŠTĚ NEVEČEŘELA \nDotýkat se hvězd \nTAJEMSTVÍ HRADU V KARPATECH \nPELÍŠKY – Čerešně \nFANTOM OPERY \nHERCULE POIROT \nSCHINDLERŮV SEZNAM \nCHICAGO – Hot honey rag \nTENKRÁT NA ZÁPADĚ \nSTAR WARS – Theme song \nVZPOMÍNKY NA AFRIKU \nNĚKDO TO RÁD HORKÉ \nCROCODILE ROCK \nABSOLVENT – Sound of silence \ndélka programu cca 65 minut\, změna programu vyhrazena \nUkázka: https://youtu.be/bdSUw3vyjH0?si=PkVyDvtL7iha-SlU \n  \n\nTento tip na kulturní akci v Praha najdete v přehledu na nasejiznimorava.cz kde na jednom místě shromažďujeme desítky dalších koncertů\, festivalů\, divadelních představení i komunitních událostí z celého regionu i z celé ČR. Přehled je přehledně řazený\, pravidelně aktualizovaný a umožní vám rychle najít přesně to\, co vás zajímá – od velkých open-air akcí až po menší lokální programy. Každý si tak snadno vybere podle svého vkusu i času. Pokud vás některá akce zaujme\, nezapomeňte si včas zajistit vstupenky; stačí kliknout na detail události a budete bezpečně přesměrováni na oficiálního prodejce vstupenek..
URL:https://nasejiznimorava.cz/event/slavne-filmove-melodie-ceske-i-svetove/
LOCATION:Novogotická modlitebna církve československé\, Praha\, Novogotická modlitebna církve československé\, Praha\, Česká republika
CATEGORIES:Koncert
ATTACH;FMTTYPE=image/jpeg:https://nasejiznimorava.cz/wp-content/uploads/2025/11/320-4e944a193d59482fb77f9c65f1954608.jpg
END:VEVENT
BEGIN:VEVENT
DTSTART;TZID=Europe/Prague:20260122T200000
DTEND;TZID=Europe/Prague:20260122T230000
DTSTAMP:20260421T130625
CREATED:20260117T080250Z
LAST-MODIFIED:20260117T080251Z
UID:41699-1769112000-1769122800@nasejiznimorava.cz
SUMMARY:Jana Koubková & Ondřej Kabrna
DESCRIPTION:Jana Koubková & Ondřej Kabrna se uskuteční dne 2026-01-22 v 20:00 v Praha\, Kaštan – Scéna Unijazzu . \n🎟️ Koupit vstupenku \n\nSpolupráce zpěvačky Jany Koubkové a pianisty Ondřeje Kabrny začala už v roce 2004. Společně provázejí nejen slavnými jazzovými standardy\, ale i současnou tvorbou světoznámých jazzmanů včetně vlastních skladeb a textů Jany Koubkové.  Ondřej Kabrna zde navíc nejen citlivě doprovází\, ale je též výborným sólistou. \nJana Koubková  Dnes už legendární interpretka zpívá už od svých šesti let ve sborech\, vokálních skupinách i sólově. Jako jazzová sólistka se prosadila v roce 1975 v Jazz Sanatoriu Luďka Hulana. Od té doby si prošla mnoha stylovými seskupeními. Od blues\, swingu\, mainstreamu přes bebop\, latin\, free až po world-ethno a fusion. Založila festival Vokalíza (fungoval 1981–2000) pro jazzové\, bluesové a rockové zpěváky. Šest let působila na Pražské státní konzervatoři v oboru interpretace. Zúčastnila se mnoha festivalů nejen v Evropě\, ale i na Kubě\, Alžíru\, Senegalu\, Pobřeží Slonoviny\, Libanonu\, Izraeli\, Maroku\, atd. \nOndřej Kabrnaje český jazzový pianista. Je absolventem Konzervatoře Jaroslava Ježka\, kde studoval jazzový klavír u prof. Jiřího Růžičky a kde v současné době vyučuje hudební teorii a jazzový klavír. Mimo jiné se věnuje hře na Hammond B-3 a akordeon. Je členem EU Bandu Jany Koubkové\, Latin Wave\, Bohemia Big Bandu\, Ruchadze Bandu\, Prague Session Orchestra\, VB Jazz Quartetu. Kromě své skupiny Ondřej Kabrna Trio vystupuje i po boku svých slavných českých jazzových muzikantů.  \n\nTento tip na kulturní akci v Praha najdete v přehledu na nasejiznimorava.cz kde na jednom místě shromažďujeme desítky dalších koncertů\, festivalů\, divadelních představení i komunitních událostí z celého regionu i z celé ČR. Přehled je přehledně řazený\, pravidelně aktualizovaný a umožní vám rychle najít přesně to\, co vás zajímá – od velkých open-air akcí až po menší lokální programy. Každý si tak snadno vybere podle svého vkusu i času. Pokud vás některá akce zaujme\, nezapomeňte si včas zajistit vstupenky; stačí kliknout na detail události a budete bezpečně přesměrováni na oficiálního prodejce vstupenek..
URL:https://nasejiznimorava.cz/event/jana-koubkova-ondrej-kabrna/
LOCATION:Kaštan – Scéna Unijazzu \, Praha\, Kaštan - Scéna Unijazzu \, Praha\, Česká republika
CATEGORIES:Koncert
ATTACH;FMTTYPE=image/jpeg:https://nasejiznimorava.cz/wp-content/uploads/2026/01/320-c8cc916bd1334695a59594372edf2b02.jpg
END:VEVENT
END:VCALENDAR