BEGIN:VCALENDAR
VERSION:2.0
PRODID:-// „Objev místa, kde se dobře pije, krásně spí a skvěle žije“  - ECPv6.15.20//NONSGML v1.0//EN
CALSCALE:GREGORIAN
METHOD:PUBLISH
X-WR-CALNAME: „Objev místa, kde se dobře pije, krásně spí a skvěle žije“ 
X-ORIGINAL-URL:https://nasejiznimorava.cz
X-WR-CALDESC:Akce na  „Objev místa, kde se dobře pije, krásně spí a skvěle žije“ 
REFRESH-INTERVAL;VALUE=DURATION:PT1H
X-Robots-Tag:noindex
X-PUBLISHED-TTL:PT1H
BEGIN:VTIMEZONE
TZID:Europe/Prague
BEGIN:DAYLIGHT
TZOFFSETFROM:+0100
TZOFFSETTO:+0200
TZNAME:CEST
DTSTART:20250330T010000
END:DAYLIGHT
BEGIN:STANDARD
TZOFFSETFROM:+0200
TZOFFSETTO:+0100
TZNAME:CET
DTSTART:20251026T010000
END:STANDARD
BEGIN:DAYLIGHT
TZOFFSETFROM:+0100
TZOFFSETTO:+0200
TZNAME:CEST
DTSTART:20260329T010000
END:DAYLIGHT
BEGIN:STANDARD
TZOFFSETFROM:+0200
TZOFFSETTO:+0100
TZNAME:CET
DTSTART:20261025T010000
END:STANDARD
BEGIN:DAYLIGHT
TZOFFSETFROM:+0100
TZOFFSETTO:+0200
TZNAME:CEST
DTSTART:20270328T010000
END:DAYLIGHT
BEGIN:STANDARD
TZOFFSETFROM:+0200
TZOFFSETTO:+0100
TZNAME:CET
DTSTART:20271031T010000
END:STANDARD
END:VTIMEZONE
BEGIN:VEVENT
DTSTART;TZID=Europe/Prague:20260213T193000
DTEND;TZID=Europe/Prague:20260213T223000
DTSTAMP:20260421T131642
CREATED:20260118T190213Z
LAST-MODIFIED:20260118T190214Z
UID:41827-1771011000-1771021800@nasejiznimorava.cz
SUMMARY:Jan Spálený trio
DESCRIPTION:Jan Spálený trio se uskuteční dne 2026-02-13 v 19:30 v Karlovy Vary\, Klub Paderewski. \n🎟️ Koupit vstupenku \n\n  \nJan Spálený Trio je komornější verze známějšího uskupení ASPM (Amatérské sdružení profesionálních muzikantů). To vzniklo jako trio s klavíristou a zpěváke Janem Spáleným\, kytaristou a harmonikářem Petrem Kalandrou a saxofonistou Františkem Havlíčkem v roce 1984. Po Kalandrově a Havlíčkově odchodu se Jan Spálený obklopil převážně jazzovými hráči a pokračoval v kultivaci svého originálního autorského rukopisu. \nDo Klubu Paderewski přijedou ve složení: \nJan Spálený : klávesy \nFilip Spálený: tuba\,basa \nJakub Doležal: saxofony \n  \n\nTento tip na kulturní akci v Karlovy Vary najdete v přehledu na nasejiznimorava.cz kde na jednom místě shromažďujeme desítky dalších koncertů\, festivalů\, divadelních představení i komunitních událostí z celého regionu i z celé ČR. Přehled je přehledně řazený\, pravidelně aktualizovaný a umožní vám rychle najít přesně to\, co vás zajímá – od velkých open-air akcí až po menší lokální programy. Každý si tak snadno vybere podle svého vkusu i času. Pokud vás některá akce zaujme\, nezapomeňte si včas zajistit vstupenky; stačí kliknout na detail události a budete bezpečně přesměrováni na oficiálního prodejce vstupenek..
URL:https://nasejiznimorava.cz/event/jan-spaleny-trio/
LOCATION:Klub Paderewski\, Karlovy Vary\, Klub Paderewski\, Karlovy Vary\, Česká republika
CATEGORIES:Koncert
ATTACH;FMTTYPE=image/jpeg:https://nasejiznimorava.cz/wp-content/uploads/2026/01/320-4b1b851ccd1c4b5084350d25b06cacf6.jpg
END:VEVENT
BEGIN:VEVENT
DTSTART;TZID=Europe/Prague:20260213T200000
DTEND;TZID=Europe/Prague:20260213T230000
DTSTAMP:20260421T131642
CREATED:20260103T095419Z
LAST-MODIFIED:20260103T095428Z
UID:41213-1771012800-1771023600@nasejiznimorava.cz
SUMMARY:DARRELL STANDING
DESCRIPTION:DARRELL STANDING se uskuteční dne 2026-02-13 v 20:00 v Konstantinovy Lázně\, Music club Panteon. \n🎟️ Koupit vstupenku \n\nPo dlouhých pětadvaceti letech se na scénu vrací plzeňská legenda Darrell Standing! \nKapela\, která v devadesátkách brázdila pódia od zaprášených klubů po velké festivaly\, znovu ožívá – a to v nové\, vyzrálé podobě.Tentokrát odhazují těžký rockový kabát a vracejí se k podstatě své hudební barevnosti – k jemně nakopnutému poloakustickému bluesrocku s vůní pub rocku a folkovým šarmem. Tahle kombinace dává vyniknout melodiím i osobitým textům zpěváka\, spisovatele Kamila Pešťáka\, které mají duši i příběh.Z původní sestavy se můžete těšit na kytarové dvojče Martina Tejmla a Michala Světlíka a charismatického saxofonistu Jiřího Ptáčka. Nový vítr do plachet fouká Ivan Vala (basa) a Michal Diestler (cajon) – a nutno říct\, že do rozjetého vlaku naskočili s elegancí a energií\, jako by nikdy neslezli z pódia.Darrell Standing dnes zní autenticky\, vyzrále a s radostí\, která se přenáší do každého tónu. Je to návrat\, který má smysl – poctivá muzika bez pózy\, zato srdcem naplno.Tohle stojí bezpochyby za návštěvu! \n\nTento tip na kulturní akci v Konstantinovy Lázně najdete v přehledu na nasejiznimorava.cz kde na jednom místě shromažďujeme desítky dalších koncertů\, festivalů\, divadelních představení i komunitních událostí z celého regionu i z celé ČR. Přehled je přehledně řazený\, pravidelně aktualizovaný a umožní vám rychle najít přesně to\, co vás zajímá – od velkých open-air akcí až po menší lokální programy. Každý si tak snadno vybere podle svého vkusu i času. Pokud vás některá akce zaujme\, nezapomeňte si včas zajistit vstupenky; stačí kliknout na detail události a budete bezpečně přesměrováni na oficiálního prodejce vstupenek..
URL:https://nasejiznimorava.cz/event/darrell-standing/
LOCATION:Music club Panteon\, Konstantinovy Lázně\, Music club Panteon\, Konstantinovy Lázně\, Česká republika
CATEGORIES:Koncert
ATTACH;FMTTYPE=image/jpeg:https://nasejiznimorava.cz/wp-content/uploads/2026/01/320-463b3305781d4c7c8eaab2925bff76b0.jpg
END:VEVENT
END:VCALENDAR