BEGIN:VCALENDAR
VERSION:2.0
PRODID:-// „Objev místa, kde se dobře pije, krásně spí a skvěle žije“  - ECPv6.15.20//NONSGML v1.0//EN
CALSCALE:GREGORIAN
METHOD:PUBLISH
X-WR-CALNAME: „Objev místa, kde se dobře pije, krásně spí a skvěle žije“ 
X-ORIGINAL-URL:https://nasejiznimorava.cz
X-WR-CALDESC:Akce na  „Objev místa, kde se dobře pije, krásně spí a skvěle žije“ 
REFRESH-INTERVAL;VALUE=DURATION:PT1H
X-Robots-Tag:noindex
X-PUBLISHED-TTL:PT1H
BEGIN:VTIMEZONE
TZID:Europe/Prague
BEGIN:DAYLIGHT
TZOFFSETFROM:+0100
TZOFFSETTO:+0200
TZNAME:CEST
DTSTART:20250330T010000
END:DAYLIGHT
BEGIN:STANDARD
TZOFFSETFROM:+0200
TZOFFSETTO:+0100
TZNAME:CET
DTSTART:20251026T010000
END:STANDARD
BEGIN:DAYLIGHT
TZOFFSETFROM:+0100
TZOFFSETTO:+0200
TZNAME:CEST
DTSTART:20260329T010000
END:DAYLIGHT
BEGIN:STANDARD
TZOFFSETFROM:+0200
TZOFFSETTO:+0100
TZNAME:CET
DTSTART:20261025T010000
END:STANDARD
BEGIN:DAYLIGHT
TZOFFSETFROM:+0100
TZOFFSETTO:+0200
TZNAME:CEST
DTSTART:20270328T010000
END:DAYLIGHT
BEGIN:STANDARD
TZOFFSETFROM:+0200
TZOFFSETTO:+0100
TZNAME:CET
DTSTART:20271031T010000
END:STANDARD
END:VTIMEZONE
BEGIN:VEVENT
DTSTART;TZID=Europe/Prague:20260312T200000
DTEND;TZID=Europe/Prague:20260312T230000
DTSTAMP:20260421T114919
CREATED:20251217T060018Z
LAST-MODIFIED:20251217T060021Z
UID:40556-1773345600-1773356400@nasejiznimorava.cz
SUMMARY:Longital (SK)
DESCRIPTION:Longital (SK) se uskuteční dne 2026-03-12 v 20:00 v Brno\, Stará Pekárna. \n🎟️ Koupit vstupenku \n\nLongital (SK)   Stálica česko-slovenskej alternatívnej scény\, hraví a neustále experimentujúci Longital prichádzajú predstaviť svoj štrnásty štúdiový album Krajina beží dolu vlastným brehom (Slnko Records). Novinka prináša intímnu i experimentálnu zvukovú cestu – od akustických nástrojov cez elektronické vrstvy až po jedinečný hlas. Texty otvárajú priestor pre vnútorné otázky bytia\, radosti aj pominuteľnosti a album je pozvaním k zastaveniu\, nerušenému počúvaniu a návratu k tomu\, čo je podstatné.  \n\nTento tip na kulturní akci v Brno najdete v přehledu na nasejiznimorava.cz kde na jednom místě shromažďujeme desítky dalších koncertů\, festivalů\, divadelních představení i komunitních událostí z celého regionu i z celé ČR. Přehled je přehledně řazený\, pravidelně aktualizovaný a umožní vám rychle najít přesně to\, co vás zajímá – od velkých open-air akcí až po menší lokální programy. Každý si tak snadno vybere podle svého vkusu i času. Pokud vás některá akce zaujme\, nezapomeňte si včas zajistit vstupenky; stačí kliknout na detail události a budete bezpečně přesměrováni na oficiálního prodejce vstupenek..
URL:https://nasejiznimorava.cz/event/longital-sk/
LOCATION:Stará Pekárna\, Brno\, Stará Pekárna\, Brno\, Česká republika
CATEGORIES:Koncert
ATTACH;FMTTYPE=image/jpeg:https://nasejiznimorava.cz/wp-content/uploads/2025/12/320-a1a2decb04684ac0a191767ac1b7dd73.jpg
END:VEVENT
END:VCALENDAR