BEGIN:VCALENDAR
VERSION:2.0
PRODID:-// „Objev místa, kde se dobře pije, krásně spí a skvěle žije“  - ECPv6.15.20//NONSGML v1.0//EN
CALSCALE:GREGORIAN
METHOD:PUBLISH
X-WR-CALNAME: „Objev místa, kde se dobře pije, krásně spí a skvěle žije“ 
X-ORIGINAL-URL:https://nasejiznimorava.cz
X-WR-CALDESC:Akce na  „Objev místa, kde se dobře pije, krásně spí a skvěle žije“ 
REFRESH-INTERVAL;VALUE=DURATION:PT1H
X-Robots-Tag:noindex
X-PUBLISHED-TTL:PT1H
BEGIN:VTIMEZONE
TZID:Europe/Prague
BEGIN:DAYLIGHT
TZOFFSETFROM:+0100
TZOFFSETTO:+0200
TZNAME:CEST
DTSTART:20250330T010000
END:DAYLIGHT
BEGIN:STANDARD
TZOFFSETFROM:+0200
TZOFFSETTO:+0100
TZNAME:CET
DTSTART:20251026T010000
END:STANDARD
BEGIN:DAYLIGHT
TZOFFSETFROM:+0100
TZOFFSETTO:+0200
TZNAME:CEST
DTSTART:20260329T010000
END:DAYLIGHT
BEGIN:STANDARD
TZOFFSETFROM:+0200
TZOFFSETTO:+0100
TZNAME:CET
DTSTART:20261025T010000
END:STANDARD
BEGIN:DAYLIGHT
TZOFFSETFROM:+0100
TZOFFSETTO:+0200
TZNAME:CEST
DTSTART:20270328T010000
END:DAYLIGHT
BEGIN:STANDARD
TZOFFSETFROM:+0200
TZOFFSETTO:+0100
TZNAME:CET
DTSTART:20271031T010000
END:STANDARD
END:VTIMEZONE
BEGIN:VEVENT
DTSTART;TZID=Europe/Prague:20260214T200000
DTEND;TZID=Europe/Prague:20260214T230000
DTSTAMP:20260421T142639
CREATED:20251111T160549Z
LAST-MODIFIED:20251111T160549Z
UID:38083-1771099200-1771110000@nasejiznimorava.cz
SUMMARY:Teenage Dream Party - Bratislava
DESCRIPTION:Teenage Dream Party – Bratislava se uskuteční dne 2026-02-14 v 20:00 v Bratislava\, Majestic Music Club. \n🎟️ Koupit vstupenku \n\nTEENAGE DREAM PARTY PO PRVÝKRÁT V BRATISLAVE!🎉 \nUž 14.2. prichádzame do Majetic Clubu v Bratislave s našou rozprávkovou párty! \nPríď si užiť jedinečný večer plný nostalgie\, hudby a zábavy.💃🏻 \nTeenage Dream Party nie je len obyčajná párty. Je to jedinečná príležitosť vrátiť sa späť do našich mladých čias\, keď sme s nadšením sledovali Disney rozprávky a seriály. Pripravili sme pre vás mix tých najznámejších pesničiek z Disney filmov\, ktoré nás sprevádzali počas nášho detstva.⭐️ \nCelý večer vás bude sprevádzať nielen hudba\, ale aj videoklipy a zábery z týchto ikonických rozprávok a seriálov\, ktoré budeme premietať na plátno za naším DJ-om.🎥 \nKlub bude otvorený od 20:00\, o 21:00 začínajú Disney hity s videoprojekciou.🪩 \n🎁VIP vstupenka obsahuje prednostný vstup\, VIP priestor s vlastným barom\, toaletami a Disney uškami🎁 \nMÔŽEŠ SA TEŠIŤ NA: \n\n\nvideoprojekciu🎥 \n\n\nfotoreport 📸 \n\n\ntematickú výzdobu a maskotov🐭 \n\n\nsvetelné efekty🎇 \n\n\ntematické drinky🍹 \n\n\nskvelú atmosféru🪩 \n\n\nINFO:14.2.2025📅Majestic Music Club – Bratislava 📍OPEN: 20:00⏰START: 21:00🏁Vek: 15+✅ \n\nTento tip na kulturní akci v Bratislava najdete v přehledu na nasejiznimorava.cz kde na jednom místě shromažďujeme desítky dalších koncertů\, festivalů\, divadelních představení i komunitních událostí z celého regionu i z celé ČR. Přehled je přehledně řazený\, pravidelně aktualizovaný a umožní vám rychle najít přesně to\, co vás zajímá – od velkých open-air akcí až po menší lokální programy. Každý si tak snadno vybere podle svého vkusu i času. Pokud vás některá akce zaujme\, nezapomeňte si včas zajistit vstupenky; stačí kliknout na detail události a budete bezpečně přesměrováni na oficiálního prodejce vstupenek..
URL:https://nasejiznimorava.cz/event/teenage-dream-party-bratislava/
LOCATION:Majestic Music Club\, Bratislava\, Majestic Music Club\, Bratislava\, Česká republika
CATEGORIES:Zábava
ATTACH;FMTTYPE=image/jpeg:https://nasejiznimorava.cz/wp-content/uploads/2025/11/320-c97e75515dcb4cdf96411c6d60dc389d.jpg
END:VEVENT
END:VCALENDAR