BEGIN:VCALENDAR
VERSION:2.0
PRODID:-// „Objev místa, kde se dobře pije, krásně spí a skvěle žije“  - ECPv6.15.20//NONSGML v1.0//EN
CALSCALE:GREGORIAN
METHOD:PUBLISH
X-ORIGINAL-URL:https://nasejiznimorava.cz
X-WR-CALDESC:Akce na  „Objev místa, kde se dobře pije, krásně spí a skvěle žije“ 
REFRESH-INTERVAL;VALUE=DURATION:PT1H
X-Robots-Tag:noindex
X-PUBLISHED-TTL:PT1H
BEGIN:VTIMEZONE
TZID:Europe/Prague
BEGIN:DAYLIGHT
TZOFFSETFROM:+0100
TZOFFSETTO:+0200
TZNAME:CEST
DTSTART:20250330T010000
END:DAYLIGHT
BEGIN:STANDARD
TZOFFSETFROM:+0200
TZOFFSETTO:+0100
TZNAME:CET
DTSTART:20251026T010000
END:STANDARD
BEGIN:DAYLIGHT
TZOFFSETFROM:+0100
TZOFFSETTO:+0200
TZNAME:CEST
DTSTART:20260329T010000
END:DAYLIGHT
BEGIN:STANDARD
TZOFFSETFROM:+0200
TZOFFSETTO:+0100
TZNAME:CET
DTSTART:20261025T010000
END:STANDARD
BEGIN:DAYLIGHT
TZOFFSETFROM:+0100
TZOFFSETTO:+0200
TZNAME:CEST
DTSTART:20270328T010000
END:DAYLIGHT
BEGIN:STANDARD
TZOFFSETFROM:+0200
TZOFFSETTO:+0100
TZNAME:CET
DTSTART:20271031T010000
END:STANDARD
END:VTIMEZONE
BEGIN:VEVENT
DTSTART;TZID=Europe/Prague:20260507T190000
DTEND;TZID=Europe/Prague:20260507T220000
DTSTAMP:20260421T124706
CREATED:20251111T131553Z
LAST-MODIFIED:20251111T131553Z
UID:36824-1778180400-1778191200@nasejiznimorava.cz
SUMMARY:Kurz ručních prací
DESCRIPTION:Kurz ručních prací se uskuteční dne 2026-05-07 v 19:00 v Loket\, Kulturní dům Dvorana. \n🎟️ Koupit vstupenku \n\nPět žen\, pět osudů\, pět odlišných povah. Jedno ale mají všechny společné – vědí moc dobře\, že život není peříčko. \nPříběh pojednává o osudech pěti žen z jednoho činžovního domu\, které se scházejí na kurzu ručních prací. V jejich životních příbězích najdete jak komické\, tak dramatické situace.  \nAutor: Erika Suchanová \nRežie: Jan Kaška \nHrají: Petra Jarošová\, Zdeňka Valentová\, Marie Perglová\, Eva Culková\, Veronika Bártová \nUvádí: Divadlo RÁDOseSTALO z.s. \n\nTento tip na kulturní akci v Loket najdete v přehledu na nasejiznimorava.cz kde na jednom místě shromažďujeme desítky dalších koncertů\, festivalů\, divadelních představení i komunitních událostí z celého regionu i z celé ČR. Přehled je přehledně řazený\, pravidelně aktualizovaný a umožní vám rychle najít přesně to\, co vás zajímá – od velkých open-air akcí až po menší lokální programy. Každý si tak snadno vybere podle svého vkusu i času. Pokud vás některá akce zaujme\, nezapomeňte si včas zajistit vstupenky; stačí kliknout na detail události a budete bezpečně přesměrováni na oficiálního prodejce vstupenek..
URL:https://nasejiznimorava.cz/event/kurz-rucnich-praci/
LOCATION:Kulturní dům Dvorana\, Loket\, Kulturní dům Dvorana\, Loket\, Česká republika
CATEGORIES:Divadlo
ATTACH;FMTTYPE=image/jpeg:https://nasejiznimorava.cz/wp-content/uploads/2025/11/320-038e85dab563432492daa70822c0b639.jpg
END:VEVENT
BEGIN:VEVENT
DTSTART;TZID=Europe/Prague:20260521T190000
DTEND;TZID=Europe/Prague:20260521T220000
DTSTAMP:20260421T124706
CREATED:20260121T194107Z
LAST-MODIFIED:20260121T194121Z
UID:41893-1779390000-1779400800@nasejiznimorava.cz
SUMMARY:Funny agentura – Duchem proti své vůli
DESCRIPTION:Funny agentura – Duchem proti své vůli se uskuteční dne 2026-05-21 v 19:00 v Moravský Krumlov\, Kulturní a kreativní centrum. \n🎟️ Koupit vstupenku \n\nFunny agentura – Duchem proti své vůli \nTřeskutá komedie z onoho i našeho světa. Bylo úmrtí slavné herečky přirozené\, nebo to byla vražda? A straší její duch opravdu\, nebo jen nevěrnému manželovi straší „ve věži“? A přibude ještě další oběť? A bude zlo potrestáno\, jako v každé dobré pohádce? Odpovědi se dozvíte v duchařské detektivní bláznivé komedii z pera Jakuba Zindulky. \nHrají: Ivana Jirešová\, Dana Homolová\, Jaromír Nosek\, Jakub Zindulka \nDélka představení: 1:20 \n  \n\nTento tip na kulturní akci v Moravský Krumlov najdete v přehledu na nasejiznimorava.cz kde na jednom místě shromažďujeme desítky dalších koncertů\, festivalů\, divadelních představení i komunitních událostí z celého regionu i z celé ČR. Přehled je přehledně řazený\, pravidelně aktualizovaný a umožní vám rychle najít přesně to\, co vás zajímá – od velkých open-air akcí až po menší lokální programy. Každý si tak snadno vybere podle svého vkusu i času. Pokud vás některá akce zaujme\, nezapomeňte si včas zajistit vstupenky; stačí kliknout na detail události a budete bezpečně přesměrováni na oficiálního prodejce vstupenek..
URL:https://nasejiznimorava.cz/event/funny-agentura-duchem-proti-sve-vuli/
LOCATION:Kulturní a kreativní centrum\, Moravský Krumlov\, Kulturní a kreativní centrum\, Moravský Krumlov\, Česká republika
CATEGORIES:Divadlo
ATTACH;FMTTYPE=image/jpeg:https://nasejiznimorava.cz/wp-content/uploads/2026/01/320-2349be05a50d4b208bcdc04224a960eb.jpg
END:VEVENT
BEGIN:VEVENT
DTSTART;TZID=Europe/Prague:20260522T190000
DTEND;TZID=Europe/Prague:20260522T220000
DTSTAMP:20260421T124706
CREATED:20251112T160542Z
LAST-MODIFIED:20251112T160603Z
UID:38656-1779476400-1779487200@nasejiznimorava.cz
SUMMARY:Tik Tik v Litvínově
DESCRIPTION:Tik Tik v Litvínově se uskuteční dne 2026-05-22 v 19:00 v Litvínov\, Docela velké divadlo. \n🎟️ Koupit vstupenku \n\nKomedie TIK TIK upoutá diváky hned na začátku svou neobvyklostí i živým humorem. V čekárně psychiatra se setkávají tři muži a tři ženy\, různého věku\, zaměstnání\, osudu. Spojuje je stejný problém: trpí „tikem“\, chcete-li obsedantní neurózou\, s kterou se těžko žije. Starší vydavatel chrlí v nevhodnou dobu sprostá slova\, taxikář vše přeměňuje v čísla\, žena si stále ze strachu před bakteriemi myje ruce\, druhá kontroluje kabelku a žije ve stresu\, že zapomněla vypnout plyn\, zamknout byt\, mladý muž nesmí stoupnout na čáru a dívka\, která opakuje své koncové věty. Všichni věří v pomoc světoznámého odborníka\, u kterého se museli objednat dlouho předem. Jenže ten se omluvil za zpoždění letadla a také jeho následná cesta autem znamená časové zdržení. Pacienti překonávají zábrany a seznamují se vzájemně se svými „tiky“. Během dlouhého čekání hrají i „monopoly“ a nakonec se sami pokusí o skupinovou terapii\, při které své obsese dramaticky a za fandění těch druhých alespoň na chvíli překonávají. Do komických situací probleskuje snaha o vzájemnou pomoc a pocit\, že nejsou se svými problémy sami se proměňuje v přesvědčení\, jak důležité je najít v sobě odvahu navázat přátelství\, možná i lásku… \nHrají: TEREZA KOSTKOVÁ\, JOSEF POLÁŠEK\, VÁCLAV KNOP\, KRISTÝNA FREJOVÁ\, JAROMÍR NOSEK\, EVA JOSEFÍKOVÁ / ŠÁRKA KUBÍKOVÁ \n\nTento tip na kulturní akci v Litvínov najdete v přehledu na nasejiznimorava.cz kde na jednom místě shromažďujeme desítky dalších koncertů\, festivalů\, divadelních představení i komunitních událostí z celého regionu i z celé ČR. Přehled je přehledně řazený\, pravidelně aktualizovaný a umožní vám rychle najít přesně to\, co vás zajímá – od velkých open-air akcí až po menší lokální programy. Každý si tak snadno vybere podle svého vkusu i času. Pokud vás některá akce zaujme\, nezapomeňte si včas zajistit vstupenky; stačí kliknout na detail události a budete bezpečně přesměrováni na oficiálního prodejce vstupenek..
URL:https://nasejiznimorava.cz/event/tik-tik-v-litvinove/
LOCATION:Docela velké divadlo\, Litvínov\, Docela velké divadlo\, Litvínov\, Česká republika
CATEGORIES:Divadlo
ATTACH;FMTTYPE=image/jpeg:https://nasejiznimorava.cz/wp-content/uploads/2025/11/320-01292edf1c20470a8a15e982276cd7d6.jpg
END:VEVENT
BEGIN:VEVENT
DTSTART;TZID=Europe/Prague:20260524T190000
DTEND;TZID=Europe/Prague:20260524T220000
DTSTAMP:20260421T124706
CREATED:20251111T164726Z
LAST-MODIFIED:20251111T164726Z
UID:38360-1779649200-1779660000@nasejiznimorava.cz
SUMMARY:Nejstarší řemeslo
DESCRIPTION:Nejstarší řemeslo se uskuteční dne 2026-05-24 v 19:00 v Opava\, Slezské divadlo Opava. \n🎟️ Koupit vstupenku \n\nhrají: Míša Dolinová\, Valerie Zawadská\, Zuzana Slavíková\, Jana Švandová nebo Kateřina Macháčková a Veronika Gajerová \nTragikomedie o ženách\, kterým nezbývá než dřít do roztrhání těla. \n\nTento tip na kulturní akci v Opava najdete v přehledu na nasejiznimorava.cz kde na jednom místě shromažďujeme desítky dalších koncertů\, festivalů\, divadelních představení i komunitních událostí z celého regionu i z celé ČR. Přehled je přehledně řazený\, pravidelně aktualizovaný a umožní vám rychle najít přesně to\, co vás zajímá – od velkých open-air akcí až po menší lokální programy. Každý si tak snadno vybere podle svého vkusu i času. Pokud vás některá akce zaujme\, nezapomeňte si včas zajistit vstupenky; stačí kliknout na detail události a budete bezpečně přesměrováni na oficiálního prodejce vstupenek..
URL:https://nasejiznimorava.cz/event/nejstarsi-remeslo/
LOCATION:Slezské divadlo Opava\, Opava\, Slezské divadlo Opava\, Opava\, Česká republika
CATEGORIES:Divadlo
ATTACH;FMTTYPE=image/jpeg:https://nasejiznimorava.cz/wp-content/uploads/2025/11/320-161f364b6746441380eedb960cddb053.jpg
END:VEVENT
BEGIN:VEVENT
DTSTART;TZID=Europe/Prague:20260527T190000
DTEND;TZID=Europe/Prague:20260527T220000
DTSTAMP:20260421T124706
CREATED:20260309T081522Z
LAST-MODIFIED:20260309T081525Z
UID:42310-1779908400-1779919200@nasejiznimorava.cz
SUMMARY:Sex pro pokročilé 2 aneb Vzhůru do divočiny v Chomutově
DESCRIPTION:Sex pro pokročilé 2 aneb Vzhůru do divočiny v Chomutově se uskuteční dne 2026-05-27 v 19:00 v Chomutov\, Městské divadlo. \n🎟️ Koupit vstupenku \n\nPříběh manželů Alice a Jindřicha\, které jste si oblíbili v komedii Sex pro pokročilé\, pokračuje. Tentokrát se však ze stylového hotelového pokoje\, v němž se pokoušeli pikantně oživit svůj uvadající vztah\, přesouvají do přírody. Je to tak trochu i z nouze ctnost\, jelikož rodinný rozpočet se zmenšuje. O to více se zvětšuje touha „přežít“. Ale pozor! – ne za každou cenu. \nHrají:Karel RodenJana KrausováKristýna Badinková Nováková  \nDo stereotypů dojemně směšného a zmateného páru se jako vichřice vmísí nečekaná návštěva. Nespoutaná sestra a provokativní švagrová Diana naruší Alici a Jindřichovi kempovací idylu. S jejím ironickým pohledem je slušné\, nudné\, šestadvacetileté manželství vlastně tím největším dobrodružstvím! Dianina svobodná chuť a odvaha užívat si a neustále zkoušet něco nového postupně „nakazí“ naše protagonisty životním pozitivismem a energií. A vzhůru do divočiny se nakonec změní na Vzhůru do života! \nAutorka: Michele RimlPřeklad: Jitka SloupováRežie: Darina AbrahámováScéna a kostýmy: Jana KrausováInscenace Studio DVA divadla. \n\nTento tip na kulturní akci v Chomutov najdete v přehledu na nasejiznimorava.cz kde na jednom místě shromažďujeme desítky dalších koncertů\, festivalů\, divadelních představení i komunitních událostí z celého regionu i z celé ČR. Přehled je přehledně řazený\, pravidelně aktualizovaný a umožní vám rychle najít přesně to\, co vás zajímá – od velkých open-air akcí až po menší lokální programy. Každý si tak snadno vybere podle svého vkusu i času. Pokud vás některá akce zaujme\, nezapomeňte si včas zajistit vstupenky; stačí kliknout na detail události a budete bezpečně přesměrováni na oficiálního prodejce vstupenek..
URL:https://nasejiznimorava.cz/event/sex-pro-pokrocile-2-aneb-vzhuru-do-divociny-v-chomutove/
LOCATION:Městské divadlo\, Chomutov\, Městské divadlo\, Chomutov\, Česká republika
CATEGORIES:Divadlo
ATTACH;FMTTYPE=image/jpeg:https://nasejiznimorava.cz/wp-content/uploads/2026/03/320-e46251af9a9b476a8debb8a762fad1a8.jpg
END:VEVENT
BEGIN:VEVENT
DTSTART;TZID=Europe/Prague:20260527T190000
DTEND;TZID=Europe/Prague:20260527T220000
DTSTAMP:20260421T124706
CREATED:20260403T084112Z
LAST-MODIFIED:20260403T084112Z
UID:42739-1779908400-1779919200@nasejiznimorava.cz
SUMMARY:Divadelní představení / Velká zebra
DESCRIPTION:Divadelní představení / Velká zebra se uskuteční dne 2026-05-27 v 19:00 v Hranice\, Divadlo Stará střelnice. \n🎟️ Koupit vstupenku \n\nHrají: \nChristianOndřej Vetchý \nSidonieEva Kodešová / Jitka Ježková \nMauriceJaromír Dulava \nSabineDana Černá \nGiseleMartina Hudečková \nPlissonZdeněk Vencl / Jiří Štrébl / Zdeněk Velen \n  \nChristian má „nemoc“. S každou ženou vydrží jen chvíli. Byl ženatý s Gisele\, ale po čase na něj padla hrůza a pocítil nepřekonatelnou potřebu utéct. Aby své svědomí alespoň částečně utišil\, uzavřel ve prospěch své ženy vysokou životní pojistku a předstíral\, že se na rybách utopil. \nTento trik úspěšně použil v životě dvakrát a právě se ho chystá zrealizovat potřetí. Jenomže tentokrát mu osud postaví do cesty problém v podobě přítele z dětství\, který ho pozná podle náhodné fotografie v novinách a navštíví ho. \nChristian\, který měl vždy vše dopodrobna naplánováno\, musí najednou improvizovat a ke své hrůze se ocitá tváří v tvář se svými „vdovami“ i novou snoubenkou. Podaří se mu tuto nezávidění hodnou situaci zvládnout i potřetí? \nVelká zebra: komedie o tom\, proč před problémy (ne)utíkat  \nDélka představení: 120 minut (včetně přestávky) \n\nTento tip na kulturní akci v Hranice najdete v přehledu na nasejiznimorava.cz kde na jednom místě shromažďujeme desítky dalších koncertů\, festivalů\, divadelních představení i komunitních událostí z celého regionu i z celé ČR. Přehled je přehledně řazený\, pravidelně aktualizovaný a umožní vám rychle najít přesně to\, co vás zajímá – od velkých open-air akcí až po menší lokální programy. Každý si tak snadno vybere podle svého vkusu i času. Pokud vás některá akce zaujme\, nezapomeňte si včas zajistit vstupenky; stačí kliknout na detail události a budete bezpečně přesměrováni na oficiálního prodejce vstupenek..
URL:https://nasejiznimorava.cz/event/divadelni-predstaveni-velka-zebra/
LOCATION:Divadlo Stará střelnice\, Hranice\, Divadlo Stará střelnice\, Hranice\, Česká republika
CATEGORIES:Divadlo
ATTACH;FMTTYPE=image/jpeg:https://nasejiznimorava.cz/wp-content/uploads/2026/04/320-511e8c9d8a334790bbdfa02eb0deecc0.jpg
END:VEVENT
END:VCALENDAR