BEGIN:VCALENDAR
VERSION:2.0
PRODID:-// „Objev místa, kde se dobře pije, krásně spí a skvěle žije“  - ECPv6.15.20//NONSGML v1.0//EN
CALSCALE:GREGORIAN
METHOD:PUBLISH
X-ORIGINAL-URL:https://nasejiznimorava.cz
X-WR-CALDESC:Akce na  „Objev místa, kde se dobře pije, krásně spí a skvěle žije“ 
REFRESH-INTERVAL;VALUE=DURATION:PT1H
X-Robots-Tag:noindex
X-PUBLISHED-TTL:PT1H
BEGIN:VTIMEZONE
TZID:Europe/Prague
BEGIN:DAYLIGHT
TZOFFSETFROM:+0100
TZOFFSETTO:+0200
TZNAME:CEST
DTSTART:20250330T010000
END:DAYLIGHT
BEGIN:STANDARD
TZOFFSETFROM:+0200
TZOFFSETTO:+0100
TZNAME:CET
DTSTART:20251026T010000
END:STANDARD
BEGIN:DAYLIGHT
TZOFFSETFROM:+0100
TZOFFSETTO:+0200
TZNAME:CEST
DTSTART:20260329T010000
END:DAYLIGHT
BEGIN:STANDARD
TZOFFSETFROM:+0200
TZOFFSETTO:+0100
TZNAME:CET
DTSTART:20261025T010000
END:STANDARD
BEGIN:DAYLIGHT
TZOFFSETFROM:+0100
TZOFFSETTO:+0200
TZNAME:CEST
DTSTART:20270328T010000
END:DAYLIGHT
BEGIN:STANDARD
TZOFFSETFROM:+0200
TZOFFSETTO:+0100
TZNAME:CET
DTSTART:20271031T010000
END:STANDARD
END:VTIMEZONE
BEGIN:VEVENT
DTSTART;TZID=Europe/Prague:20260227T190000
DTEND;TZID=Europe/Prague:20260227T220000
DTSTAMP:20260421T142805
CREATED:20260113T192612Z
LAST-MODIFIED:20260113T192628Z
UID:41679-1772218800-1772229600@nasejiznimorava.cz
SUMMARY:"Spolek Kašpar\, Divadlo v Celetné" - Slovácko sa nesúdí
DESCRIPTION:„Spolek Kašpar\, Divadlo v Celetné“ – Slovácko sa nesúdí  se uskuteční dne 2026-02-27 v 19:00 v Moravský Krumlov\, Kulturní a kreativní centrum. \n🎟️ Koupit vstupenku \n\n“Spolek Kašpar\, Divadlo v celetné” – Slovácko sa nesúdí s cimbálou Lašár \nPovídkový večer s koštem. Večer nejen s vínem\, ale určitě o vínu! A taky o lidech\, kteří jdou do všeho naplno. Vybrané klasické folklórní vyprávěny slováckého kronikáře Zdeňka Galušky\, které patří k dobrému moravskému vínu či slivovičce. A to vše za doprovodu šestičlenné velkopavlovické cimbálky Lašár. \nHrají: Eva Elsnerová\, Petr Halíček\, Daniel Pivoda Ondráček \nRežie Filip Nuckolls \n  \n\nTento tip na kulturní akci v Moravský Krumlov najdete v přehledu na nasejiznimorava.cz kde na jednom místě shromažďujeme desítky dalších koncertů\, festivalů\, divadelních představení i komunitních událostí z celého regionu i z celé ČR. Přehled je přehledně řazený\, pravidelně aktualizovaný a umožní vám rychle najít přesně to\, co vás zajímá – od velkých open-air akcí až po menší lokální programy. Každý si tak snadno vybere podle svého vkusu i času. Pokud vás některá akce zaujme\, nezapomeňte si včas zajistit vstupenky; stačí kliknout na detail události a budete bezpečně přesměrováni na oficiálního prodejce vstupenek..
URL:https://nasejiznimorava.cz/event/spolek-kaspar-divadlo-v-celetne-slovacko-sa-nesudi/
LOCATION:Kulturní a kreativní centrum\, Moravský Krumlov\, Kulturní a kreativní centrum\, Moravský Krumlov\, Česká republika
CATEGORIES:Koncert
ATTACH;FMTTYPE=image/jpeg:https://nasejiznimorava.cz/wp-content/uploads/2026/01/320-dd785fa0afe74d99ae82cc50ac2b5e77.jpg
END:VEVENT
END:VCALENDAR