BEGIN:VCALENDAR
VERSION:2.0
PRODID:-// „Objev místa, kde se dobře pije, krásně spí a skvěle žije“  - ECPv6.15.20//NONSGML v1.0//EN
CALSCALE:GREGORIAN
METHOD:PUBLISH
X-ORIGINAL-URL:https://nasejiznimorava.cz
X-WR-CALDESC:Akce na  „Objev místa, kde se dobře pije, krásně spí a skvěle žije“ 
REFRESH-INTERVAL;VALUE=DURATION:PT1H
X-Robots-Tag:noindex
X-PUBLISHED-TTL:PT1H
BEGIN:VTIMEZONE
TZID:Europe/Prague
BEGIN:DAYLIGHT
TZOFFSETFROM:+0100
TZOFFSETTO:+0200
TZNAME:CEST
DTSTART:20250330T010000
END:DAYLIGHT
BEGIN:STANDARD
TZOFFSETFROM:+0200
TZOFFSETTO:+0100
TZNAME:CET
DTSTART:20251026T010000
END:STANDARD
BEGIN:DAYLIGHT
TZOFFSETFROM:+0100
TZOFFSETTO:+0200
TZNAME:CEST
DTSTART:20260329T010000
END:DAYLIGHT
BEGIN:STANDARD
TZOFFSETFROM:+0200
TZOFFSETTO:+0100
TZNAME:CET
DTSTART:20261025T010000
END:STANDARD
BEGIN:DAYLIGHT
TZOFFSETFROM:+0100
TZOFFSETTO:+0200
TZNAME:CEST
DTSTART:20270328T010000
END:DAYLIGHT
BEGIN:STANDARD
TZOFFSETFROM:+0200
TZOFFSETTO:+0100
TZNAME:CET
DTSTART:20271031T010000
END:STANDARD
END:VTIMEZONE
BEGIN:VEVENT
DTSTART;TZID=Europe/Prague:20260319T190000
DTEND;TZID=Europe/Prague:20260319T220000
DTSTAMP:20260421T142902
CREATED:20251111T131521Z
LAST-MODIFIED:20251111T131522Z
UID:36817-1773946800-1773957600@nasejiznimorava.cz
SUMMARY:Sedm dní v týdnu
DESCRIPTION:Sedm dní v týdnu se uskuteční dne 2026-03-19 v 19:00 v Loket\, Kulturní dům Dvorana. \n🎟️ Koupit vstupenku \n\nV komorním dramatu se setkáváme s Edou\, starou a nemocnou ženou upoutanou na lůžko\, a Sašou\, její pečovatelkou. Tato hra je o tom\, jak se k sobě lidé chovají\, když jsou na sebe odkázaní\, a jak na nás může působit to\, co se stalo dávno. Během hry se před divákem odhaluje spletitá síť vzájemných závislostí a dávných nevyřčených pravd\, křehkost lidských vztahů\, tíha minulosti a nejednoznačnost odpuštění v situaci\, kdy se životní role nečekaně promění. \nAutorky hry Šárka Kuzebauchová a Nikola Neubauerová jsou zároveň i představitelkami hlavních rolí. \nDále hrají: Michala Gubčová\, Antonín Fedorek\, Barbora Brunnerová\, Milena Zaspalová \nUvádí: Ochotnický spolek Tady a Teď (Kraslice) \n\nTento tip na kulturní akci v Loket najdete v přehledu na nasejiznimorava.cz kde na jednom místě shromažďujeme desítky dalších koncertů\, festivalů\, divadelních představení i komunitních událostí z celého regionu i z celé ČR. Přehled je přehledně řazený\, pravidelně aktualizovaný a umožní vám rychle najít přesně to\, co vás zajímá – od velkých open-air akcí až po menší lokální programy. Každý si tak snadno vybere podle svého vkusu i času. Pokud vás některá akce zaujme\, nezapomeňte si včas zajistit vstupenky; stačí kliknout na detail události a budete bezpečně přesměrováni na oficiálního prodejce vstupenek..
URL:https://nasejiznimorava.cz/event/sedm-dni-v-tydnu/
LOCATION:Kulturní dům Dvorana\, Loket\, Kulturní dům Dvorana\, Loket\, Česká republika
CATEGORIES:Divadlo
ATTACH;FMTTYPE=image/jpeg:https://nasejiznimorava.cz/wp-content/uploads/2025/11/320-d1570f7fdde74cd5b1e8acd95980be15.jpg
END:VEVENT
BEGIN:VEVENT
DTSTART;TZID=Europe/Prague:20260319T190000
DTEND;TZID=Europe/Prague:20260319T220000
DTSTAMP:20260421T142902
CREATED:20251111T133706Z
LAST-MODIFIED:20251111T133706Z
UID:37279-1773946800-1773957600@nasejiznimorava.cz
SUMMARY:A DO PYŽAM !!!
DESCRIPTION:A DO PYŽAM !!! se uskuteční dne 2026-03-19 v 19:00 v Hlučín\, Kulturní dům. \n🎟️ Koupit vstupenku \n\nautor: Marc Camolettirežie: Jan Nosek Novákprodukce: Kulturní portál \nhrají: Libor Jeník\, Lukáš Langmajer\, Lucie Zedníčková\, Jitka Boho\, Eva Decastelo a Patrik Vojtíšek \nAby zatajil milenku před vlastní ženou\, vydává ji za milenku svého přítele. Netuší však\, že jeho přítel je zároveň milencem jeho ženy. \n\nTento tip na kulturní akci v Hlučín najdete v přehledu na nasejiznimorava.cz kde na jednom místě shromažďujeme desítky dalších koncertů\, festivalů\, divadelních představení i komunitních událostí z celého regionu i z celé ČR. Přehled je přehledně řazený\, pravidelně aktualizovaný a umožní vám rychle najít přesně to\, co vás zajímá – od velkých open-air akcí až po menší lokální programy. Každý si tak snadno vybere podle svého vkusu i času. Pokud vás některá akce zaujme\, nezapomeňte si včas zajistit vstupenky; stačí kliknout na detail události a budete bezpečně přesměrováni na oficiálního prodejce vstupenek..
URL:https://nasejiznimorava.cz/event/a-do-pyzam/
LOCATION:Kulturní dům\, Hlučín\, Kulturní dům\, Hlučín\, Česká republika
CATEGORIES:Divadlo
ATTACH;FMTTYPE=image/jpeg:https://nasejiznimorava.cz/wp-content/uploads/2025/11/320-b0f1a4cd01a8419284fbc4f45322a8ec.jpg
END:VEVENT
BEGIN:VEVENT
DTSTART;TZID=Europe/Prague:20260319T190000
DTEND;TZID=Europe/Prague:20260319T220000
DTSTAMP:20260421T142902
CREATED:20251214T080515Z
LAST-MODIFIED:20251214T080516Z
UID:40163-1773946800-1773957600@nasejiznimorava.cz
SUMMARY:Velká zebra v Bílině
DESCRIPTION:Velká zebra v Bílině se uskuteční dne 2026-03-19 v 19:00 v Bílina\, Městské divadlo Bílina. \n🎟️ Koupit vstupenku \n\nVelká zebra aneb Jak že se to jmenujete? \nKomedie o tom\, proč před problémy (ne)utíkat. \nHrají:Ondřej VetchýJaromír DulavaJitka Ježková / Eva KodešováDana ČernáMartina HudečkováZdeněk Vencl / Jiří Štrébl / Zdeněk Velen \nChristian má „nemoc“. S každou ženou vydrží jen chvíli. Byl ženatý s Gisele\, ale po čase na něj padla hrůza a pocítil nepřekonatelnou potřebu utéct. Aby své svědomí alespoň částečně utišil\, uzavřel ve prospěch své ženy vysokou životní pojistku a předstíral\, že se na rybách utopil. \nTento trik úspěšně použil v životě dvakrát a právě se ho chystá zrealizovat potřetí. Jenomže tentokrát mu osud postaví do cesty problém v podobě přítele z dětství\, který ho pozná podle náhodné fotografie v novinách a navštíví ho. \nChristian\, který měl vždy vše dopodrobna naplánováno\, musí najednou improvizovat a ke své hrůze se ocitá tváří v tvář se svými „vdovami“ i novou snoubenkou. Podaří se mu tuto nezávidění hodnou situaci zvládnout i potřetí? \nAutoři: Jean-Jacques Bricaire\, Maurice LassayquesPřeklad: Jaromír JanečekRežie: Petr Palouš \n\nTento tip na kulturní akci v Bílina najdete v přehledu na nasejiznimorava.cz kde na jednom místě shromažďujeme desítky dalších koncertů\, festivalů\, divadelních představení i komunitních událostí z celého regionu i z celé ČR. Přehled je přehledně řazený\, pravidelně aktualizovaný a umožní vám rychle najít přesně to\, co vás zajímá – od velkých open-air akcí až po menší lokální programy. Každý si tak snadno vybere podle svého vkusu i času. Pokud vás některá akce zaujme\, nezapomeňte si včas zajistit vstupenky; stačí kliknout na detail události a budete bezpečně přesměrováni na oficiálního prodejce vstupenek..
URL:https://nasejiznimorava.cz/event/velka-zebra-v-biline/
LOCATION:Městské divadlo Bílina\, Bílina\, Městské divadlo Bílina\, Bílina\, Česká republika
CATEGORIES:Divadlo
ATTACH;FMTTYPE=image/jpeg:https://nasejiznimorava.cz/wp-content/uploads/2025/12/320-ee921c42843b46e2812ff6ce258a93b6.jpg
END:VEVENT
END:VCALENDAR