BEGIN:VCALENDAR
VERSION:2.0
PRODID:-// „Objev místa, kde se dobře pije, krásně spí a skvěle žije“  - ECPv6.15.20//NONSGML v1.0//EN
CALSCALE:GREGORIAN
METHOD:PUBLISH
X-WR-CALNAME: „Objev místa, kde se dobře pije, krásně spí a skvěle žije“ 
X-ORIGINAL-URL:https://nasejiznimorava.cz
X-WR-CALDESC:Akce na  „Objev místa, kde se dobře pije, krásně spí a skvěle žije“ 
REFRESH-INTERVAL;VALUE=DURATION:PT1H
X-Robots-Tag:noindex
X-PUBLISHED-TTL:PT1H
BEGIN:VTIMEZONE
TZID:Europe/Prague
BEGIN:DAYLIGHT
TZOFFSETFROM:+0100
TZOFFSETTO:+0200
TZNAME:CEST
DTSTART:20250330T010000
END:DAYLIGHT
BEGIN:STANDARD
TZOFFSETFROM:+0200
TZOFFSETTO:+0100
TZNAME:CET
DTSTART:20251026T010000
END:STANDARD
BEGIN:DAYLIGHT
TZOFFSETFROM:+0100
TZOFFSETTO:+0200
TZNAME:CEST
DTSTART:20260329T010000
END:DAYLIGHT
BEGIN:STANDARD
TZOFFSETFROM:+0200
TZOFFSETTO:+0100
TZNAME:CET
DTSTART:20261025T010000
END:STANDARD
BEGIN:DAYLIGHT
TZOFFSETFROM:+0100
TZOFFSETTO:+0200
TZNAME:CEST
DTSTART:20270328T010000
END:DAYLIGHT
BEGIN:STANDARD
TZOFFSETFROM:+0200
TZOFFSETTO:+0100
TZNAME:CET
DTSTART:20271031T010000
END:STANDARD
END:VTIMEZONE
BEGIN:VEVENT
DTSTART;TZID=Europe/Prague:20260527T190000
DTEND;TZID=Europe/Prague:20260527T220000
DTSTAMP:20260421T142657
CREATED:20260309T081522Z
LAST-MODIFIED:20260309T081525Z
UID:42310-1779908400-1779919200@nasejiznimorava.cz
SUMMARY:Sex pro pokročilé 2 aneb Vzhůru do divočiny v Chomutově
DESCRIPTION:Sex pro pokročilé 2 aneb Vzhůru do divočiny v Chomutově se uskuteční dne 2026-05-27 v 19:00 v Chomutov\, Městské divadlo. \n🎟️ Koupit vstupenku \n\nPříběh manželů Alice a Jindřicha\, které jste si oblíbili v komedii Sex pro pokročilé\, pokračuje. Tentokrát se však ze stylového hotelového pokoje\, v němž se pokoušeli pikantně oživit svůj uvadající vztah\, přesouvají do přírody. Je to tak trochu i z nouze ctnost\, jelikož rodinný rozpočet se zmenšuje. O to více se zvětšuje touha „přežít“. Ale pozor! – ne za každou cenu. \nHrají:Karel RodenJana KrausováKristýna Badinková Nováková  \nDo stereotypů dojemně směšného a zmateného páru se jako vichřice vmísí nečekaná návštěva. Nespoutaná sestra a provokativní švagrová Diana naruší Alici a Jindřichovi kempovací idylu. S jejím ironickým pohledem je slušné\, nudné\, šestadvacetileté manželství vlastně tím největším dobrodružstvím! Dianina svobodná chuť a odvaha užívat si a neustále zkoušet něco nového postupně „nakazí“ naše protagonisty životním pozitivismem a energií. A vzhůru do divočiny se nakonec změní na Vzhůru do života! \nAutorka: Michele RimlPřeklad: Jitka SloupováRežie: Darina AbrahámováScéna a kostýmy: Jana KrausováInscenace Studio DVA divadla. \n\nTento tip na kulturní akci v Chomutov najdete v přehledu na nasejiznimorava.cz kde na jednom místě shromažďujeme desítky dalších koncertů\, festivalů\, divadelních představení i komunitních událostí z celého regionu i z celé ČR. Přehled je přehledně řazený\, pravidelně aktualizovaný a umožní vám rychle najít přesně to\, co vás zajímá – od velkých open-air akcí až po menší lokální programy. Každý si tak snadno vybere podle svého vkusu i času. Pokud vás některá akce zaujme\, nezapomeňte si včas zajistit vstupenky; stačí kliknout na detail události a budete bezpečně přesměrováni na oficiálního prodejce vstupenek..
URL:https://nasejiznimorava.cz/event/sex-pro-pokrocile-2-aneb-vzhuru-do-divociny-v-chomutove/
LOCATION:Městské divadlo\, Chomutov\, Městské divadlo\, Chomutov\, Česká republika
CATEGORIES:Divadlo
ATTACH;FMTTYPE=image/jpeg:https://nasejiznimorava.cz/wp-content/uploads/2026/03/320-e46251af9a9b476a8debb8a762fad1a8.jpg
END:VEVENT
BEGIN:VEVENT
DTSTART;TZID=Europe/Prague:20260527T190000
DTEND;TZID=Europe/Prague:20260527T220000
DTSTAMP:20260421T142657
CREATED:20260403T084112Z
LAST-MODIFIED:20260403T084112Z
UID:42739-1779908400-1779919200@nasejiznimorava.cz
SUMMARY:Divadelní představení / Velká zebra
DESCRIPTION:Divadelní představení / Velká zebra se uskuteční dne 2026-05-27 v 19:00 v Hranice\, Divadlo Stará střelnice. \n🎟️ Koupit vstupenku \n\nHrají: \nChristianOndřej Vetchý \nSidonieEva Kodešová / Jitka Ježková \nMauriceJaromír Dulava \nSabineDana Černá \nGiseleMartina Hudečková \nPlissonZdeněk Vencl / Jiří Štrébl / Zdeněk Velen \n  \nChristian má „nemoc“. S každou ženou vydrží jen chvíli. Byl ženatý s Gisele\, ale po čase na něj padla hrůza a pocítil nepřekonatelnou potřebu utéct. Aby své svědomí alespoň částečně utišil\, uzavřel ve prospěch své ženy vysokou životní pojistku a předstíral\, že se na rybách utopil. \nTento trik úspěšně použil v životě dvakrát a právě se ho chystá zrealizovat potřetí. Jenomže tentokrát mu osud postaví do cesty problém v podobě přítele z dětství\, který ho pozná podle náhodné fotografie v novinách a navštíví ho. \nChristian\, který měl vždy vše dopodrobna naplánováno\, musí najednou improvizovat a ke své hrůze se ocitá tváří v tvář se svými „vdovami“ i novou snoubenkou. Podaří se mu tuto nezávidění hodnou situaci zvládnout i potřetí? \nVelká zebra: komedie o tom\, proč před problémy (ne)utíkat  \nDélka představení: 120 minut (včetně přestávky) \n\nTento tip na kulturní akci v Hranice najdete v přehledu na nasejiznimorava.cz kde na jednom místě shromažďujeme desítky dalších koncertů\, festivalů\, divadelních představení i komunitních událostí z celého regionu i z celé ČR. Přehled je přehledně řazený\, pravidelně aktualizovaný a umožní vám rychle najít přesně to\, co vás zajímá – od velkých open-air akcí až po menší lokální programy. Každý si tak snadno vybere podle svého vkusu i času. Pokud vás některá akce zaujme\, nezapomeňte si včas zajistit vstupenky; stačí kliknout na detail události a budete bezpečně přesměrováni na oficiálního prodejce vstupenek..
URL:https://nasejiznimorava.cz/event/divadelni-predstaveni-velka-zebra/
LOCATION:Divadlo Stará střelnice\, Hranice\, Divadlo Stará střelnice\, Hranice\, Česká republika
CATEGORIES:Divadlo
ATTACH;FMTTYPE=image/jpeg:https://nasejiznimorava.cz/wp-content/uploads/2026/04/320-511e8c9d8a334790bbdfa02eb0deecc0.jpg
END:VEVENT
END:VCALENDAR