BEGIN:VCALENDAR
VERSION:2.0
PRODID:-// „Objev místa, kde se dobře pije, krásně spí a skvěle žije“  - ECPv6.15.20//NONSGML v1.0//EN
CALSCALE:GREGORIAN
METHOD:PUBLISH
X-ORIGINAL-URL:https://nasejiznimorava.cz
X-WR-CALDESC:Akce na  „Objev místa, kde se dobře pije, krásně spí a skvěle žije“ 
REFRESH-INTERVAL;VALUE=DURATION:PT1H
X-Robots-Tag:noindex
X-PUBLISHED-TTL:PT1H
BEGIN:VTIMEZONE
TZID:Europe/Prague
BEGIN:DAYLIGHT
TZOFFSETFROM:+0100
TZOFFSETTO:+0200
TZNAME:CEST
DTSTART:20250330T010000
END:DAYLIGHT
BEGIN:STANDARD
TZOFFSETFROM:+0200
TZOFFSETTO:+0100
TZNAME:CET
DTSTART:20251026T010000
END:STANDARD
BEGIN:DAYLIGHT
TZOFFSETFROM:+0100
TZOFFSETTO:+0200
TZNAME:CEST
DTSTART:20260329T010000
END:DAYLIGHT
BEGIN:STANDARD
TZOFFSETFROM:+0200
TZOFFSETTO:+0100
TZNAME:CET
DTSTART:20261025T010000
END:STANDARD
BEGIN:DAYLIGHT
TZOFFSETFROM:+0100
TZOFFSETTO:+0200
TZNAME:CEST
DTSTART:20270328T010000
END:DAYLIGHT
BEGIN:STANDARD
TZOFFSETFROM:+0200
TZOFFSETTO:+0100
TZNAME:CET
DTSTART:20271031T010000
END:STANDARD
END:VTIMEZONE
BEGIN:VEVENT
DTSTART;TZID=Europe/Prague:20260423T190000
DTEND;TZID=Europe/Prague:20260423T220000
DTSTAMP:20260421T112637
CREATED:20260121T194049Z
LAST-MODIFIED:20260121T194101Z
UID:41885-1776970800-1776981600@nasejiznimorava.cz
SUMMARY:Divadlo Sklep - Besídka
DESCRIPTION:Divadlo Sklep – Besídka se uskuteční dne 2026-04-23 v 19:00 v Moravský Krumlov\, Kulturní a kreativní centrum. \n🎟️ Koupit vstupenku \n\nDivadlo sklep – Besídka \nLegendární pražské divadlo\, jeden z pilířů polistopadové nezávislé divadelní scény a televizní tvroby a jejich legendární besídky. Tradiční představení divadla Sklep v novém podání složené z mnoha humorných výstupů\, skečů\, gagů\, písní a tanců\, které polechtají bránici i tomu největšímu morousovi a kakabusovi. \nObsazení bude upřesněno. \nDélka představení: 2 hodiny  \n  \n\nTento tip na kulturní akci v Moravský Krumlov najdete v přehledu na nasejiznimorava.cz kde na jednom místě shromažďujeme desítky dalších koncertů\, festivalů\, divadelních představení i komunitních událostí z celého regionu i z celé ČR. Přehled je přehledně řazený\, pravidelně aktualizovaný a umožní vám rychle najít přesně to\, co vás zajímá – od velkých open-air akcí až po menší lokální programy. Každý si tak snadno vybere podle svého vkusu i času. Pokud vás některá akce zaujme\, nezapomeňte si včas zajistit vstupenky; stačí kliknout na detail události a budete bezpečně přesměrováni na oficiálního prodejce vstupenek..
URL:https://nasejiznimorava.cz/event/divadlo-sklep-besidka/
LOCATION:Kulturní a kreativní centrum\, Moravský Krumlov\, Kulturní a kreativní centrum\, Moravský Krumlov\, Česká republika
CATEGORIES:Divadlo
ATTACH;FMTTYPE=image/jpeg:https://nasejiznimorava.cz/wp-content/uploads/2026/01/320-9da93f19f425470596fdb4f8cc1420b6.jpg
END:VEVENT
BEGIN:VEVENT
DTSTART;TZID=Europe/Prague:20260423T190000
DTEND;TZID=Europe/Prague:20260423T220000
DTSTAMP:20260421T112637
CREATED:20260121T194049Z
LAST-MODIFIED:20260121T194105Z
UID:41886-1776970800-1776981600@nasejiznimorava.cz
SUMMARY:Divadlo Sklep - Besídka
DESCRIPTION:Divadlo Sklep – Besídka se uskuteční dne 2026-04-23 v 19:00 v Moravský Krumlov\, Kulturní a kreativní centrum. \n🎟️ Koupit vstupenku \n\nDivadlo sklep – Besídka \nLegendární pražské divadlo\, jeden z pilířů polistopadové nezávislé divadelní scény a televizní tvroby a jejich legendární besídky. Tradiční představení divadla Sklep v novém podání složené z mnoha humorných výstupů\, skečů\, gagů\, písní a tanců\, které polechtají bránici i tomu největšímu morousovi a kakabusovi. \nObsazení bude upřesněno. \nDélka představení: 2 hodiny  \n  \n\nTento tip na kulturní akci v Moravský Krumlov najdete v přehledu na nasejiznimorava.cz kde na jednom místě shromažďujeme desítky dalších koncertů\, festivalů\, divadelních představení i komunitních událostí z celého regionu i z celé ČR. Přehled je přehledně řazený\, pravidelně aktualizovaný a umožní vám rychle najít přesně to\, co vás zajímá – od velkých open-air akcí až po menší lokální programy. Každý si tak snadno vybere podle svého vkusu i času. Pokud vás některá akce zaujme\, nezapomeňte si včas zajistit vstupenky; stačí kliknout na detail události a budete bezpečně přesměrováni na oficiálního prodejce vstupenek..
URL:https://nasejiznimorava.cz/event/divadlo-sklep-besidka-2/
LOCATION:Kulturní a kreativní centrum\, Moravský Krumlov\, Kulturní a kreativní centrum\, Moravský Krumlov\, Česká republika
CATEGORIES:Divadlo
ATTACH;FMTTYPE=image/jpeg:https://nasejiznimorava.cz/wp-content/uploads/2026/01/320-9da93f19f425470596fdb4f8cc1420b6-1.jpg
END:VEVENT
BEGIN:VEVENT
DTSTART;TZID=Europe/Prague:20260423T190000
DTEND;TZID=Europe/Prague:20260423T220000
DTSTAMP:20260421T112637
CREATED:20260226T180935Z
LAST-MODIFIED:20260226T180936Z
UID:42297-1776970800-1776981600@nasejiznimorava.cz
SUMMARY:Manželské turbulence v Liberci
DESCRIPTION:Manželské turbulence v Liberci se uskuteční dne 2026-04-23 v 19:00 v Liberec\, Dům Kultury. \n🎟️ Koupit vstupenku \n\nNejvětší turbulence nezažijete v letadle\, ale doma v ložnici. Zvlášť když žijete s policajtem. \nFrancouzská komedie od Francise Vebera (Blbec k večeři\, Muž z Acapulca\, Velký blondýn s černou botou). \nHrají:Václav VydraMichaela BadinkováJosef Carda / Antonín ProcházkaŠtěpánka Křesťanová \nPostavy Veberovy komedie mají problém udržet krok se zběsilou dobou a životní trable s nimi mávají ze strany na stranu. Norberta\, policistu hrubého zrna\, griluje Generální inspekce za nepřiměřené zákroky. Norbertova sestra Christina  má trable se svým manželem Erikem. Slavného novináře vyhodili před třemi měsíci z rádia a od té doby i přes péči psychiatrů nepromluvil. Začne ho léčit Norbert a aby toho nebylo málo\, jeho žena Sophie se přidá k sektě. A nastane ta správná turbulence. Nelze se pak divit\, že naše čtveřice nezvládne udržet rytmus hodně rychlé hudby. Ovšem nejlepší lék na depresi je\, jak jinak\, jít do všeho po hlavě.  \nFrancis Veber\, autor kultovního Blbce k večeři\, nám i ve své nejnovější komedii ukazuje\, že závratnou smršť života nám pomůže přežít jedině humor. \nAutor: Francis VeberRežie: Antonín ProcházkaPřeklad: Alexander JerieInscenace Agentury Harlekýn. \n\nTento tip na kulturní akci v Liberec najdete v přehledu na nasejiznimorava.cz kde na jednom místě shromažďujeme desítky dalších koncertů\, festivalů\, divadelních představení i komunitních událostí z celého regionu i z celé ČR. Přehled je přehledně řazený\, pravidelně aktualizovaný a umožní vám rychle najít přesně to\, co vás zajímá – od velkých open-air akcí až po menší lokální programy. Každý si tak snadno vybere podle svého vkusu i času. Pokud vás některá akce zaujme\, nezapomeňte si včas zajistit vstupenky; stačí kliknout na detail události a budete bezpečně přesměrováni na oficiálního prodejce vstupenek..
URL:https://nasejiznimorava.cz/event/manzelske-turbulence-v-liberci/
LOCATION:Dům Kultury\, Liberec\, Dům Kultury\, Liberec\, Česká republika
CATEGORIES:Divadlo
ATTACH;FMTTYPE=image/jpeg:https://nasejiznimorava.cz/wp-content/uploads/2026/02/320-20b2a3d4a9b4431aa7fdc9e8f5d9f8f0.jpg
END:VEVENT
BEGIN:VEVENT
DTSTART;TZID=Europe/Prague:20260425T180000
DTEND;TZID=Europe/Prague:20260425T210000
DTSTAMP:20260421T112637
CREATED:20260403T184526Z
LAST-MODIFIED:20260403T184526Z
UID:42760-1777140000-1777150800@nasejiznimorava.cz
SUMMARY:DEN BLBEC\, Divadlo Pecka
DESCRIPTION:DEN BLBEC\, Divadlo Pecka se uskuteční dne 2026-04-25 v 18:00 v Staré Město\, Sokolovna. \n🎟️ Koupit vstupenku \n\nRobert Bellan \nDEN BLBEC \nKrimi parodie na motivy hry W. Shakespeara Romeo a Julie \nMajor Vetchý a poručík Teplý vyšetřují záhadnou smrt dvou Shakespearovských postav – Tybalta a Merkutia. Dva rody\, oba stejně vážené\, jež vedou léta proti sobě boj\, zas vyvolaly nový nepokoj. Smrtí však klasický příběh nekončí\, smrtí začíná\, a na konci budete se smát. Nebo bát. Nebo smát a plakat. Nebo spát. Jak se vám líbí! Ale to už je jiná komedie. \nV původní Shakespearově hře Romeo a Julie figuruje celkem 27 postav. Obvykle divadla při nasazení této klasiky obsadí každého\, kdo je po ruce: vrátné\, kulisáky\, špatné herce na odpočinku\, údržbáře i děvčata z kanceláří. V této hře rozhodně tolik špatných herců neuvidíte. Z praktických i kvalitativních důvodů jsme se totiž rozhodli zahrát vám tento kus pouze v pěti lidech. Ale nebojte se\, o žádnou ze známých Shakespearovských postav ochuzeni nebudete. Dokonce jsme ještě dvě nové hlavní postavy přidali. \nA pokud se vám vlídně na tuto taškařici hledět zlíbí\, svou snahou nahradíme\, co nám chybí. \nHrají: D. Macháček\, D. Vaculík/R. Bellan\, A. Pospíchalová\, M. Horká\, V. Gabrhelík \n\nTento tip na kulturní akci v Staré Město najdete v přehledu na nasejiznimorava.cz kde na jednom místě shromažďujeme desítky dalších koncertů\, festivalů\, divadelních představení i komunitních událostí z celého regionu i z celé ČR. Přehled je přehledně řazený\, pravidelně aktualizovaný a umožní vám rychle najít přesně to\, co vás zajímá – od velkých open-air akcí až po menší lokální programy. Každý si tak snadno vybere podle svého vkusu i času. Pokud vás některá akce zaujme\, nezapomeňte si včas zajistit vstupenky; stačí kliknout na detail události a budete bezpečně přesměrováni na oficiálního prodejce vstupenek..
URL:https://nasejiznimorava.cz/event/den-blbec-divadlo-pecka/
LOCATION:Sokolovna\, Staré Město\, Sokolovna\, Staré Město\, Česká republika
CATEGORIES:Divadlo
ATTACH;FMTTYPE=image/jpeg:https://nasejiznimorava.cz/wp-content/uploads/2026/04/320-7d8e58e507154327ae985d14b4963e16.jpg
END:VEVENT
END:VCALENDAR