BEGIN:VCALENDAR
VERSION:2.0
PRODID:-// „Objev místa, kde se dobře pije, krásně spí a skvěle žije“  - ECPv6.15.20//NONSGML v1.0//EN
CALSCALE:GREGORIAN
METHOD:PUBLISH
X-WR-CALNAME: „Objev místa, kde se dobře pije, krásně spí a skvěle žije“ 
X-ORIGINAL-URL:https://nasejiznimorava.cz
X-WR-CALDESC:Akce na  „Objev místa, kde se dobře pije, krásně spí a skvěle žije“ 
REFRESH-INTERVAL;VALUE=DURATION:PT1H
X-Robots-Tag:noindex
X-PUBLISHED-TTL:PT1H
BEGIN:VTIMEZONE
TZID:Europe/Prague
BEGIN:DAYLIGHT
TZOFFSETFROM:+0100
TZOFFSETTO:+0200
TZNAME:CEST
DTSTART:20250330T010000
END:DAYLIGHT
BEGIN:STANDARD
TZOFFSETFROM:+0200
TZOFFSETTO:+0100
TZNAME:CET
DTSTART:20251026T010000
END:STANDARD
BEGIN:DAYLIGHT
TZOFFSETFROM:+0100
TZOFFSETTO:+0200
TZNAME:CEST
DTSTART:20260329T010000
END:DAYLIGHT
BEGIN:STANDARD
TZOFFSETFROM:+0200
TZOFFSETTO:+0100
TZNAME:CET
DTSTART:20261025T010000
END:STANDARD
BEGIN:DAYLIGHT
TZOFFSETFROM:+0100
TZOFFSETTO:+0200
TZNAME:CEST
DTSTART:20270328T010000
END:DAYLIGHT
BEGIN:STANDARD
TZOFFSETFROM:+0200
TZOFFSETTO:+0100
TZNAME:CET
DTSTART:20271031T010000
END:STANDARD
END:VTIMEZONE
BEGIN:VEVENT
DTSTART;TZID=Europe/Prague:20260214T180000
DTEND;TZID=Europe/Prague:20260214T210000
DTSTAMP:20260421T125447
CREATED:20251222T144348Z
LAST-MODIFIED:20251222T144351Z
UID:40747-1771092000-1771102800@nasejiznimorava.cz
SUMMARY:Valentýnský degustační večer
DESCRIPTION:Valentýnský degustační večer se uskuteční dne 2026-02-14 v 18:00 v Olomouc\, Bistro Paulus. \n🎟️ Koupit vstupenku \n\nValentýnský večer s Petrem Stokláskem. \nPřemýšlíte\, jaký dárek dát své milé/milému pod stromeček\, nebo jen tak? \nPotěšte ji/ho pozváním na valentýnskou večeři do Bistra Paulus. Pětichodové menu doplněné vinným doprovodem udělá radost všem zamilovaným. \n  \n5 CHODOVÉ DEGUSTAČNÍ MENU \nAmuse boucheCa’Bolani\, Veneto & Friuli„Ca’Bolani“ Prosecco Rosé DOC \nBurrata v tomatě s bazalkou a avokádemWilhelm Walch\, Alto Adige„Prendo“ Pinot Grigio\, Vigneti delle Dolomiti IGT 2024 \nSilný kachní vývar s shiitake houbami\, foie gras tortelliniDomaine Fritsch\, AlsaceRiesling\, Alsace AOC 2023 \nMalá bouillabaisse s rybami a mořskými plody Domaine Paris-Simoneau\, Val de Loire “OISO” Sauvignon blanc\, Touraine AOC 2024 \nDlouho pečené hovězí hrudí s lanýžovou kaší\, mladá brokoliceDe Stefani\, VenetoVenezia\, Veneto DOC (Merlot\, Cabernet Sauvignon) 2022 \nValentýnský dezertJ. Bäumer\, RheinRiesling feinherb\, Rhein\, Landwein 2024 \nTěšíme se na vás! \n  \n— \nNa každé akci bude pořizován obrazový záznam pro marketingové účely. Pořízené záznamy můžou být použity zejména na našem webu a sociálních sítích. \n  \n\nTento tip na kulturní akci v Olomouc najdete v přehledu na nasejiznimorava.cz kde na jednom místě shromažďujeme desítky dalších koncertů\, festivalů\, divadelních představení i komunitních událostí z celého regionu i z celé ČR. Přehled je přehledně řazený\, pravidelně aktualizovaný a umožní vám rychle najít přesně to\, co vás zajímá – od velkých open-air akcí až po menší lokální programy. Každý si tak snadno vybere podle svého vkusu i času. Pokud vás některá akce zaujme\, nezapomeňte si včas zajistit vstupenky; stačí kliknout na detail události a budete bezpečně přesměrováni na oficiálního prodejce vstupenek..
URL:https://nasejiznimorava.cz/event/valentynsky-degustacni-vecer/
LOCATION:Bistro Paulus\, Olomouc\, Bistro Paulus\, Olomouc\, Česká republika
CATEGORIES:Festival
ATTACH;FMTTYPE=image/jpeg:https://nasejiznimorava.cz/wp-content/uploads/2025/12/320-cf7dbb9242f944c0817805871d64bf85.jpg
END:VEVENT
BEGIN:VEVENT
DTSTART;TZID=Europe/Prague:20260226T193000
DTEND;TZID=Europe/Prague:20260226T223000
DTSTAMP:20260421T125447
CREATED:20260117T080249Z
LAST-MODIFIED:20260117T080250Z
UID:41691-1772134200-1772145000@nasejiznimorava.cz
SUMMARY:Na Stojáka Kunštát
DESCRIPTION:Na Stojáka Kunštát se uskuteční dne 2026-02-26 v 19:30 v Kunštát\, Kulturní dům. \n🎟️ Koupit vstupenku \n\nStand-up večer v Kunštátu: Smích\, který rozvibruje kulturní dům \nVe čtvrtek 26. února od 19:30 se Kulturní dům Kunštát promění v epicentrum humoru\, kde nebude nouze o ostré postřehy\, absurdní historky ani salvy smíchu. \nNa scénu nastoupí:🔸 Tigran Hovakimyan – mistr situací\, které byste sami nezažili\, ale budete rádi\, že o nich slyšíte.🔸 Daniel Čech – suchý humor? Možná. Sucho v hledišti? Nikdy.🔸 Petr Vydra – analytik života\, který vám i běžný den v trafice dokáže rozebrat na filozofický epos. \nPřijďte si odpočinout\, zasmát se a na chvíli zapomenout\, že únor je nejkratší měsíc v roce. \nBar bude otevřen\, pointy připraveny\, mikrofony nabité. Jediné\, co chybí\, jste vy. \n\nTento tip na kulturní akci v Kunštát najdete v přehledu na nasejiznimorava.cz kde na jednom místě shromažďujeme desítky dalších koncertů\, festivalů\, divadelních představení i komunitních událostí z celého regionu i z celé ČR. Přehled je přehledně řazený\, pravidelně aktualizovaný a umožní vám rychle najít přesně to\, co vás zajímá – od velkých open-air akcí až po menší lokální programy. Každý si tak snadno vybere podle svého vkusu i času. Pokud vás některá akce zaujme\, nezapomeňte si včas zajistit vstupenky; stačí kliknout na detail události a budete bezpečně přesměrováni na oficiálního prodejce vstupenek..
URL:https://nasejiznimorava.cz/event/na-stojaka-kunstat/
LOCATION:Kulturní dům\, Kunštát\, Kulturní dům\, Kunštát\, Česká republika
CATEGORIES:Festival
ATTACH;FMTTYPE=image/jpeg:https://nasejiznimorava.cz/wp-content/uploads/2026/01/320-0202e1f45b8d447fa9ac0ab0990f1f44.jpg
END:VEVENT
BEGIN:VEVENT
DTSTART;TZID=Europe/Prague:20260228T093000
DTEND;TZID=Europe/Prague:20260228T123000
DTSTAMP:20260421T125447
CREATED:20251214T083547Z
LAST-MODIFIED:20251214T083548Z
UID:40326-1772271000-1772281800@nasejiznimorava.cz
SUMMARY:Slavnosti moravského uzeného v Brně 2026
DESCRIPTION:Slavnosti moravského uzeného v Brně 2026 se uskuteční dne 2026-02-28 v 09:30 v Veverská Bítýška\, Státní Hrad Veveří. \n🎟️ Koupit vstupenku \n\nŽádné stání ve frontě\, se vstupenkou z předprodeje rovnou za uzeným. \nZakupte si vstupenku a využíjte ji v sobotu nebo v neděli. \nNejvětší uzenářsko-vinařská show (možná) na světě\, v Česku určitě.   \nV neděli speciální dětský program a rodinné vstupné! \n  \nSlavnosti moravského uzeného na hradě Veveří – 12. ročník!  \nPřijďte si užít jedinečný gurmánský zážitek s dlouholetou tradicí. V roce 2026 budeme slavit už 12. ročník této mimořádné akce\, která je jediná svého druhu v celé České republice\, možná dokonce na světě!  \nNa co se můžete těšit? Nejlepší uzenáři z celé Moravy vám představí své mistrovské uzené výrobky\, které budete moci ochutnat a zakoupit\, chystáme novou pivní zónu s vyhlášenými minipivovary. K tomu se připojí vinařský stan s těmi nejlepšími víny z jižní Moravy\, která dokonale doplní chuť našich uzených specialit.  \nNechybí ani řemeslný a food trh plný regionálních pochoutek\, a v naší food zóně se můžete těšit na vymazlená jídla z uzeného masa. Pivní nadšenci ocení ochutnávky od minipivovarů\, které přivezou to nejlepší z řemeslného piva.  \nV neděli speciální dětský program a rodinné vstupné! \n\nsoutěžní ochutnávka uzeného od předních moravských podniků – hlasování o Uzenářského krále roku\nrodinná vinařství nabízejí svá skvělá vína\nsoutěž neprofesionálů o nejlepší moravské uzené\nrozsáhlá nabídka klobás a dalších moravských uzenářských výrobků\nneděle pro rodiny s dětmi\njak se co dělá? moravská zabíjačka\, workshopy s mistry řezníky\npolévka zdarma pro každého\nsoutěže a program pro děti\n\nZakoupením vstupenky souhlasíte s návštěvním řádem akce \n\nTento tip na kulturní akci v Veverská Bítýška najdete v přehledu na nasejiznimorava.cz kde na jednom místě shromažďujeme desítky dalších koncertů\, festivalů\, divadelních představení i komunitních událostí z celého regionu i z celé ČR. Přehled je přehledně řazený\, pravidelně aktualizovaný a umožní vám rychle najít přesně to\, co vás zajímá – od velkých open-air akcí až po menší lokální programy. Každý si tak snadno vybere podle svého vkusu i času. Pokud vás některá akce zaujme\, nezapomeňte si včas zajistit vstupenky; stačí kliknout na detail události a budete bezpečně přesměrováni na oficiálního prodejce vstupenek..
URL:https://nasejiznimorava.cz/event/slavnosti-moravskeho-uzeneho-v-brne-2026/
LOCATION:Státní Hrad Veveří\, Veverská Bítýška\, Státní Hrad Veveří\, Veverská Bítýška\, Česká republika
CATEGORIES:Festival
ATTACH;FMTTYPE=image/jpeg:https://nasejiznimorava.cz/wp-content/uploads/2025/12/320-95bbf45810fc48418d2dba6a3d3176ba.jpg
END:VEVENT
END:VCALENDAR