BEGIN:VCALENDAR
VERSION:2.0
PRODID:-// „Objev místa, kde se dobře pije, krásně spí a skvěle žije“  - ECPv6.15.20//NONSGML v1.0//EN
CALSCALE:GREGORIAN
METHOD:PUBLISH
X-ORIGINAL-URL:https://nasejiznimorava.cz
X-WR-CALDESC:Akce na  „Objev místa, kde se dobře pije, krásně spí a skvěle žije“ 
REFRESH-INTERVAL;VALUE=DURATION:PT1H
X-Robots-Tag:noindex
X-PUBLISHED-TTL:PT1H
BEGIN:VTIMEZONE
TZID:Europe/Prague
BEGIN:DAYLIGHT
TZOFFSETFROM:+0100
TZOFFSETTO:+0200
TZNAME:CEST
DTSTART:20250330T010000
END:DAYLIGHT
BEGIN:STANDARD
TZOFFSETFROM:+0200
TZOFFSETTO:+0100
TZNAME:CET
DTSTART:20251026T010000
END:STANDARD
BEGIN:DAYLIGHT
TZOFFSETFROM:+0100
TZOFFSETTO:+0200
TZNAME:CEST
DTSTART:20260329T010000
END:DAYLIGHT
BEGIN:STANDARD
TZOFFSETFROM:+0200
TZOFFSETTO:+0100
TZNAME:CET
DTSTART:20261025T010000
END:STANDARD
BEGIN:DAYLIGHT
TZOFFSETFROM:+0100
TZOFFSETTO:+0200
TZNAME:CEST
DTSTART:20270328T010000
END:DAYLIGHT
BEGIN:STANDARD
TZOFFSETFROM:+0200
TZOFFSETTO:+0100
TZNAME:CET
DTSTART:20271031T010000
END:STANDARD
END:VTIMEZONE
BEGIN:VEVENT
DTSTART;TZID=Europe/Prague:20260131T093000
DTEND;TZID=Europe/Prague:20260131T123000
DTSTAMP:20260421T142937
CREATED:20251214T091805Z
LAST-MODIFIED:20251214T091806Z
UID:40343-1769851800-1769862600@nasejiznimorava.cz
SUMMARY:Slavnosti moravského uzeného v Praze 2026
DESCRIPTION:Slavnosti moravského uzeného v Praze 2026 se uskuteční dne 2026-01-31 v 09:30 v Praha\, Troya – Trojský pivovar. \n🎟️ Koupit vstupenku \n\nŽádné stání ve frontě\, se vstupenkou z předprodeje rovnou za uzeným. \nSlavnosti moravského uzeného poprvé v Praze! \nPřijďte si užít jedinečný gurmánský zážitek \nNa co se můžete těšit? Nejlepší uzenáři z celé Moravy vám představí své mistrovské uzené výrobky\, které budete moci ochutnat a zakoupit\, zapít dobrým pivem od minipivovarů nebo se osobně setkat a ochutnat vína od morvaksých vinařů. \nNechybí ani  food trh plný regionálních pochoutek\, a v naší food zóně se můžete těšit na vymazlená jídla z uzeného masa.  \n\nsoutěžní ochutnávka uzeného od předních moravských podniků – hlasování o Uzenářského krále roku\nrodinná vinařství nabízejí svá skvělá vína\nrozsáhlá nabídka klobás a dalších moravských uzenářských výrobků\njak se co dělá? moravská zabíjačka\, workshopy s mistry řezníky\npolévka zdarma pro každého\nsoutěže a program pro děti\n\n  \n\nTento tip na kulturní akci v Praha najdete v přehledu na nasejiznimorava.cz kde na jednom místě shromažďujeme desítky dalších koncertů\, festivalů\, divadelních představení i komunitních událostí z celého regionu i z celé ČR. Přehled je přehledně řazený\, pravidelně aktualizovaný a umožní vám rychle najít přesně to\, co vás zajímá – od velkých open-air akcí až po menší lokální programy. Každý si tak snadno vybere podle svého vkusu i času. Pokud vás některá akce zaujme\, nezapomeňte si včas zajistit vstupenky; stačí kliknout na detail události a budete bezpečně přesměrováni na oficiálního prodejce vstupenek..
URL:https://nasejiznimorava.cz/event/slavnosti-moravskeho-uzeneho-v-praze-2026/
LOCATION:Troya – Trojský pivovar\, Praha\, Troya – Trojský pivovar\, Praha\, Česká republika
CATEGORIES:Festival
ATTACH;FMTTYPE=image/jpeg:https://nasejiznimorava.cz/wp-content/uploads/2025/12/320-edfb47aa0dc244cf8dc5cd5e3d174395.jpg
END:VEVENT
END:VCALENDAR