BEGIN:VCALENDAR
VERSION:2.0
PRODID:-// „Objev místa, kde se dobře pije, krásně spí a skvěle žije“  - ECPv6.15.20//NONSGML v1.0//EN
CALSCALE:GREGORIAN
METHOD:PUBLISH
X-ORIGINAL-URL:https://nasejiznimorava.cz
X-WR-CALDESC:Akce na  „Objev místa, kde se dobře pije, krásně spí a skvěle žije“ 
REFRESH-INTERVAL;VALUE=DURATION:PT1H
X-Robots-Tag:noindex
X-PUBLISHED-TTL:PT1H
BEGIN:VTIMEZONE
TZID:Europe/Prague
BEGIN:DAYLIGHT
TZOFFSETFROM:+0100
TZOFFSETTO:+0200
TZNAME:CEST
DTSTART:20250330T010000
END:DAYLIGHT
BEGIN:STANDARD
TZOFFSETFROM:+0200
TZOFFSETTO:+0100
TZNAME:CET
DTSTART:20251026T010000
END:STANDARD
BEGIN:DAYLIGHT
TZOFFSETFROM:+0100
TZOFFSETTO:+0200
TZNAME:CEST
DTSTART:20260329T010000
END:DAYLIGHT
BEGIN:STANDARD
TZOFFSETFROM:+0200
TZOFFSETTO:+0100
TZNAME:CET
DTSTART:20261025T010000
END:STANDARD
BEGIN:DAYLIGHT
TZOFFSETFROM:+0100
TZOFFSETTO:+0200
TZNAME:CEST
DTSTART:20270328T010000
END:DAYLIGHT
BEGIN:STANDARD
TZOFFSETFROM:+0200
TZOFFSETTO:+0100
TZNAME:CET
DTSTART:20271031T010000
END:STANDARD
END:VTIMEZONE
BEGIN:VEVENT
DTSTART;TZID=Europe/Prague:20260523T100000
DTEND;TZID=Europe/Prague:20260523T130000
DTSTAMP:20260421T125929
CREATED:20260209T141408Z
LAST-MODIFIED:20260209T141409Z
UID:42084-1779530400-1779541200@nasejiznimorava.cz
SUMMARY:Za vínem na Podluží
DESCRIPTION:Za vínem na Podluží se uskuteční dne 2026-05-23 v 10:00 v Tvrdonice\, Tvrdonice a Kostice. \n🎟️ Koupit vstupenku \n\nObce Tvrdonice a Kostice ležící v samotném srdci Podluží\, nepatří svou rozlohou vinic k velikánům. Avšak vína zdejších vinařů dosahují výborných kvalit\, o čem svědčí úspěchy na tuzemských i zahraničních výstavách. Své sklepy otevře na 18 drobných i profi vinařů\, z obou obcí. Naleznete zde i vína pod značkou BIO. Přijdte si sami udělat názor na kvalitu zdejších vín. Ochutnat místní speciality\, zdejší praženou kávu\, pivo ze Slovácka\, či delikatesy ze samotné Calabrie. Z dobrým vínem a písničkou na rtech při cimbálové muzice\, či jiné živé produkci. V ceně vstupenky je zahrnut i převoz mezi sklepy koňským povozem. \n\nTento tip na kulturní akci v Tvrdonice najdete v přehledu na nasejiznimorava.cz kde na jednom místě shromažďujeme desítky dalších koncertů\, festivalů\, divadelních představení i komunitních událostí z celého regionu i z celé ČR. Přehled je přehledně řazený\, pravidelně aktualizovaný a umožní vám rychle najít přesně to\, co vás zajímá – od velkých open-air akcí až po menší lokální programy. Každý si tak snadno vybere podle svého vkusu i času. Pokud vás některá akce zaujme\, nezapomeňte si včas zajistit vstupenky; stačí kliknout na detail události a budete bezpečně přesměrováni na oficiálního prodejce vstupenek..
URL:https://nasejiznimorava.cz/event/za-vinem-na-podluzi/
LOCATION:Tvrdonice a Kostice\, Tvrdonice\, Tvrdonice a Kostice\, Tvrdonice\, Česká republika
CATEGORIES:Festival
ATTACH;FMTTYPE=image/jpeg:https://nasejiznimorava.cz/wp-content/uploads/2026/02/320-4fbe9b5d48c342199ef38d6e1855da85.jpg
END:VEVENT
BEGIN:VEVENT
DTSTART;TZID=Europe/Prague:20260523T130000
DTEND;TZID=Europe/Prague:20260523T160000
DTSTAMP:20260421T125929
CREATED:20251112T055304Z
LAST-MODIFIED:20251112T055306Z
UID:38602-1779541200-1779552000@nasejiznimorava.cz
SUMMARY:MudFest 2026
DESCRIPTION:MudFest 2026 se uskuteční dne 2026-05-23 v 13:00 v Louny\, Restaurace – letní parket Stromovka. \n🎟️ Koupit vstupenku \n\nNový festival zaměřený na nejen extrémně metalovou scénu který se koná v Lounech na Stromovce. Druhý ročník na novém místě!!Nástupce původního METAL ATACKu konaného v České LípěNové místo\, nové možnosti\, nový začátek \n\nTento tip na kulturní akci v Louny najdete v přehledu na nasejiznimorava.cz kde na jednom místě shromažďujeme desítky dalších koncertů\, festivalů\, divadelních představení i komunitních událostí z celého regionu i z celé ČR. Přehled je přehledně řazený\, pravidelně aktualizovaný a umožní vám rychle najít přesně to\, co vás zajímá – od velkých open-air akcí až po menší lokální programy. Každý si tak snadno vybere podle svého vkusu i času. Pokud vás některá akce zaujme\, nezapomeňte si včas zajistit vstupenky; stačí kliknout na detail události a budete bezpečně přesměrováni na oficiálního prodejce vstupenek..
URL:https://nasejiznimorava.cz/event/mudfest-2026/
LOCATION:Restaurace – letní parket Stromovka\, Louny\, Restaurace - letní parket Stromovka\, Louny\, Česká republika
CATEGORIES:Festival
ATTACH;FMTTYPE=image/jpeg:https://nasejiznimorava.cz/wp-content/uploads/2025/11/320-dda4e96bb5bf404db79603d95847b685.jpg
END:VEVENT
BEGIN:VEVENT
DTSTART;TZID=Europe/Prague:20260523T130000
DTEND;TZID=Europe/Prague:20260523T160000
DTSTAMP:20260421T125929
CREATED:20260209T141855Z
LAST-MODIFIED:20260209T141856Z
UID:42088-1779541200-1779552000@nasejiznimorava.cz
SUMMARY:Hronov Park Fest
DESCRIPTION:Hronov Park Fest  se uskuteční dne 2026-05-23 v 13:00 v Hronov\, Park Aloise Jiráska. \n🎟️ Koupit vstupenku \n\nHronov park fest se koná v nadherném prostředí Jiráskova parku. Tento park se nachází v těsné blízkosti náměstí centra Hronov. Jedná se již o 4.ročník této akce. Pro návštěvníky je připraven bohatý hudební program. Spousta dobrého pití a jídla je samozřejmostí. Do areálu je možno vzít deku či vlastní židličku. Přísný zákaz je v nášení vlastního jídla a pití.Vstup do areálu je od 13.00 hodin. \nVstupné pro děti je do 10 let 100kč – vstupné se platí na místě.Pro děti bude připraveno malování na obličej\,skákací hrady či skluzavky. Toto platí pouze v čase od 13.00 – 17.00 hodin. \n\nTento tip na kulturní akci v Hronov najdete v přehledu na nasejiznimorava.cz kde na jednom místě shromažďujeme desítky dalších koncertů\, festivalů\, divadelních představení i komunitních událostí z celého regionu i z celé ČR. Přehled je přehledně řazený\, pravidelně aktualizovaný a umožní vám rychle najít přesně to\, co vás zajímá – od velkých open-air akcí až po menší lokální programy. Každý si tak snadno vybere podle svého vkusu i času. Pokud vás některá akce zaujme\, nezapomeňte si včas zajistit vstupenky; stačí kliknout na detail události a budete bezpečně přesměrováni na oficiálního prodejce vstupenek..
URL:https://nasejiznimorava.cz/event/hronov-park-fest/
LOCATION:Park Aloise Jiráska\, Hronov\, Park Aloise Jiráska\, Hronov\, Česká republika
CATEGORIES:Festival
ATTACH;FMTTYPE=image/jpeg:https://nasejiznimorava.cz/wp-content/uploads/2026/02/320-d454bb9bdcd8467799dca4fd0a2dd4db.jpg
END:VEVENT
BEGIN:VEVENT
DTSTART;TZID=Europe/Prague:20260523T130000
DTEND;TZID=Europe/Prague:20260523T160000
DTSTAMP:20260421T125929
CREATED:20260402T183247Z
LAST-MODIFIED:20260402T183250Z
UID:42520-1779541200-1779552000@nasejiznimorava.cz
SUMMARY:Festival Koletova Rtyně 2026
DESCRIPTION:Festival Koletova Rtyně 2026 se uskuteční dne 2026-05-23 v 13:00 v Rtyně v Podkrkonoší\, Přírodní areál. \n🎟️ Koupit vstupenku \n\nJubilejní 60. ročník hudebního festivalu\, který je plný dobré muziky\, občerstvení a zábavy pro celou rodinu. \nPořádá Město Rtyně v Podkrkonoší ve spolupráci s týmem dobrovolníků včetně Koletovy hornické hudby. \nTěšit se můžete na Promenádní koncerty orchestrů ZUŠ na náměstí\, Hvězdicový průvod městem\, koncerty orchestrů z celé České republiky i na tradiční závěrečný monstrkoncert. Večerní zábava v doprovodu skvělých kapel rovněž nemůže chybět. \n\nTento tip na kulturní akci v Rtyně v Podkrkonoší najdete v přehledu na nasejiznimorava.cz kde na jednom místě shromažďujeme desítky dalších koncertů\, festivalů\, divadelních představení i komunitních událostí z celého regionu i z celé ČR. Přehled je přehledně řazený\, pravidelně aktualizovaný a umožní vám rychle najít přesně to\, co vás zajímá – od velkých open-air akcí až po menší lokální programy. Každý si tak snadno vybere podle svého vkusu i času. Pokud vás některá akce zaujme\, nezapomeňte si včas zajistit vstupenky; stačí kliknout na detail události a budete bezpečně přesměrováni na oficiálního prodejce vstupenek..
URL:https://nasejiznimorava.cz/event/festival-koletova-rtyne-2026/
LOCATION:Přírodní areál\, Rtyně v Podkrkonoší\, Přírodní areál\, Rtyně v Podkrkonoší\, Česká republika
CATEGORIES:Festival
ATTACH;FMTTYPE=image/jpeg:https://nasejiznimorava.cz/wp-content/uploads/2026/04/320-5df8ebd637444db682305833e8e822d1.jpg
END:VEVENT
END:VCALENDAR