BEGIN:VCALENDAR
VERSION:2.0
PRODID:-// „Objev místa, kde se dobře pije, krásně spí a skvěle žije“  - ECPv6.15.20//NONSGML v1.0//EN
CALSCALE:GREGORIAN
METHOD:PUBLISH
X-ORIGINAL-URL:https://nasejiznimorava.cz
X-WR-CALDESC:Akce na  „Objev místa, kde se dobře pije, krásně spí a skvěle žije“ 
REFRESH-INTERVAL;VALUE=DURATION:PT1H
X-Robots-Tag:noindex
X-PUBLISHED-TTL:PT1H
BEGIN:VTIMEZONE
TZID:Europe/Prague
BEGIN:DAYLIGHT
TZOFFSETFROM:+0100
TZOFFSETTO:+0200
TZNAME:CEST
DTSTART:20250330T010000
END:DAYLIGHT
BEGIN:STANDARD
TZOFFSETFROM:+0200
TZOFFSETTO:+0100
TZNAME:CET
DTSTART:20251026T010000
END:STANDARD
BEGIN:DAYLIGHT
TZOFFSETFROM:+0100
TZOFFSETTO:+0200
TZNAME:CEST
DTSTART:20260329T010000
END:DAYLIGHT
BEGIN:STANDARD
TZOFFSETFROM:+0200
TZOFFSETTO:+0100
TZNAME:CET
DTSTART:20261025T010000
END:STANDARD
BEGIN:DAYLIGHT
TZOFFSETFROM:+0100
TZOFFSETTO:+0200
TZNAME:CEST
DTSTART:20270328T010000
END:DAYLIGHT
BEGIN:STANDARD
TZOFFSETFROM:+0200
TZOFFSETTO:+0100
TZNAME:CET
DTSTART:20271031T010000
END:STANDARD
END:VTIMEZONE
BEGIN:VEVENT
DTSTART;TZID=Europe/Prague:20260606T160000
DTEND;TZID=Europe/Prague:20260606T190000
DTSTAMP:20260421T142946
CREATED:20251111T163333Z
LAST-MODIFIED:20251111T163337Z
UID:38167-1780761600-1780772400@nasejiznimorava.cz
SUMMARY:Šoty Rock Fest 666
DESCRIPTION:Šoty Rock Fest 666 se uskuteční dne 2026-06-06 v 16:00 v Červenka\, areál Olše. \n🎟️ Koupit vstupenku \n\nIV. ŠOTY ROCK FEST666 – THE NUMBER OF THE BEAST„IRON BENDER“ \n6. 6. 6 | 16:00 | AREÁL OLŠE\, ČERVENKA U LITOVLE \nV tento den se brány pekla otevřou dokořán!Plameny budou šlehat vysoko\, zem se otřese a hudba ostrá jako břitva rozpáře noční temnotu. Připrav se na apokalyptickou bouři zvuku\, potu a železa! \nNa pódiu povstanou démoni: \n\n\nNA VLASTNÍ NEBEZPEČÍ – výbuch syrové energie\, co tě srazí na kolena! \n\n\nHAZYDECAY – zamlžená temnota\, co tě pohltí a nepustí zpět! \n\n\nIRON MAIDEN MORAVIA – železná pocta nesmrtelným bohům metalu\, která zvedne mrtvé z hrobů! \n\n\nCALIBOS – ocelová lavina riffů\, po níž nezůstane kámen na kameni! \n\n\nTHP + MOŠNA – punková destrukce\, co spálí tvé zábrany na popel! \n\n\nVstupné do říše ohně a hluku: \n\n\nPrvních 666 vyvolených duší – 100 Kč \n\n\nDalší smrtelníci – 200 Kč \n\n\nNa místě – 300 Kč (dokud brány pekla zůstanou otevřené…) \n\n\nOheň\, pivo\, maso – všeho bude dost pro hladové válečníky noci! \nPřijď\, jestli se nebojíš. Nebo zůstaň doma… a navždy lituj! \nZa pořadatele:Drát & Šoty – poslové chaosu\, co tě zvou na temnou hostinu! \n\nTento tip na kulturní akci v Červenka najdete v přehledu na nasejiznimorava.cz kde na jednom místě shromažďujeme desítky dalších koncertů\, festivalů\, divadelních představení i komunitních událostí z celého regionu i z celé ČR. Přehled je přehledně řazený\, pravidelně aktualizovaný a umožní vám rychle najít přesně to\, co vás zajímá – od velkých open-air akcí až po menší lokální programy. Každý si tak snadno vybere podle svého vkusu i času. Pokud vás některá akce zaujme\, nezapomeňte si včas zajistit vstupenky; stačí kliknout na detail události a budete bezpečně přesměrováni na oficiálního prodejce vstupenek..
URL:https://nasejiznimorava.cz/event/soty-rock-fest-666/
LOCATION:areál Olše\, Červenka\, areál Olše\, Červenka\, Česká republika
CATEGORIES:Festival
ATTACH;FMTTYPE=image/jpeg:https://nasejiznimorava.cz/wp-content/uploads/2025/11/320-d037c3d528ba41628df6b99b6a95e683.jpg
END:VEVENT
BEGIN:VEVENT
DTSTART;TZID=Europe/Prague:20260606T180000
DTEND;TZID=Europe/Prague:20260606T210000
DTSTAMP:20260421T142946
CREATED:20251211T054251Z
LAST-MODIFIED:20251211T054252Z
UID:39793-1780768800-1780779600@nasejiznimorava.cz
SUMMARY:Noční sklepy: Při měsíčku na skleničku 2026
DESCRIPTION:Noční sklepy: Při měsíčku na skleničku 2026 se uskuteční dne 2026-06-06 v 18:00 v Mutěnice\, Mutěnické Búdy. \n🎟️ Koupit vstupenku \n\nPřijďte zažít magii nočních otevřených sklepů pod hvězdnou oblohou v jedinečném areálu Mutěnských Búd 6.6. 2026. Vinaři v tuto noc otevřou své sklepy a to bude mimořádná příležitost k ochutnání jejich vín. Začátek akce v 18:00 a předpokládaný konec 00:00.  \nU vstupu návštěvník obdrží katalog s mapou sklepů a nabízenými víny\, propisku\, tašku a degustační skleničku. Degustační konzumace vína není nijak omezena. V rámci vstupného návštěvníci obdrží kupóny k odběru vína v hodnotě 4×100 Kč. Víno bude možné zakoupit buď okamžitě anebo další den v neděli 8.6. 2025 od 9:00 do 12:00 přímo ve vinařství. \nDoprovodný program akce bude zpívání mezi sklepy od místních pěveckých sborů. Občerstvení bude zajištěno přímo ve sklepech vinařů. \nPokud hledáte ubytování přímo v obci\, najdete širokou škálu ubytovacích zařízení na oficiálních stránkách obce Mutěnice. Další nabídky můžete vyhledat na internetu nebo v diskuzi události na Facebooku. Pro ubytované mimo obec budou zajištěny taxiky. \nAreál Mutěnských búd patří mezi jedny z největších komplexů sklepních uliček na Moravě. Na jednom místě je více než 500 vinných sklepů\, často s tradiční výzdobou. Nejtypičtějším prvkem jsou malované žudra tradičními ornamenty maléreček. Hospodaří zde velká spousta malých i velkých vinařů. Každý z nich má svůj osobitý výrobní styl\, svoji filozofii a náhled na práci ve vinici a ve sklepě. Pokud patříte mezi milovníky vína a zábavy\, neváhejte přijít na naši akci Při měsíčku na skleničku\, kde se s námi můžete potkat\, pohovořit o víně a degustovat. \nNa tuto akci vás bude hostit 15 vinařství ve svých sklepech v noční atmosféře pod hvězdnou oblohou. Těšit se můžete nejen na skvělou náladu a kvalitní vína\, ale také domácí občerstvení z rodin vinařů a hudební folklorní program. U nás se nudit nebudete! \n\nTento tip na kulturní akci v Mutěnice najdete v přehledu na nasejiznimorava.cz kde na jednom místě shromažďujeme desítky dalších koncertů\, festivalů\, divadelních představení i komunitních událostí z celého regionu i z celé ČR. Přehled je přehledně řazený\, pravidelně aktualizovaný a umožní vám rychle najít přesně to\, co vás zajímá – od velkých open-air akcí až po menší lokální programy. Každý si tak snadno vybere podle svého vkusu i času. Pokud vás některá akce zaujme\, nezapomeňte si včas zajistit vstupenky; stačí kliknout na detail události a budete bezpečně přesměrováni na oficiálního prodejce vstupenek..
URL:https://nasejiznimorava.cz/event/nocni-sklepy-pri-mesicku-na-sklenicku-2026/
LOCATION:Mutěnické Búdy\, Mutěnice\, Mutěnické Búdy\, Mutěnice\, Česká republika
CATEGORIES:Festival
ATTACH;FMTTYPE=image/jpeg:https://nasejiznimorava.cz/wp-content/uploads/2025/12/320-f731ccf931db4bf5a9a24dbd608ec0c0.jpg
END:VEVENT
END:VCALENDAR