BEGIN:VCALENDAR
VERSION:2.0
PRODID:-// „Objev místa, kde se dobře pije, krásně spí a skvěle žije“  - ECPv6.15.20//NONSGML v1.0//EN
CALSCALE:GREGORIAN
METHOD:PUBLISH
X-WR-CALNAME: „Objev místa, kde se dobře pije, krásně spí a skvěle žije“ 
X-ORIGINAL-URL:https://nasejiznimorava.cz
X-WR-CALDESC:Akce na  „Objev místa, kde se dobře pije, krásně spí a skvěle žije“ 
REFRESH-INTERVAL;VALUE=DURATION:PT1H
X-Robots-Tag:noindex
X-PUBLISHED-TTL:PT1H
BEGIN:VTIMEZONE
TZID:Europe/Prague
BEGIN:DAYLIGHT
TZOFFSETFROM:+0100
TZOFFSETTO:+0200
TZNAME:CEST
DTSTART:20250330T010000
END:DAYLIGHT
BEGIN:STANDARD
TZOFFSETFROM:+0200
TZOFFSETTO:+0100
TZNAME:CET
DTSTART:20251026T010000
END:STANDARD
BEGIN:DAYLIGHT
TZOFFSETFROM:+0100
TZOFFSETTO:+0200
TZNAME:CEST
DTSTART:20260329T010000
END:DAYLIGHT
BEGIN:STANDARD
TZOFFSETFROM:+0200
TZOFFSETTO:+0100
TZNAME:CET
DTSTART:20261025T010000
END:STANDARD
BEGIN:DAYLIGHT
TZOFFSETFROM:+0100
TZOFFSETTO:+0200
TZNAME:CEST
DTSTART:20270328T010000
END:DAYLIGHT
BEGIN:STANDARD
TZOFFSETFROM:+0200
TZOFFSETTO:+0100
TZNAME:CET
DTSTART:20271031T010000
END:STANDARD
END:VTIMEZONE
BEGIN:VEVENT
DTSTART;TZID=Europe/Prague:20260627T100000
DTEND;TZID=Europe/Prague:20260627T130000
DTSTAMP:20260421T142809
CREATED:20260402T184815Z
LAST-MODIFIED:20260402T184816Z
UID:42678-1782554400-1782565200@nasejiznimorava.cz
SUMMARY:Fantastická Ostrava 2026
DESCRIPTION:Fantastická Ostrava 2026 se uskuteční dne 2026-06-27 v 10:00 v Ostrava\, Trojhalí Karolina. \n🎟️ Koupit vstupenku \n\nFestival Fantastická Ostrava je dvoudenní festival pro všechny milovníky popkultury. Již od roku 2018 pravidelně vítáme všechny milovníky sci-fi\, fantasy\, cosplaye\, hororu\, komiksu a dalších\, v krásném industriálním prostoru Trojhalí Karolina. \nJako vždy se budete moct těšit na cosplay\, artist alley\, oblíbené spisovatele\, nečekané zahraniční návštěvy a fantastický fanouškovský program. \n  \nCENÍK \nDvoudenní dospělý – 550 Kč \nDvoudenní děti (od 130 cm do 15 let) – 400 Kč \nDěti do 130 cm a držitele ZTP mají vstup zdarma. \n  \nVIP dvoudenní vstupné – 1200 Kč \nVIP balíček bude obsahovat: \n\nTašku Fantastická Ostrava s originálním potiskem\nExkluzivní gamebook ve speciální edici limitovaného počtu kusů s autorskou obálkou. Tuto verzi v běžném prodeji nekoupíte a bude k dispozici jen na festivalu Fantastická Ostrava\nPlacku s logem Fantastická Ostrava\nPamětní VIP kartu\nPřednostní vstup na autogramiády hostů\nSet fotek zahraničních hostů\nDrobné dárky od partnerů festivalu\nNaše poděkování za podporu festivalu\n\n  \n  \n\nTento tip na kulturní akci v Ostrava najdete v přehledu na nasejiznimorava.cz kde na jednom místě shromažďujeme desítky dalších koncertů\, festivalů\, divadelních představení i komunitních událostí z celého regionu i z celé ČR. Přehled je přehledně řazený\, pravidelně aktualizovaný a umožní vám rychle najít přesně to\, co vás zajímá – od velkých open-air akcí až po menší lokální programy. Každý si tak snadno vybere podle svého vkusu i času. Pokud vás některá akce zaujme\, nezapomeňte si včas zajistit vstupenky; stačí kliknout na detail události a budete bezpečně přesměrováni na oficiálního prodejce vstupenek..
URL:https://nasejiznimorava.cz/event/fantasticka-ostrava-2026/
LOCATION:Trojhalí Karolina\, Ostrava\, Trojhalí Karolina\, Ostrava\, Česká republika
CATEGORIES:Festival
ATTACH;FMTTYPE=image/jpeg:https://nasejiznimorava.cz/wp-content/uploads/2026/04/320-d955bba5d334468b8557d3306ad5645d.jpg
END:VEVENT
BEGIN:VEVENT
DTSTART;TZID=Europe/Prague:20260627T130000
DTEND;TZID=Europe/Prague:20260627T160000
DTSTAMP:20260421T142809
CREATED:20260309T081529Z
LAST-MODIFIED:20260309T081530Z
UID:42321-1782565200-1782576000@nasejiznimorava.cz
SUMMARY:Rockfest Zdounky
DESCRIPTION:Rockfest Zdounky se uskuteční dne 2026-06-27 v 13:00 v Zdounky\, Zdounky fotbalové hřiště. \n🎟️ Koupit vstupenku \nTento tip na kulturní akci v Zdounky najdete v přehledu na nasejiznimorava.cz kde na jednom místě shromažďujeme desítky dalších koncertů\, festivalů\, divadelních představení i komunitních událostí z celého regionu i z celé ČR. Přehled je přehledně řazený\, pravidelně aktualizovaný a umožní vám rychle najít přesně to\, co vás zajímá – od velkých open-air akcí až po menší lokální programy. Každý si tak snadno vybere podle svého vkusu i času. Pokud vás některá akce zaujme\, nezapomeňte si včas zajistit vstupenky; stačí kliknout na detail události a budete bezpečně přesměrováni na oficiálního prodejce vstupenek..
URL:https://nasejiznimorava.cz/event/rockfest-zdounky/
LOCATION:Zdounky fotbalové hřiště\, Zdounky\, Zdounky fotbalové hřiště\, Zdounky\, Česká republika
CATEGORIES:Festival
ATTACH;FMTTYPE=image/jpeg:https://nasejiznimorava.cz/wp-content/uploads/2026/03/320-fb23563c3f7f4cdfada92aaab02e1354.jpg
END:VEVENT
END:VCALENDAR