BEGIN:VCALENDAR
VERSION:2.0
PRODID:-// „Objev místa, kde se dobře pije, krásně spí a skvěle žije“  - ECPv6.15.20//NONSGML v1.0//EN
CALSCALE:GREGORIAN
METHOD:PUBLISH
X-WR-CALNAME: „Objev místa, kde se dobře pije, krásně spí a skvěle žije“ 
X-ORIGINAL-URL:https://nasejiznimorava.cz
X-WR-CALDESC:Akce na  „Objev místa, kde se dobře pije, krásně spí a skvěle žije“ 
REFRESH-INTERVAL;VALUE=DURATION:PT1H
X-Robots-Tag:noindex
X-PUBLISHED-TTL:PT1H
BEGIN:VTIMEZONE
TZID:Europe/Prague
BEGIN:DAYLIGHT
TZOFFSETFROM:+0100
TZOFFSETTO:+0200
TZNAME:CEST
DTSTART:20250330T010000
END:DAYLIGHT
BEGIN:STANDARD
TZOFFSETFROM:+0200
TZOFFSETTO:+0100
TZNAME:CET
DTSTART:20251026T010000
END:STANDARD
BEGIN:DAYLIGHT
TZOFFSETFROM:+0100
TZOFFSETTO:+0200
TZNAME:CEST
DTSTART:20260329T010000
END:DAYLIGHT
BEGIN:STANDARD
TZOFFSETFROM:+0200
TZOFFSETTO:+0100
TZNAME:CET
DTSTART:20261025T010000
END:STANDARD
BEGIN:DAYLIGHT
TZOFFSETFROM:+0100
TZOFFSETTO:+0200
TZNAME:CEST
DTSTART:20270328T010000
END:DAYLIGHT
BEGIN:STANDARD
TZOFFSETFROM:+0200
TZOFFSETTO:+0100
TZNAME:CET
DTSTART:20271031T010000
END:STANDARD
END:VTIMEZONE
BEGIN:VEVENT
DTSTART;TZID=Europe/Prague:20260422T170000
DTEND;TZID=Europe/Prague:20260422T200000
DTSTAMP:20260421T095143
CREATED:20251129T065649Z
LAST-MODIFIED:20251129T065650Z
UID:39402-1776877200-1776888000@nasejiznimorava.cz
SUMMARY:Škola vaření s Romanem Paulusem - Maso a omáčky v kuchyni
DESCRIPTION:Škola vaření s Romanem Paulusem – Maso a omáčky v kuchyni se uskuteční dne 2026-04-22 v 17:00 v Olomouc\, Bistro Paulus. \n🎟️ Koupit vstupenku \n\nVítejte ve škole vaření s Romanem Paulusem! \nTentokrát se v kurzu vaření zaměříme na největší hity z našeho Bistra Paulus.  \nMůžete se těšit na kuřecí supreme se smržovou omáčkou\, vepřová pavučinka s pepřovou omáčkou\, hovězí medailonky s omáčkou Bearnaise\, chimichurri salsu a nakonec palačinky Suzette. \nRádi připravujete maso? Nebo prostě máte rádi dobré jídlo? Právě pro vás jme připravili kurz vaření\, kde vás naučíme jak připravit dobrou omáčku a jak správně zpracovat maso.  \nV kurzu se pod vedením michelinského šéfa Romana Pauluse a šéfkuchaře Petra Stokláska naučíte připravit výtečné 4-chodové menu. Kromě příjemně strávených chvil u plotny si odnesete i spoustu užitečných praktických znalostí\, krásných zážitků\, sadu receptů a podepsaný certifikát.  \nO alko a nealko režim bude po celou dobu postaráno. \nKurzy probíhají od 17 do 21 hodin v malých skupinkách a díky tomu budete mít plnou pozornost našich šéfů.  \nTěšíme se na vás ve stylových prostorách Bistro Paulus \nPartnerem školy vaření s Romanem Paulusem je Tescoma. \n—- \n  \nNa akci může být pořizován obrazový záznam pro marketingové účely. Pořízené záznamy můžou být použity zejména na našem webu a sociálních sítích. \n\nTento tip na kulturní akci v Olomouc najdete v přehledu na nasejiznimorava.cz kde na jednom místě shromažďujeme desítky dalších koncertů\, festivalů\, divadelních představení i komunitních událostí z celého regionu i z celé ČR. Přehled je přehledně řazený\, pravidelně aktualizovaný a umožní vám rychle najít přesně to\, co vás zajímá – od velkých open-air akcí až po menší lokální programy. Každý si tak snadno vybere podle svého vkusu i času. Pokud vás některá akce zaujme\, nezapomeňte si včas zajistit vstupenky; stačí kliknout na detail události a budete bezpečně přesměrováni na oficiálního prodejce vstupenek..
URL:https://nasejiznimorava.cz/event/skola-vareni-s-romanem-paulusem-maso-a-omacky-v-kuchyni/
LOCATION:Bistro Paulus\, Olomouc\, Bistro Paulus\, Olomouc\, Česká republika
CATEGORIES:Festival
ATTACH;FMTTYPE=image/jpeg:https://nasejiznimorava.cz/wp-content/uploads/2025/11/320-1beba168d38f46bbaf2c895d206276e1.jpg
END:VEVENT
BEGIN:VEVENT
DTSTART;TZID=Europe/Prague:20260423T170000
DTEND;TZID=Europe/Prague:20260423T200000
DTSTAMP:20260421T095143
CREATED:20251226T110106Z
LAST-MODIFIED:20251226T110108Z
UID:41055-1776963600-1776974400@nasejiznimorava.cz
SUMMARY:Škola vaření s Romanem Paulusem - Maso a omáčky v kuchyni
DESCRIPTION:Škola vaření s Romanem Paulusem – Maso a omáčky v kuchyni se uskuteční dne 2026-04-23 v 17:00 v Olomouc\, Bistro Paulus. \n🎟️ Koupit vstupenku \n\nVítejte ve škole vaření s Romanem Paulusem! \nTentokrát se v kurzu vaření zaměříme na největší hity z našeho Bistra Paulus.  \nMůžete se těšit na kuřecí supreme se smržovou omáčkou\, vepřová pavučinka s pepřovou omáčkou\, hovězí medailonky s omáčkou Bearnaise\, chimichurri salsu a nakonec palačinky Suzette. \nRádi připravujete maso? Nebo prostě máte rádi dobré jídlo? Právě pro vás jme připravili kurz vaření\, kde vás naučíme jak připravit dobrou omáčku a jak správně zpracovat maso.  \nV kurzu se pod vedením michelinského šéfa Romana Pauluse a šéfkuchaře Petra Stokláska naučíte připravit výtečné 4-chodové menu. Kromě příjemně strávených chvil u plotny si odnesete i spoustu užitečných praktických znalostí\, krásných zážitků\, sadu receptů a podepsaný certifikát.  \nO alko a nealko režim bude po celou dobu postaráno. \nKurzy probíhají od 17 do 21 hodin v malých skupinkách a díky tomu budete mít plnou pozornost našich šéfů.  \nTěšíme se na vás ve stylových prostorách Bistro Paulus \nPartnerem školy vaření s Romanem Paulusem je Tescoma. \n\nTento tip na kulturní akci v Olomouc najdete v přehledu na nasejiznimorava.cz kde na jednom místě shromažďujeme desítky dalších koncertů\, festivalů\, divadelních představení i komunitních událostí z celého regionu i z celé ČR. Přehled je přehledně řazený\, pravidelně aktualizovaný a umožní vám rychle najít přesně to\, co vás zajímá – od velkých open-air akcí až po menší lokální programy. Každý si tak snadno vybere podle svého vkusu i času. Pokud vás některá akce zaujme\, nezapomeňte si včas zajistit vstupenky; stačí kliknout na detail události a budete bezpečně přesměrováni na oficiálního prodejce vstupenek..
URL:https://nasejiznimorava.cz/event/skola-vareni-s-romanem-paulusem-maso-a-omacky-v-kuchyni-2/
LOCATION:Bistro Paulus\, Olomouc\, Bistro Paulus\, Olomouc\, Česká republika
CATEGORIES:Festival
ATTACH;FMTTYPE=image/jpeg:https://nasejiznimorava.cz/wp-content/uploads/2025/12/320-21cdc1b570274c818b681fa111d5d72e.jpg
END:VEVENT
BEGIN:VEVENT
DTSTART;TZID=Europe/Prague:20260430T160000
DTEND;TZID=Europe/Prague:20260430T190000
DTSTAMP:20260421T095143
CREATED:20260402T180925Z
LAST-MODIFIED:20260402T180926Z
UID:42464-1777564800-1777575600@nasejiznimorava.cz
SUMMARY:Čarodějnice 2026
DESCRIPTION:Čarodějnice 2026 se uskuteční dne 2026-04-30 v 16:00 v Plumlov\, Kemp Žralok. \n🎟️ Koupit vstupenku \n\nTradiční Pálení čarodějnic\, skvělé kapely\, program a soutěže pro děti\, výborné občerstvení. \nTěšit se můžete na tyto kapely: \nWohnout \nProtheus \nRCZ – Rammstein Tribute Show \na pro děti Dívčí skupina Lollipopz \n  \nDěti do 14 let (včetně) vstup ZDARMA. \n \nStudenti\, senioři nad 65 let\, ZTP – vstupné:  250\,-Kč (vstupné lze zakoupit pouze na místě). \nVstupné na místě: 400\,-Kč \n\nTento tip na kulturní akci v Plumlov najdete v přehledu na nasejiznimorava.cz kde na jednom místě shromažďujeme desítky dalších koncertů\, festivalů\, divadelních představení i komunitních událostí z celého regionu i z celé ČR. Přehled je přehledně řazený\, pravidelně aktualizovaný a umožní vám rychle najít přesně to\, co vás zajímá – od velkých open-air akcí až po menší lokální programy. Každý si tak snadno vybere podle svého vkusu i času. Pokud vás některá akce zaujme\, nezapomeňte si včas zajistit vstupenky; stačí kliknout na detail události a budete bezpečně přesměrováni na oficiálního prodejce vstupenek..
URL:https://nasejiznimorava.cz/event/carodejnice-2026/
LOCATION:Kemp Žralok\, Plumlov\, Kemp Žralok\, Plumlov\, Česká republika
CATEGORIES:Festival
ATTACH;FMTTYPE=image/jpeg:https://nasejiznimorava.cz/wp-content/uploads/2026/04/320-f82625f6c02d4eaabb37b1d11b301cb3.jpg
END:VEVENT
END:VCALENDAR