BEGIN:VCALENDAR
VERSION:2.0
PRODID:-// „Objev místa, kde se dobře pije, krásně spí a skvěle žije“  - ECPv6.15.20//NONSGML v1.0//EN
CALSCALE:GREGORIAN
METHOD:PUBLISH
X-WR-CALNAME: „Objev místa, kde se dobře pije, krásně spí a skvěle žije“ 
X-ORIGINAL-URL:https://nasejiznimorava.cz
X-WR-CALDESC:Akce na  „Objev místa, kde se dobře pije, krásně spí a skvěle žije“ 
REFRESH-INTERVAL;VALUE=DURATION:PT1H
X-Robots-Tag:noindex
X-PUBLISHED-TTL:PT1H
BEGIN:VTIMEZONE
TZID:Europe/Prague
BEGIN:DAYLIGHT
TZOFFSETFROM:+0100
TZOFFSETTO:+0200
TZNAME:CEST
DTSTART:20250330T010000
END:DAYLIGHT
BEGIN:STANDARD
TZOFFSETFROM:+0200
TZOFFSETTO:+0100
TZNAME:CET
DTSTART:20251026T010000
END:STANDARD
BEGIN:DAYLIGHT
TZOFFSETFROM:+0100
TZOFFSETTO:+0200
TZNAME:CEST
DTSTART:20260329T010000
END:DAYLIGHT
BEGIN:STANDARD
TZOFFSETFROM:+0200
TZOFFSETTO:+0100
TZNAME:CET
DTSTART:20261025T010000
END:STANDARD
BEGIN:DAYLIGHT
TZOFFSETFROM:+0100
TZOFFSETTO:+0200
TZNAME:CEST
DTSTART:20270328T010000
END:DAYLIGHT
BEGIN:STANDARD
TZOFFSETFROM:+0200
TZOFFSETTO:+0100
TZNAME:CET
DTSTART:20271031T010000
END:STANDARD
END:VTIMEZONE
BEGIN:VEVENT
DTSTART;TZID=Europe/Prague:20260312T190000
DTEND;TZID=Europe/Prague:20260312T220000
DTSTAMP:20260420T020001
CREATED:20251217T112409Z
LAST-MODIFIED:20251217T112411Z
UID:40590-1773342000-1773352800@nasejiznimorava.cz
SUMMARY:Hudba Bridgerton při svíčkách
DESCRIPTION:Hudba Bridgerton při svíčkách se uskuteční dne 2026-03-12 v 19:00 v Ústí nad Labem\, Divadelní sál Domu kultury. \n🎟️ Koupit vstupenku \n\nNenechte si ujít večer plný romantiky a elegance\, kde zazní ty nejznámější melodie a písně z oblíbeného seriálu Bridgerton. Světlo stovky svíček vytvoří okouzlující atmosféru koncertu. \nProgram v jedinečném provedení smyčcového kvarteta představí výběr hudebních skladeb z tohoto populárního seriálu\, inspirovaných klasickými díly i moderními popovými melodiemi\, které si získaly srdce diváků po celém světě. \nTento koncert nabídne víc než jen hudbu; stovky svíček rozzáří prostor a vytvoří atmosféru plnou noblesy\, romantiky a neodolatelného kouzla historické doby. \nAkce je přístupná od 12 let. Každý účastník musí předložit platnou vstupenku  zakoupenou výhradně v síti smsticket. \n\nTento tip na kulturní akci v Ústí nad Labem najdete v přehledu na nasejiznimorava.cz kde na jednom místě shromažďujeme desítky dalších koncertů\, festivalů\, divadelních představení i komunitních událostí z celého regionu i z celé ČR. Přehled je přehledně řazený\, pravidelně aktualizovaný a umožní vám rychle najít přesně to\, co vás zajímá – od velkých open-air akcí až po menší lokální programy. Každý si tak snadno vybere podle svého vkusu i času. Pokud vás některá akce zaujme\, nezapomeňte si včas zajistit vstupenky; stačí kliknout na detail události a budete bezpečně přesměrováni na oficiálního prodejce vstupenek..
URL:https://nasejiznimorava.cz/event/hudba-bridgerton-pri-svickach-16/
LOCATION:Divadelní sál Domu kultury\, Ústí nad Labem\, Divadelní sál Domu kultury\, Ústí nad Labem\, Česká republika
CATEGORIES:Koncert
ATTACH;FMTTYPE=image/jpeg:https://nasejiznimorava.cz/wp-content/uploads/2025/12/320-80fce4866fa5438e94c981079c1b2d32.jpg
END:VEVENT
BEGIN:VEVENT
DTSTART;TZID=Europe/Prague:20260312T190000
DTEND;TZID=Europe/Prague:20260312T220000
DTSTAMP:20260420T020001
CREATED:20251227T192659Z
LAST-MODIFIED:20251227T192659Z
UID:41109-1773342000-1773352800@nasejiznimorava.cz
SUMMARY:Petr Tomeček / Panova flétna v melodiích Karla Svobody
DESCRIPTION:Petr Tomeček / Panova flétna v melodiích Karla Svobody se uskuteční dne 2026-03-12 v 19:00 v Praha\, Atrium na Žižkově. \n🎟️ Koupit vstupenku \n\nSrdečně vás zveme na jedinečný hudební večer\, který propojí výjimečný zvuk vzácného hudebního nástroje Panovy flétny s nezaměnitelnou a nadčasovou tvorbou Karla Svobody\, jednoho z nejgeniálnějších českých skladatelů. \nPanova flétna\, nástroj s tisíciletou historií a kouzelně éterickým zvukem\, rozezní známé melodie\, které se zapsaly do srdcí několika generací. Zazní slavné filmové a televizní skladby v novém\, překvapivém podání – dojemné\, energické i snové. \nCelý koncert doprovodí obrazová a světelná projekce\, která umocní atmosféru a promění vystoupení v multisenzorický zážitek. \nPřijďte si užít večer plný emocí\, krásy a originálního hudebního spojení\, které se rodí jen výjimečně. \n\nTento tip na kulturní akci v Praha najdete v přehledu na nasejiznimorava.cz kde na jednom místě shromažďujeme desítky dalších koncertů\, festivalů\, divadelních představení i komunitních událostí z celého regionu i z celé ČR. Přehled je přehledně řazený\, pravidelně aktualizovaný a umožní vám rychle najít přesně to\, co vás zajímá – od velkých open-air akcí až po menší lokální programy. Každý si tak snadno vybere podle svého vkusu i času. Pokud vás některá akce zaujme\, nezapomeňte si včas zajistit vstupenky; stačí kliknout na detail události a budete bezpečně přesměrováni na oficiálního prodejce vstupenek..
URL:https://nasejiznimorava.cz/event/petr-tomecek-panova-fletna-v-melodiich-karla-svobody-5/
LOCATION:Atrium na Žižkově\, Praha\, Atrium na Žižkově\, Praha\, Česká republika
CATEGORIES:Koncert
ATTACH;FMTTYPE=image/jpeg:https://nasejiznimorava.cz/wp-content/uploads/2025/12/320-69903c61ada34f5c8863ce493d2408a1.jpg
END:VEVENT
BEGIN:VEVENT
DTSTART;TZID=Europe/Prague:20260312T190000
DTEND;TZID=Europe/Prague:20260312T220000
DTSTAMP:20260420T020001
CREATED:20251227T192659Z
LAST-MODIFIED:20251227T192659Z
UID:41112-1773342000-1773352800@nasejiznimorava.cz
SUMMARY:Ludovico Einaudi Music | Louny
DESCRIPTION:Ludovico Einaudi Music | Louny se uskuteční dne 2026-03-12 v 19:00 v Louny\, Vrchlického divadlo. \n🎟️ Koupit vstupenku \n\nNenechte si ujít nezapomenutelný večer krásné hudby\, kde zazní melodie jednoho z nejlepších pianistů a skladatelů na světe\, Ludovica Einaudiho v podání předního české klavírstky Lucii Kubátové. \nEinaudi je známý svými jednoduchými\, ale strašidelně krásnými minimalistickými díly pro klavír a ohromující filmovou hudbou. Za téměř třicet let své činnosti vydal řadu alb\, která se dostala na přední příčky poslechovosti\, vyprodává nejprestižnější koncertní sály po celém světě a jeho hudba zazněla v mnoha slavných filmech (Nedotknutelní\, Doktor Živago\, To je Anglie\, Nomadland a další). \nTento jedinečný koncert nabídne více než jen hudbu. Symfonie třpytivých svíček rozsvítí celý prostor a přidá na mystičnu a kouzlu večera. Každá svíčka přispěje k vytvoření kouzelného prostředí\, které dokonale doplní hudební zážitek. \nV rámci Evropské tour alternují také: František Panáček a Alexandr Starý.  \nAkce je přístupná od 12 let. Každý účastník musí předložit platnou vstupenku  zakoupenou výhradně v síti smsticket. \n\nTento tip na kulturní akci v Louny najdete v přehledu na nasejiznimorava.cz kde na jednom místě shromažďujeme desítky dalších koncertů\, festivalů\, divadelních představení i komunitních událostí z celého regionu i z celé ČR. Přehled je přehledně řazený\, pravidelně aktualizovaný a umožní vám rychle najít přesně to\, co vás zajímá – od velkých open-air akcí až po menší lokální programy. Každý si tak snadno vybere podle svého vkusu i času. Pokud vás některá akce zaujme\, nezapomeňte si včas zajistit vstupenky; stačí kliknout na detail události a budete bezpečně přesměrováni na oficiálního prodejce vstupenek..
URL:https://nasejiznimorava.cz/event/ludovico-einaudi-music-louny/
LOCATION:Vrchlického divadlo\, Louny\, Vrchlického divadlo\, Louny\, Česká republika
CATEGORIES:Koncert
ATTACH;FMTTYPE=image/jpeg:https://nasejiznimorava.cz/wp-content/uploads/2025/12/320-cf976d5ecd7c43349b56ab29b8a0fe50.jpg
END:VEVENT
END:VCALENDAR