BEGIN:VCALENDAR
VERSION:2.0
PRODID:-// „Objev místa, kde se dobře pije, krásně spí a skvěle žije“  - ECPv6.15.20//NONSGML v1.0//EN
CALSCALE:GREGORIAN
METHOD:PUBLISH
X-WR-CALNAME: „Objev místa, kde se dobře pije, krásně spí a skvěle žije“ 
X-ORIGINAL-URL:https://nasejiznimorava.cz
X-WR-CALDESC:Akce na  „Objev místa, kde se dobře pije, krásně spí a skvěle žije“ 
REFRESH-INTERVAL;VALUE=DURATION:PT1H
X-Robots-Tag:noindex
X-PUBLISHED-TTL:PT1H
BEGIN:VTIMEZONE
TZID:Europe/Prague
BEGIN:DAYLIGHT
TZOFFSETFROM:+0100
TZOFFSETTO:+0200
TZNAME:CEST
DTSTART:20250330T010000
END:DAYLIGHT
BEGIN:STANDARD
TZOFFSETFROM:+0200
TZOFFSETTO:+0100
TZNAME:CET
DTSTART:20251026T010000
END:STANDARD
BEGIN:DAYLIGHT
TZOFFSETFROM:+0100
TZOFFSETTO:+0200
TZNAME:CEST
DTSTART:20260329T010000
END:DAYLIGHT
BEGIN:STANDARD
TZOFFSETFROM:+0200
TZOFFSETTO:+0100
TZNAME:CET
DTSTART:20261025T010000
END:STANDARD
BEGIN:DAYLIGHT
TZOFFSETFROM:+0100
TZOFFSETTO:+0200
TZNAME:CEST
DTSTART:20270328T010000
END:DAYLIGHT
BEGIN:STANDARD
TZOFFSETFROM:+0200
TZOFFSETTO:+0100
TZNAME:CET
DTSTART:20271031T010000
END:STANDARD
END:VTIMEZONE
BEGIN:VEVENT
DTSTART;TZID=Europe/Prague:20260313T190000
DTEND;TZID=Europe/Prague:20260313T220000
DTSTAMP:20260420T015342
CREATED:20251111T160920Z
LAST-MODIFIED:20251111T160920Z
UID:38159-1773428400-1773439200@nasejiznimorava.cz
SUMMARY:Petr Tomeček / Panova flétna v melodiích Karla Svobody
DESCRIPTION:Petr Tomeček / Panova flétna v melodiích Karla Svobody se uskuteční dne 2026-03-13 v 19:00 v Benešov\, Městské divadlo Na Poště. \n🎟️ Koupit vstupenku \n\nSrdečně vás zveme na jedinečný hudební večer\, který propojí výjimečný zvuk vzácného hudebního nástroje Panovy flétny s nezaměnitelnou a nadčasovou tvorbou Karla Svobody\, jednoho z nejgeniálnějších českých skladatelů. \nPanova flétna\, nástroj s tisíciletou historií a kouzelně éterickým zvukem\, rozezní známé melodie\, které se zapsaly do srdcí několika generací. Zazní slavné filmové a televizní skladby v novém\, překvapivém podání – dojemné\, energické i snové. \nCelý koncert doprovodí obrazová a světelná projekce\, která umocní atmosféru a promění vystoupení v multisenzorický zážitek. \nPřijďte si užít večer plný emocí\, krásy a originálního hudebního spojení\, které se rodí jen výjimečně. \n\nTento tip na kulturní akci v Benešov najdete v přehledu na nasejiznimorava.cz kde na jednom místě shromažďujeme desítky dalších koncertů\, festivalů\, divadelních představení i komunitních událostí z celého regionu i z celé ČR. Přehled je přehledně řazený\, pravidelně aktualizovaný a umožní vám rychle najít přesně to\, co vás zajímá – od velkých open-air akcí až po menší lokální programy. Každý si tak snadno vybere podle svého vkusu i času. Pokud vás některá akce zaujme\, nezapomeňte si včas zajistit vstupenky; stačí kliknout na detail události a budete bezpečně přesměrováni na oficiálního prodejce vstupenek..
URL:https://nasejiznimorava.cz/event/petr-tomecek-panova-fletna-v-melodiich-karla-svobody-3/
LOCATION:Městské divadlo Na Poště\, Benešov\, Městské divadlo Na Poště\, Benešov\, Česká republika
CATEGORIES:Koncert
ATTACH;FMTTYPE=image/jpeg:https://nasejiznimorava.cz/wp-content/uploads/2025/11/320-8ee9c3d0feab4bd583d42b22caa6e2aa.jpg
END:VEVENT
END:VCALENDAR