BEGIN:VCALENDAR
VERSION:2.0
PRODID:-// „Objev místa, kde se dobře pije, krásně spí a skvěle žije“  - ECPv6.15.20//NONSGML v1.0//EN
CALSCALE:GREGORIAN
METHOD:PUBLISH
X-ORIGINAL-URL:https://nasejiznimorava.cz
X-WR-CALDESC:Akce na  „Objev místa, kde se dobře pije, krásně spí a skvěle žije“ 
REFRESH-INTERVAL;VALUE=DURATION:PT1H
X-Robots-Tag:noindex
X-PUBLISHED-TTL:PT1H
BEGIN:VTIMEZONE
TZID:Europe/Prague
BEGIN:DAYLIGHT
TZOFFSETFROM:+0100
TZOFFSETTO:+0200
TZNAME:CEST
DTSTART:20250330T010000
END:DAYLIGHT
BEGIN:STANDARD
TZOFFSETFROM:+0200
TZOFFSETTO:+0100
TZNAME:CET
DTSTART:20251026T010000
END:STANDARD
BEGIN:DAYLIGHT
TZOFFSETFROM:+0100
TZOFFSETTO:+0200
TZNAME:CEST
DTSTART:20260329T010000
END:DAYLIGHT
BEGIN:STANDARD
TZOFFSETFROM:+0200
TZOFFSETTO:+0100
TZNAME:CET
DTSTART:20261025T010000
END:STANDARD
BEGIN:DAYLIGHT
TZOFFSETFROM:+0100
TZOFFSETTO:+0200
TZNAME:CEST
DTSTART:20270328T010000
END:DAYLIGHT
BEGIN:STANDARD
TZOFFSETFROM:+0200
TZOFFSETTO:+0100
TZNAME:CET
DTSTART:20271031T010000
END:STANDARD
END:VTIMEZONE
BEGIN:VEVENT
DTSTART;TZID=Europe/Prague:20260320T190000
DTEND;TZID=Europe/Prague:20260320T220000
DTSTAMP:20260420T015430
CREATED:20251217T183336Z
LAST-MODIFIED:20251217T183337Z
UID:40711-1774033200-1774044000@nasejiznimorava.cz
SUMMARY:Petr Tomeček / Motiv lásky
DESCRIPTION:Petr Tomeček / Motiv lásky se uskuteční dne 2026-03-20 v 19:00 v Brno\, Besední dům. \n🎟️ Koupit vstupenku \n\nPetr Tomeček / Motiv lásky \nKoncert plný zamilovaných melodií\, které pohladí duši \nNechte se unést na vlnách hudby\, která vypráví příběhy srdce.Večer Motiv lásky je oslavou všech podob nejkrásnějšího citu – něhy\, vášně\, touhy i oddanosti.Program tvoří ty nejromantičtější melodie\, které se dotýkají hloubky lidských emocí a otevírají prostor pro snění. \nV jedinečné atmosféře zazní Panova flétna\, nástroj s neobyčejně křehkým i procítěným zvukem\, jehož tóny se vznášejí jako dech lásky. Doprovod klavíru a živých smyčců umocní kouzlo okamžiku a promění koncert v nezapomenutelný zážitek plný harmonie\, krásy a emocí. \nPřijďte naslouchat hudbě\, která mluví jazykem srdce.Přijďte prožít Motiv lásky. \n\nTento tip na kulturní akci v Brno najdete v přehledu na nasejiznimorava.cz kde na jednom místě shromažďujeme desítky dalších koncertů\, festivalů\, divadelních představení i komunitních událostí z celého regionu i z celé ČR. Přehled je přehledně řazený\, pravidelně aktualizovaný a umožní vám rychle najít přesně to\, co vás zajímá – od velkých open-air akcí až po menší lokální programy. Každý si tak snadno vybere podle svého vkusu i času. Pokud vás některá akce zaujme\, nezapomeňte si včas zajistit vstupenky; stačí kliknout na detail události a budete bezpečně přesměrováni na oficiálního prodejce vstupenek..
URL:https://nasejiznimorava.cz/event/petr-tomecek-motiv-lasky-3/
LOCATION:Besední dům\, Brno\, Besední dům\, Brno\, Česká republika
CATEGORIES:Koncert
ATTACH;FMTTYPE=image/jpeg:https://nasejiznimorava.cz/wp-content/uploads/2025/12/320-e8651ec8bc1740e9af874038ec12c0dd.jpg
END:VEVENT
END:VCALENDAR