BEGIN:VCALENDAR
VERSION:2.0
PRODID:-// „Objev místa, kde se dobře pije, krásně spí a skvěle žije“  - ECPv6.15.20//NONSGML v1.0//EN
CALSCALE:GREGORIAN
METHOD:PUBLISH
X-ORIGINAL-URL:https://nasejiznimorava.cz
X-WR-CALDESC:Akce na  „Objev místa, kde se dobře pije, krásně spí a skvěle žije“ 
REFRESH-INTERVAL;VALUE=DURATION:PT1H
X-Robots-Tag:noindex
X-PUBLISHED-TTL:PT1H
BEGIN:VTIMEZONE
TZID:Europe/Prague
BEGIN:DAYLIGHT
TZOFFSETFROM:+0100
TZOFFSETTO:+0200
TZNAME:CEST
DTSTART:20250330T010000
END:DAYLIGHT
BEGIN:STANDARD
TZOFFSETFROM:+0200
TZOFFSETTO:+0100
TZNAME:CET
DTSTART:20251026T010000
END:STANDARD
BEGIN:DAYLIGHT
TZOFFSETFROM:+0100
TZOFFSETTO:+0200
TZNAME:CEST
DTSTART:20260329T010000
END:DAYLIGHT
BEGIN:STANDARD
TZOFFSETFROM:+0200
TZOFFSETTO:+0100
TZNAME:CET
DTSTART:20261025T010000
END:STANDARD
BEGIN:DAYLIGHT
TZOFFSETFROM:+0100
TZOFFSETTO:+0200
TZNAME:CEST
DTSTART:20270328T010000
END:DAYLIGHT
BEGIN:STANDARD
TZOFFSETFROM:+0200
TZOFFSETTO:+0100
TZNAME:CET
DTSTART:20271031T010000
END:STANDARD
END:VTIMEZONE
BEGIN:VEVENT
DTSTART;TZID=Europe/Prague:20260521T190000
DTEND;TZID=Europe/Prague:20260521T220000
DTSTAMP:20260420T001243
CREATED:20251111T172154Z
LAST-MODIFIED:20251111T172155Z
UID:38536-1779390000-1779400800@nasejiznimorava.cz
SUMMARY:ABBA a Beatles klasicky v Ústí nad Labem
DESCRIPTION:ABBA a Beatles klasicky v Ústí nad Labem se uskuteční dne 2026-05-21 v 19:00 v Ústí nad Labem\, Kostel apoštola Pavla. \n🎟️ Koupit vstupenku \n\nPojďte si užít zbrusu nový koncert plný aranží písníček skupin ABBA a Beatles v unikátních aranžích Klárova smyčcového kvarteta do Červeného kostela v Ústí. \n  \n. \nKLÁROVO KVARTETO \nPavel Hrda – I. housle\, Josef Vychytil – II. housle\, Libor Kaňka – viola\, Václav Fleissig – violoncello \n  \nPROGRAM: \nBEATLES:                                            ABBA:                        \nAll you need is Love                           Dancing Queen \nObladi – oblada                                   S.O.S. \nYesterday                                             Waterloo \nI want to hold your hand                    Super Trouper  \nHey\, Jude                                             Fernando \nFrom me to you                                   Mamma mia \nShe loves you                                      Money\, money\, money \nOh\, darling \nSomething \nDizzy miss Lizzy \nLady Madonna \nA hard day´s Night \ndélka programu cca 65 minut\, změna programu vyhrazena \n\nTento tip na kulturní akci v Ústí nad Labem najdete v přehledu na nasejiznimorava.cz kde na jednom místě shromažďujeme desítky dalších koncertů\, festivalů\, divadelních představení i komunitních událostí z celého regionu i z celé ČR. Přehled je přehledně řazený\, pravidelně aktualizovaný a umožní vám rychle najít přesně to\, co vás zajímá – od velkých open-air akcí až po menší lokální programy. Každý si tak snadno vybere podle svého vkusu i času. Pokud vás některá akce zaujme\, nezapomeňte si včas zajistit vstupenky; stačí kliknout na detail události a budete bezpečně přesměrováni na oficiálního prodejce vstupenek..
URL:https://nasejiznimorava.cz/event/abba-a-beatles-klasicky-v-usti-nad-labem/
LOCATION:Kostel apoštola Pavla\, Ústí nad Labem\, Kostel apoštola Pavla\, Ústí nad Labem\, Česká republika
CATEGORIES:Koncert
ATTACH;FMTTYPE=image/jpeg:https://nasejiznimorava.cz/wp-content/uploads/2025/11/320-69cd756d45ab42518381a0890d3569e1.jpg
END:VEVENT
END:VCALENDAR