BEGIN:VCALENDAR
VERSION:2.0
PRODID:-// „Objev místa, kde se dobře pije, krásně spí a skvěle žije“  - ECPv6.15.20//NONSGML v1.0//EN
CALSCALE:GREGORIAN
METHOD:PUBLISH
X-WR-CALNAME: „Objev místa, kde se dobře pije, krásně spí a skvěle žije“ 
X-ORIGINAL-URL:https://nasejiznimorava.cz
X-WR-CALDESC:Akce na  „Objev místa, kde se dobře pije, krásně spí a skvěle žije“ 
REFRESH-INTERVAL;VALUE=DURATION:PT1H
X-Robots-Tag:noindex
X-PUBLISHED-TTL:PT1H
BEGIN:VTIMEZONE
TZID:Europe/Prague
BEGIN:DAYLIGHT
TZOFFSETFROM:+0100
TZOFFSETTO:+0200
TZNAME:CEST
DTSTART:20250330T010000
END:DAYLIGHT
BEGIN:STANDARD
TZOFFSETFROM:+0200
TZOFFSETTO:+0100
TZNAME:CET
DTSTART:20251026T010000
END:STANDARD
BEGIN:DAYLIGHT
TZOFFSETFROM:+0100
TZOFFSETTO:+0200
TZNAME:CEST
DTSTART:20260329T010000
END:DAYLIGHT
BEGIN:STANDARD
TZOFFSETFROM:+0200
TZOFFSETTO:+0100
TZNAME:CET
DTSTART:20261025T010000
END:STANDARD
BEGIN:DAYLIGHT
TZOFFSETFROM:+0100
TZOFFSETTO:+0200
TZNAME:CEST
DTSTART:20270328T010000
END:DAYLIGHT
BEGIN:STANDARD
TZOFFSETFROM:+0200
TZOFFSETTO:+0100
TZNAME:CET
DTSTART:20271031T010000
END:STANDARD
END:VTIMEZONE
BEGIN:VEVENT
DTSTART;TZID=Europe/Prague:20260522T210000
DTEND;TZID=Europe/Prague:20260523T000000
DTSTAMP:20260420T001036
CREATED:20260402T181408Z
LAST-MODIFIED:20260402T181410Z
UID:42477-1779483600-1779494400@nasejiznimorava.cz
SUMMARY:Tenkrát na Západě 2\, Koncert filmové hudby s iluminacemi
DESCRIPTION:Tenkrát na Západě 2\, Koncert filmové hudby s iluminacemi se uskuteční dne 2026-05-22 v 21:00 v Brno\, Červený kostel. \n🎟️ Koupit vstupenku \n\nTenkrát na Západě 2 – koncert Moravského klavírního tria se světelnými iluminacemi \nZveme Vás na nezapomenutelný večer plný ikonických melodií z oblíbených filmů! \nNejznámější filmoví hrdinové ožijí ve velkolepě osvětleném magickém Červeném kostele. \nMimo Tenkrát na Západě Vás čekají další úžasné filmové hity. \n  \nUkázka: https://www.youtube.com/watch?v=tRxyQg4bFYw \n  \n\nTento tip na kulturní akci v Brno najdete v přehledu na nasejiznimorava.cz kde na jednom místě shromažďujeme desítky dalších koncertů\, festivalů\, divadelních představení i komunitních událostí z celého regionu i z celé ČR. Přehled je přehledně řazený\, pravidelně aktualizovaný a umožní vám rychle najít přesně to\, co vás zajímá – od velkých open-air akcí až po menší lokální programy. Každý si tak snadno vybere podle svého vkusu i času. Pokud vás některá akce zaujme\, nezapomeňte si včas zajistit vstupenky; stačí kliknout na detail události a budete bezpečně přesměrováni na oficiálního prodejce vstupenek..
URL:https://nasejiznimorava.cz/event/tenkrat-na-zapade-2-koncert-filmove-hudby-s-iluminacemi/
LOCATION:Červený kostel\, Brno\, Červený kostel\, Brno\, Česká republika
CATEGORIES:Koncert
ATTACH;FMTTYPE=image/jpeg:https://nasejiznimorava.cz/wp-content/uploads/2026/04/320-8897adb8016a48249236110181ef55c2.jpg
END:VEVENT
END:VCALENDAR