BEGIN:VCALENDAR
VERSION:2.0
PRODID:-// „Objev místa, kde se dobře pije, krásně spí a skvěle žije“  - ECPv6.15.20//NONSGML v1.0//EN
CALSCALE:GREGORIAN
METHOD:PUBLISH
X-ORIGINAL-URL:https://nasejiznimorava.cz
X-WR-CALDESC:Akce na  „Objev místa, kde se dobře pije, krásně spí a skvěle žije“ 
REFRESH-INTERVAL;VALUE=DURATION:PT1H
X-Robots-Tag:noindex
X-PUBLISHED-TTL:PT1H
BEGIN:VTIMEZONE
TZID:Europe/Prague
BEGIN:DAYLIGHT
TZOFFSETFROM:+0100
TZOFFSETTO:+0200
TZNAME:CEST
DTSTART:20250330T010000
END:DAYLIGHT
BEGIN:STANDARD
TZOFFSETFROM:+0200
TZOFFSETTO:+0100
TZNAME:CET
DTSTART:20251026T010000
END:STANDARD
BEGIN:DAYLIGHT
TZOFFSETFROM:+0100
TZOFFSETTO:+0200
TZNAME:CEST
DTSTART:20260329T010000
END:DAYLIGHT
BEGIN:STANDARD
TZOFFSETFROM:+0200
TZOFFSETTO:+0100
TZNAME:CET
DTSTART:20261025T010000
END:STANDARD
BEGIN:DAYLIGHT
TZOFFSETFROM:+0100
TZOFFSETTO:+0200
TZNAME:CEST
DTSTART:20270328T010000
END:DAYLIGHT
BEGIN:STANDARD
TZOFFSETFROM:+0200
TZOFFSETTO:+0100
TZNAME:CET
DTSTART:20271031T010000
END:STANDARD
END:VTIMEZONE
BEGIN:VEVENT
DTSTART;TZID=Europe/Prague:20260527T190000
DTEND;TZID=Europe/Prague:20260527T220000
DTSTAMP:20260420T020750
CREATED:20260121T194005Z
LAST-MODIFIED:20260121T194018Z
UID:41868-1779908400-1779919200@nasejiznimorava.cz
SUMMARY:Ludovico Einaudi Music | Šumperk
DESCRIPTION:Ludovico Einaudi Music | Šumperk se uskuteční dne 2026-05-27 v 19:00 v Šumperk\, Klášterní kostel Zvěstování Panny Marie. \n🎟️ Koupit vstupenku \n\nNenechte si ujít nezapomenutelný večer krásné hudby\, kde zazní melodie jednoho z nejlepších pianistů a skladatelů na světe\, Ludovica Einaudiho v podání předního českého klavíristy Tomáše Vrány. \nEinaudi je známý svými jednoduchými\, ale strašidelně krásnými minimalistickými díly pro klavír a ohromující filmovou hudbou. Za téměř třicet let své činnosti vydal řadu alb\, která se dostala na přední příčky poslechovosti\, vyprodává nejprestižnější koncertní sály po celém světě a jeho hudba zazněla v mnoha slavných filmech (Nedotknutelní\, Doktor Živago\, To je Anglie\, Nomadland a další). \nTento jedinečný koncert nabídne více než jen hudbu. Symfonie třpytivých svíček rozsvítí celý prostor a přidá na mystičnu a kouzlu večera. Každá svíčka přispěje k vytvoření kouzelného prostředí\, které dokonale doplní hudební zážitek. \nV rámci Evropské tour alternují také: Alexandr Starý a Lucie Kubátová.  \nAkce je přístupná od 12 let. Každý účastník musí předložit platnou vstupenku  zakoupenou výhradně v síti smsticket. \n\nTento tip na kulturní akci v Šumperk najdete v přehledu na nasejiznimorava.cz kde na jednom místě shromažďujeme desítky dalších koncertů\, festivalů\, divadelních představení i komunitních událostí z celého regionu i z celé ČR. Přehled je přehledně řazený\, pravidelně aktualizovaný a umožní vám rychle najít přesně to\, co vás zajímá – od velkých open-air akcí až po menší lokální programy. Každý si tak snadno vybere podle svého vkusu i času. Pokud vás některá akce zaujme\, nezapomeňte si včas zajistit vstupenky; stačí kliknout na detail události a budete bezpečně přesměrováni na oficiálního prodejce vstupenek..
URL:https://nasejiznimorava.cz/event/ludovico-einaudi-music-sumperk-2/
LOCATION:Klášterní kostel Zvěstování Panny Marie\, Šumperk\, Klášterní kostel Zvěstování Panny Marie\, Šumperk\, Česká republika
CATEGORIES:Koncert
ATTACH;FMTTYPE=image/jpeg:https://nasejiznimorava.cz/wp-content/uploads/2026/01/320-a4b82f0c8adc4565b2299113bc95f5ef.jpg
END:VEVENT
BEGIN:VEVENT
DTSTART;TZID=Europe/Prague:20260527T190000
DTEND;TZID=Europe/Prague:20260527T220000
DTSTAMP:20260420T020750
CREATED:20260121T194005Z
LAST-MODIFIED:20260121T194026Z
UID:41869-1779908400-1779919200@nasejiznimorava.cz
SUMMARY:Ludovico Einaudi Music | Šumperk
DESCRIPTION:Ludovico Einaudi Music | Šumperk se uskuteční dne 2026-05-27 v 19:00 v Šumperk\, Klášterní kostel Zvěstování Panny Marie. \n🎟️ Koupit vstupenku \n\nNenechte si ujít nezapomenutelný večer krásné hudby\, kde zazní melodie jednoho z nejlepších pianistů a skladatelů na světe\, Ludovica Einaudiho v podání předního českého klavíristy Tomáše Vrány. \nEinaudi je známý svými jednoduchými\, ale strašidelně krásnými minimalistickými díly pro klavír a ohromující filmovou hudbou. Za téměř třicet let své činnosti vydal řadu alb\, která se dostala na přední příčky poslechovosti\, vyprodává nejprestižnější koncertní sály po celém světě a jeho hudba zazněla v mnoha slavných filmech (Nedotknutelní\, Doktor Živago\, To je Anglie\, Nomadland a další). \nTento jedinečný koncert nabídne více než jen hudbu. Symfonie třpytivých svíček rozsvítí celý prostor a přidá na mystičnu a kouzlu večera. Každá svíčka přispěje k vytvoření kouzelného prostředí\, které dokonale doplní hudební zážitek. \nV rámci Evropské tour alternují také: Alexandr Starý a Lucie Kubátová.  \nAkce je přístupná od 12 let. Každý účastník musí předložit platnou vstupenku  zakoupenou výhradně v síti smsticket. \n\nTento tip na kulturní akci v Šumperk najdete v přehledu na nasejiznimorava.cz kde na jednom místě shromažďujeme desítky dalších koncertů\, festivalů\, divadelních představení i komunitních událostí z celého regionu i z celé ČR. Přehled je přehledně řazený\, pravidelně aktualizovaný a umožní vám rychle najít přesně to\, co vás zajímá – od velkých open-air akcí až po menší lokální programy. Každý si tak snadno vybere podle svého vkusu i času. Pokud vás některá akce zaujme\, nezapomeňte si včas zajistit vstupenky; stačí kliknout na detail události a budete bezpečně přesměrováni na oficiálního prodejce vstupenek..
URL:https://nasejiznimorava.cz/event/ludovico-einaudi-music-sumperk/
LOCATION:Klášterní kostel Zvěstování Panny Marie\, Šumperk\, Klášterní kostel Zvěstování Panny Marie\, Šumperk\, Česká republika
CATEGORIES:Koncert
ATTACH;FMTTYPE=image/jpeg:https://nasejiznimorava.cz/wp-content/uploads/2026/01/320-a4b82f0c8adc4565b2299113bc95f5ef-1.jpg
END:VEVENT
BEGIN:VEVENT
DTSTART;TZID=Europe/Prague:20260610T190000
DTEND;TZID=Europe/Prague:20260610T220000
DTSTAMP:20260420T020750
CREATED:20260122T161751Z
LAST-MODIFIED:20260122T161802Z
UID:41926-1781118000-1781128800@nasejiznimorava.cz
SUMMARY:Hudba Bridgerton při svíčkách
DESCRIPTION:Hudba Bridgerton při svíčkách se uskuteční dne 2026-06-10 v 19:00 v Turnov\, Městské divadlo. \n🎟️ Koupit vstupenku \n\nNenechte si ujít večer plný romantiky a elegance\, kde zazní ty nejznámější melodie a písně z oblíbeného seriálu Bridgerton. Světlo stovky svíček vytvoří okouzlující atmosféru koncertu. \nProgram v jedinečném provedení smyčcového kvarteta představí výběr hudebních skladeb z tohoto populárního seriálu\, inspirovaných klasickými díly i moderními popovými melodiemi\, které si získaly srdce diváků po celém světě. \nTento koncert nabídne víc než jen hudbu; stovky svíček rozzáří prostor a vytvoří atmosféru plnou noblesy\, romantiky a neodolatelného kouzla historické doby. \nAkce je přístupná od 12 let. Každý účastník musí předložit platnou vstupenku  zakoupenou výhradně v síti smsticket. \n\nTento tip na kulturní akci v Turnov najdete v přehledu na nasejiznimorava.cz kde na jednom místě shromažďujeme desítky dalších koncertů\, festivalů\, divadelních představení i komunitních událostí z celého regionu i z celé ČR. Přehled je přehledně řazený\, pravidelně aktualizovaný a umožní vám rychle najít přesně to\, co vás zajímá – od velkých open-air akcí až po menší lokální programy. Každý si tak snadno vybere podle svého vkusu i času. Pokud vás některá akce zaujme\, nezapomeňte si včas zajistit vstupenky; stačí kliknout na detail události a budete bezpečně přesměrováni na oficiálního prodejce vstupenek..
URL:https://nasejiznimorava.cz/event/hudba-bridgerton-pri-svickach-29/
LOCATION:Městské divadlo\, Turnov\, Městské divadlo\, Turnov\, Česká republika
CATEGORIES:Koncert
ATTACH;FMTTYPE=image/jpeg:https://nasejiznimorava.cz/wp-content/uploads/2026/01/320-134e0ab5c4c54a26a93e23adcf4da3d8.jpg
END:VEVENT
BEGIN:VEVENT
DTSTART;TZID=Europe/Prague:20260618T190000
DTEND;TZID=Europe/Prague:20260618T220000
DTSTAMP:20260420T020750
CREATED:20260123T180321Z
LAST-MODIFIED:20260123T180328Z
UID:41933-1781809200-1781820000@nasejiznimorava.cz
SUMMARY:Hudba Bridgerton při svíčkách
DESCRIPTION:Hudba Bridgerton při svíčkách se uskuteční dne 2026-06-18 v 19:00 v Zlín\, Kongresové centrum. \n🎟️ Koupit vstupenku \n\nNenechte si ujít večer plný romantiky a elegance\, kde zazní ty nejznámější melodie a písně z oblíbeného seriálu Bridgerton. Světlo stovky svíček vytvoří okouzlující atmosféru koncertu. \nProgram v jedinečném provedení smyčcového kvarteta představí výběr hudebních skladeb z tohoto populárního seriálu\, inspirovaných klasickými díly i moderními popovými melodiemi\, které si získaly srdce diváků po celém světě. \nTento koncert nabídne víc než jen hudbu; stovky svíček rozzáří prostor a vytvoří atmosféru plnou noblesy\, romantiky a neodolatelného kouzla historické doby. \nAkce je přístupná od 12 let. Každý účastník musí předložit platnou vstupenku  zakoupenou výhradně v síti smsticket. \n\nTento tip na kulturní akci v Zlín najdete v přehledu na nasejiznimorava.cz kde na jednom místě shromažďujeme desítky dalších koncertů\, festivalů\, divadelních představení i komunitních událostí z celého regionu i z celé ČR. Přehled je přehledně řazený\, pravidelně aktualizovaný a umožní vám rychle najít přesně to\, co vás zajímá – od velkých open-air akcí až po menší lokální programy. Každý si tak snadno vybere podle svého vkusu i času. Pokud vás některá akce zaujme\, nezapomeňte si včas zajistit vstupenky; stačí kliknout na detail události a budete bezpečně přesměrováni na oficiálního prodejce vstupenek..
URL:https://nasejiznimorava.cz/event/hudba-bridgerton-pri-svickach-30/
LOCATION:Kongresové centrum\, Zlín\, Kongresové centrum\, Zlín\, Česká republika
CATEGORIES:Koncert
ATTACH;FMTTYPE=image/jpeg:https://nasejiznimorava.cz/wp-content/uploads/2026/01/320-5c9c6a06bd8a4d9c878e17898c1b1d3d.jpg
END:VEVENT
BEGIN:VEVENT
DTSTART;TZID=Europe/Prague:20261121T190000
DTEND;TZID=Europe/Prague:20261121T220000
DTSTAMP:20260420T020750
CREATED:20251228T080342Z
LAST-MODIFIED:20251228T080343Z
UID:41147-1795287600-1795298400@nasejiznimorava.cz
SUMMARY:Majestát hudby  / Die Majestät der Musik
DESCRIPTION:Majestát hudby  / Die Majestät der Musik se uskuteční dne 2026-11-21 v 19:00 v Chomutov\, Rocknet aréna. \n🎟️ Koupit vstupenku \n\nMajestát hudby  \nInformationen auf Deutsch weiter unten auf der Seite \n  \nNejvětší koncert filmové a klasické hudby v Ústeckém kraji.   \n21. 11. 2026  \nRocknet aréna Chomutov \nZveme vás na koncert filmové a klasické hudby –  Film&Classic Music Chomutov “Majestát hudby”. Jedná se o zcela výjimečnou událost svého druhu v ústeckém kraji – velkolepý večer filmové a klasické hudby v podání Symfonického orchestru Českého rozhlasu v kompletním obsazení\, včetně 40členného sboru.  V průběhu večer zazní slavné skladby  z oblíbených filmů pro  všechny generace. Program bude doplněn o melodie světoznámých skladatelů klasické hudby.  Nejmodernější sportovní halu v ústeckém kraji – Rocknet arénu Chomutov proměníme v ohromný koncertní sál.  \n  \nTato událost slibuje přilákat široké publikum napříč generacemi\, a to nejen milovníky klasické hudby\, ale i diváky fascinované ikonickými filmovými melodiemi v jedinečném orchestrálním provedení. \n  \nDirigent Chuhei Iwasaki  \n\nJaponský dirigent působící v České republice.\n\n  \nSólo kytara Daniel Krob  \n\nZkušený hudebník\, který spolupracoval s osobnostmi české hudební scény\, jako jsou Anna K\, Jakub Smolík\, Petr Kolář\, Pavel Vítek\, Ladislav Křížek nebo Aleš Brichta\, a pro některé z nich také složil písně. Ve své tvorbě citlivě propojuje klasickou koncertní kytaru s rockovou kytarou.\n\n  \nHudební skladatel Mychael Danna – čestný host \n\nDržitel Oscara a ocenění Zlatý glóbus\, za hudbu k filmu Life of Pi (Pí a jeho život)\nCena Emmy za hudbu minisérii  World Without End\n\n  \nModerátor: Michaela Gemrotová Štiková   \n\nVytvořila nahrávky pro Český rozhlas\, Slovenský rozhlas\, Italy Recording Studio a další. \nOd roku 2014 působí v muzikálu Fantom opery od Andrewa Lloyda Webbera\, kde ztvárňuje hlavní roli Christine Daaé. \nNa prknech Divadla Broadway působí v hlavní roli muzikálu Angelika a od roku 2017 alternuje hlavní roli muzikálu Ples upírů.\n\n  \nVIP balíček: \n\nNejlepší místa k sezení  v prvních pěti řadách\n​Vyhrazená místa k parkování\nVyhrazený vstup o 30 minut dříve\nPřednostní VIP šatna\nVoucher na 1 drink\, sklenice vína nebo nealko pití  \nSběratelský předmět – magnet F&C Music s originální grafikou\n\n🌐 Webseite: https://www.filmclassic.cz/📘 Facebook: https://www.facebook.com/FilmClassicMusicChomutov \n  \n  \nDie Majestät der Musik \nDas größte Konzert für Film- und klassische Musik in der Region Ústí nad Labem. \n21. 11. 2026Rocknet Aréna Komotau \nWir laden Sie herzlich zum Konzert der Film- und klassischen Musik – Film & Classic Music Chomutov „Die Majestät der Musik“ – ein. Es handelt sich um ein in der Region Ústí nad Labem einzigartiges Ereignis: ein beeindruckender Abend voller Film- und klassischer Musik\, präsentiert vom Symphonieorchester des Tschechischen Rundfunks in voller Besetzung\, einschließlich eines 40-köpfigen Chores. \nIm Laufe des Abends erklingen berühmte Kompositionen aus beliebten Filmen für alle Generationen. Das Programm wird durch Werke weltberühmter Komponisten der klassischen Musik ergänzt. Die modernste Sporthalle der Region – die Rocknet Aréna Komotau – verwandeln wir in einen beeindruckenden Konzertsaal. \nDiese Veranstaltung verspricht\, ein breites Publikum aller Altersgruppen anzuziehen – nicht nur Liebhaber klassischer Musik\, sondern auch Zuhörer\, die von ikonischen Filmmelodien in einzigartiger orchestraler Darbietung begeistert sind. \nDirigent: Chuhei Iwasaki \n\nJapanischer Dirigent\, der in der Tschechischen Republik wirkt.\n\nSologitarre: Daniel Krob \n\nEin erfahrener Musiker\, der mit Persönlichkeiten der tschechischen Musikszene wie Anna K\, Jakub Smolík\, Petr Kolář\, Pavel Vítek\, Ladislav Křížek und Aleš Brichta zusammengearbeitet hat und für einige von ihnen auch Lieder komponiert hat. In seiner Arbeit verbindet er einfühlsam die klassische Konzertgitarre mit der Rockgitarre.\n\nEhrengast: Komponist Mychael Danna \n\nOscar- und Golden-Globe-Preisträger für die Filmmusik zu Life of Pi („Life of Pi: Schiffbruch mit Tiger“).\nEmmy-Preisträger für die Musik zur Miniserie World Without End.\n\nModeration: Michaela Gemrotová Štiková \n\nSie hat Aufnahmen für den Tschechischen und Slowakischen Rundfunk\, das Italy Recording Studio und weitere produziert.\nSeit 2014 wirkt sie im Musical Das Phantom der Oper von Andrew Lloyd Webber mit\, wo sie die Hauptrolle der Christine Daaé verkörpert.\nAuf der Bühne des Divadlo Broadway spielt sie die Hauptrolle im Musical Angelika und seit 2017 alterniert sie die Hauptrolle im Musical Tanz der Vampire.\n\n  \nVIP-Paket: \n\nDie besten Sitzplätze in den ersten fünf Reihen\nReservierte Parkplätze\nReservierter Einlass 30 Minuten früher\nBevorzugte VIP-Garderobe\nGutschein für 1 Getränk – ein Glas Wein oder ein alkoholfreies Getränk\nSammlerstück – Magnet F&C Music mit originaler Grafik\n\n🌐 Webseite: https://www.filmclassic.cz/📘 Facebook: https://www.facebook.com/FilmClassicMusicChomutov \n\nTento tip na kulturní akci v Chomutov najdete v přehledu na nasejiznimorava.cz kde na jednom místě shromažďujeme desítky dalších koncertů\, festivalů\, divadelních představení i komunitních událostí z celého regionu i z celé ČR. Přehled je přehledně řazený\, pravidelně aktualizovaný a umožní vám rychle najít přesně to\, co vás zajímá – od velkých open-air akcí až po menší lokální programy. Každý si tak snadno vybere podle svého vkusu i času. Pokud vás některá akce zaujme\, nezapomeňte si včas zajistit vstupenky; stačí kliknout na detail události a budete bezpečně přesměrováni na oficiálního prodejce vstupenek..
URL:https://nasejiznimorava.cz/event/majestat-hudby-die-majestat-der-musik/
LOCATION:Rocknet aréna\, Chomutov\, Rocknet aréna\, Chomutov\, Česká republika
CATEGORIES:Koncert
ATTACH;FMTTYPE=image/jpeg:https://nasejiznimorava.cz/wp-content/uploads/2025/12/320-e8992335042b4ff08e351b1e906cfbef.jpg
END:VEVENT
END:VCALENDAR