BEGIN:VCALENDAR
VERSION:2.0
PRODID:-// „Objev místa, kde se dobře pije, krásně spí a skvěle žije“  - ECPv6.15.20//NONSGML v1.0//EN
CALSCALE:GREGORIAN
METHOD:PUBLISH
X-WR-CALNAME: „Objev místa, kde se dobře pije, krásně spí a skvěle žije“ 
X-ORIGINAL-URL:https://nasejiznimorava.cz
X-WR-CALDESC:Akce na  „Objev místa, kde se dobře pije, krásně spí a skvěle žije“ 
REFRESH-INTERVAL;VALUE=DURATION:PT1H
X-Robots-Tag:noindex
X-PUBLISHED-TTL:PT1H
BEGIN:VTIMEZONE
TZID:Europe/Prague
BEGIN:DAYLIGHT
TZOFFSETFROM:+0100
TZOFFSETTO:+0200
TZNAME:CEST
DTSTART:20250330T010000
END:DAYLIGHT
BEGIN:STANDARD
TZOFFSETFROM:+0200
TZOFFSETTO:+0100
TZNAME:CET
DTSTART:20251026T010000
END:STANDARD
BEGIN:DAYLIGHT
TZOFFSETFROM:+0100
TZOFFSETTO:+0200
TZNAME:CEST
DTSTART:20260329T010000
END:DAYLIGHT
BEGIN:STANDARD
TZOFFSETFROM:+0200
TZOFFSETTO:+0100
TZNAME:CET
DTSTART:20261025T010000
END:STANDARD
BEGIN:DAYLIGHT
TZOFFSETFROM:+0100
TZOFFSETTO:+0200
TZNAME:CEST
DTSTART:20270328T010000
END:DAYLIGHT
BEGIN:STANDARD
TZOFFSETFROM:+0200
TZOFFSETTO:+0100
TZNAME:CET
DTSTART:20271031T010000
END:STANDARD
END:VTIMEZONE
BEGIN:VEVENT
DTSTART;TZID=Europe/Prague:20260515T190000
DTEND;TZID=Europe/Prague:20260515T220000
DTSTAMP:20260420T015946
CREATED:20251111T153719Z
LAST-MODIFIED:20251111T153721Z
UID:37594-1778871600-1778882400@nasejiznimorava.cz
SUMMARY:ABBA SHOW 50
DESCRIPTION:ABBA SHOW 50 se uskuteční dne 2026-05-15 v 19:00 v Frýdek-Místek\, Národní dům. \n🎟️ Koupit vstupenku \n\nABBA WORLD Revival je desetičlenný soubor profesionálních hudebníků\, které spojuje obdiv k tvorbě světoznámé švédské skupiny ABBA.Tato tribute show patří mezi světovou špičku a přináší 100% živé vystoupení bez playbacků a half-playbacků. \nV repertoáru mají více než 30 nejznámějších hitů skupiny ABBA\, které jsou zahrány s takovou přesností\, že jsou téměř k nerozeznání od originálů. Celou show doplňují autentické dobové kostýmy\, image a choreografie. \nDíky svému charakteristickému zvuku a preciznímu hudebnímu provedení vystupuje ABBA WORLD Revival úspěšně po celé Evropě a oslovuje posluchače všech generací. Množství odehraných koncertů a léta úspěšné existence jsou toho nejlepším důkazem. \n\nTento tip na kulturní akci v Frýdek-Místek najdete v přehledu na nasejiznimorava.cz kde na jednom místě shromažďujeme desítky dalších koncertů\, festivalů\, divadelních představení i komunitních událostí z celého regionu i z celé ČR. Přehled je přehledně řazený\, pravidelně aktualizovaný a umožní vám rychle najít přesně to\, co vás zajímá – od velkých open-air akcí až po menší lokální programy. Každý si tak snadno vybere podle svého vkusu i času. Pokud vás některá akce zaujme\, nezapomeňte si včas zajistit vstupenky; stačí kliknout na detail události a budete bezpečně přesměrováni na oficiálního prodejce vstupenek..
URL:https://nasejiznimorava.cz/event/abba-show-50-6/
LOCATION:Národní dům\, Frýdek-Místek\, Národní dům\, Frýdek-Místek\, Česká republika
CATEGORIES:Koncert
ATTACH;FMTTYPE=image/jpeg:https://nasejiznimorava.cz/wp-content/uploads/2025/11/320-d1301541702743d3830221c2e8f3a15b.jpg
END:VEVENT
BEGIN:VEVENT
DTSTART;TZID=Europe/Prague:20261030T190000
DTEND;TZID=Europe/Prague:20261030T220000
DTSTAMP:20260420T015946
CREATED:20260209T141407Z
LAST-MODIFIED:20260209T141408Z
UID:42081-1793386800-1793397600@nasejiznimorava.cz
SUMMARY:Travesti Divoké kočky ve Frýdku - Místku
DESCRIPTION:Travesti Divoké kočky ve Frýdku – Místku se uskuteční dne 2026-10-30 v 19:00 v Frýdek-Místek\, Národní dům. \n🎟️ Koupit vstupenku \n\nTravesti skupina Divoké kočky z Ostravy přijíždí se svým celovečerním zábavným programem do Frýdku-Místku\, kde vystoupí 30.10.2026 od 19:00 na sále Národního domu Frýdek-Místek 1. \nDélka programu s přestávkou 150 min. \nCelovečerní zábavný program je plný nezapomenutelných legračních scének\, písniček\, známých zpěvaček\, krásných kostýmů\, situačního humoru\, smíchu a je vhodný jak pro ženské tak pánské publikum. Jejich vystoupení se těší stálé větší oblibě a tak si každý divák přijde na své.Přijdte se sami přesvědčit\, že na travesti představení není nic špatného a v podání ostravských umělců se budete určitě dobře bavit. Divoké kočky se těší opět na úžasné místní publikum\, atmosféru a skvělý večer\, který vždy zaplněný sál diváků vytvoří. Přijďte se pobavit i Vy.Na závěr programu Vám členové souboru ukážou svou pravou tvář. \n\nTento tip na kulturní akci v Frýdek-Místek najdete v přehledu na nasejiznimorava.cz kde na jednom místě shromažďujeme desítky dalších koncertů\, festivalů\, divadelních představení i komunitních událostí z celého regionu i z celé ČR. Přehled je přehledně řazený\, pravidelně aktualizovaný a umožní vám rychle najít přesně to\, co vás zajímá – od velkých open-air akcí až po menší lokální programy. Každý si tak snadno vybere podle svého vkusu i času. Pokud vás některá akce zaujme\, nezapomeňte si včas zajistit vstupenky; stačí kliknout na detail události a budete bezpečně přesměrováni na oficiálního prodejce vstupenek..
URL:https://nasejiznimorava.cz/event/travesti-divoke-kocky-ve-frydku-mistku-2/
LOCATION:Národní dům\, Frýdek-Místek\, Národní dům\, Frýdek-Místek\, Česká republika
CATEGORIES:Zábava
ATTACH;FMTTYPE=image/jpeg:https://nasejiznimorava.cz/wp-content/uploads/2026/02/320-9a524abcb0df4b1aa48ea458b16da448.jpg
END:VEVENT
END:VCALENDAR