BEGIN:VCALENDAR
VERSION:2.0
PRODID:-// „Objev místa, kde se dobře pije, krásně spí a skvěle žije“  - ECPv6.15.20//NONSGML v1.0//EN
CALSCALE:GREGORIAN
METHOD:PUBLISH
X-ORIGINAL-URL:https://nasejiznimorava.cz
X-WR-CALDESC:Akce na  „Objev místa, kde se dobře pije, krásně spí a skvěle žije“ 
REFRESH-INTERVAL;VALUE=DURATION:PT1H
X-Robots-Tag:noindex
X-PUBLISHED-TTL:PT1H
BEGIN:VTIMEZONE
TZID:Europe/Prague
BEGIN:DAYLIGHT
TZOFFSETFROM:+0100
TZOFFSETTO:+0200
TZNAME:CEST
DTSTART:20250330T010000
END:DAYLIGHT
BEGIN:STANDARD
TZOFFSETFROM:+0200
TZOFFSETTO:+0100
TZNAME:CET
DTSTART:20251026T010000
END:STANDARD
BEGIN:DAYLIGHT
TZOFFSETFROM:+0100
TZOFFSETTO:+0200
TZNAME:CEST
DTSTART:20260329T010000
END:DAYLIGHT
BEGIN:STANDARD
TZOFFSETFROM:+0200
TZOFFSETTO:+0100
TZNAME:CET
DTSTART:20261025T010000
END:STANDARD
BEGIN:DAYLIGHT
TZOFFSETFROM:+0100
TZOFFSETTO:+0200
TZNAME:CEST
DTSTART:20270328T010000
END:DAYLIGHT
BEGIN:STANDARD
TZOFFSETFROM:+0200
TZOFFSETTO:+0100
TZNAME:CET
DTSTART:20271031T010000
END:STANDARD
END:VTIMEZONE
BEGIN:VEVENT
DTSTART;TZID=Europe/Prague:20260305T190000
DTEND;TZID=Europe/Prague:20260305T220000
DTSTAMP:20260420T015210
CREATED:20251111T124018Z
LAST-MODIFIED:20251111T124019Z
UID:36199-1772737200-1772748000@nasejiznimorava.cz
SUMMARY:Hudba Coldplay při svíčkách
DESCRIPTION:Hudba Coldplay při svíčkách se uskuteční dne 2026-03-05 v 19:00 v Hradec Králové\, Petrof Gallery. \n🎟️ Koupit vstupenku \n\nNenechte si ujít večer plný energie a emocí\, kde zazní ty největší hity britské kapely Coldplay. Světlo stovky svíček vytvoří nezapomenutelnou atmosféru tohoto jedinečného koncertu. \nProgram v podání smyčcového kvarteta nabídne výběr těch nejznámějších skladeb Coldplay\, včetně hitů jako „Fix You“\, „Yellow“ či „Viva La Vida“\, které si získaly srdce fanoušků po celém světě. \nTento koncert přinese víc než jen hudbu; stovky svíček rozzáří prostor a vytvoří atmosféru plnou emocí\, melancholie a nezapomenutelných melodií\, které vás vezmou na hudební cestu s Coldplay. \nAkce je přístupná od 12 let. Každý účastník musí předložit platnou vstupenku  zakoupenou výhradně v síti SMS ticket. \n\nTento tip na kulturní akci v Hradec Králové najdete v přehledu na nasejiznimorava.cz kde na jednom místě shromažďujeme desítky dalších koncertů\, festivalů\, divadelních představení i komunitních událostí z celého regionu i z celé ČR. Přehled je přehledně řazený\, pravidelně aktualizovaný a umožní vám rychle najít přesně to\, co vás zajímá – od velkých open-air akcí až po menší lokální programy. Každý si tak snadno vybere podle svého vkusu i času. Pokud vás některá akce zaujme\, nezapomeňte si včas zajistit vstupenky; stačí kliknout na detail události a budete bezpečně přesměrováni na oficiálního prodejce vstupenek..
URL:https://nasejiznimorava.cz/event/hudba-coldplay-pri-svickach/
LOCATION:Petrof Gallery\, Hradec Králové\, Petrof Gallery\, Hradec Králové\, Česká republika
CATEGORIES:Koncert
ATTACH;FMTTYPE=image/jpeg:https://nasejiznimorava.cz/wp-content/uploads/2025/11/320-3bd3574c659e4278b6f98dda80f7727e.jpg
END:VEVENT
BEGIN:VEVENT
DTSTART;TZID=Europe/Prague:20260318T190000
DTEND;TZID=Europe/Prague:20260318T220000
DTSTAMP:20260420T015210
CREATED:20251215T111016Z
LAST-MODIFIED:20251215T111017Z
UID:40402-1773860400-1773871200@nasejiznimorava.cz
SUMMARY:Petr Jablonský - Stand-up imitátor show - Hradec Králové
DESCRIPTION:Petr Jablonský – Stand-up imitátor show – Hradec Králové se uskuteční dne 2026-03-18 v 19:00 v Hradec Králové\, Adalbertinum\, Velký sál. \n🎟️ Koupit vstupenku \n\nPřední český imitátor a bavič Petr Jablonský přichází na pódium se svou první celovečerní Stand-up show\, která vás nenechá v klidu!  \nVstupte do světa brilantních hlasových proměn\, výrazné gestikulace\, výmluvné mimiky a vytříbeného komediálního talentu. Užijte si umění imitace v celé své kráse – naživo a naplno! \nTěšit se můžete na originální vystoupení\, ve kterém se na jevišti objeví plejáda postav z politického\, kulturního i televizního prostředí – ovšem v podání jediného člověka. Hlasy\, které dobře znáte\, zazní s takovou přesností\, že budete mít pocit\, jako by tam skutečně stáli. Chybět nebudou ani legendární filmové postavy – například slavný četník Cruchot a další hrdinové z klasických komedií\, kteří znovu ožívají díky Jablonského energii a dokonalé imitaci. \nRozehraje se šíleně zábavná show\, kde nikdo nezůstane ušetřen – a vy se budete smát od první minuty až do závěrečného potlesku. Petr si nebere servítky a jde přímo na věc. Ostrý jazyk\, přesné trefy a imitace\, které vás rozesmějí do slz. \nNekorektní humor. Desítky známých osobností. A jeden muž\, co to všechno zvládne sám. \nwww.standupshow.cz \n\nTento tip na kulturní akci v Hradec Králové najdete v přehledu na nasejiznimorava.cz kde na jednom místě shromažďujeme desítky dalších koncertů\, festivalů\, divadelních představení i komunitních událostí z celého regionu i z celé ČR. Přehled je přehledně řazený\, pravidelně aktualizovaný a umožní vám rychle najít přesně to\, co vás zajímá – od velkých open-air akcí až po menší lokální programy. Každý si tak snadno vybere podle svého vkusu i času. Pokud vás některá akce zaujme\, nezapomeňte si včas zajistit vstupenky; stačí kliknout na detail události a budete bezpečně přesměrováni na oficiálního prodejce vstupenek..
URL:https://nasejiznimorava.cz/event/petr-jablonsky-stand-up-imitator-show-hradec-kralove/
LOCATION:Adalbertinum\, Velký sál\, Hradec Králové\, Adalbertinum\, Velký sál\, Hradec Králové\, Česká republika
CATEGORIES:Zábava
ATTACH;FMTTYPE=image/jpeg:https://nasejiznimorava.cz/wp-content/uploads/2025/12/320-863060ffa0504de3a3d5721b45383ded.jpg
END:VEVENT
BEGIN:VEVENT
DTSTART;TZID=Europe/Prague:20260318T200000
DTEND;TZID=Europe/Prague:20260318T230000
DTSTAMP:20260420T015210
CREATED:20251111T133006Z
LAST-MODIFIED:20251111T133007Z
UID:37158-1773864000-1773874800@nasejiznimorava.cz
SUMMARY:ZZ Top Experience – Fuzz Top (FR)
DESCRIPTION:ZZ Top Experience – Fuzz Top (FR) se uskuteční dne 2026-03-18 v 20:00 v Hradec Králové\, Petrof Gallery. \n🎟️ Koupit vstupenku \n\nZZ Top Experience – Fuzz Top (FR) v ČR \nFrancouzská superskupina Fuzz Top byla založena v roce 2010 a interpretuje dokonale tvorbu jižanské legendy ZZ Top (Heuston\, Texas\,USA). Není potřeba uvádět\, že ZZ Top je jedna z nejlepších rockových formací světa a spolu s AC/DC\, Black Sabbath a Deep Purple jsou jedním z historických pilířů moderní rockové hudby vůbec. ZZ Top navíc založili a určili jižanský styl rocku vycházející z texaského blues. \nFuzz Top je dle odborníků nejvěrnější kopie ZZ Top současnosti a koncertují ve velkých halách po celém světě. Styl kapely je věrný věrný původním skladbám\, rytmické a sólové kytarové riffy jsou reprodukovány do noty\, repertoár tvoří největší hity vousatých chlápků z Texasu od roku 1969 do současnosti. Hudebníci používají klávesové sekvence jako na originálu pro skladby z let 1979 až 1990.Členové kapely jsou k nerozeznání od ZZ Top i vizuelně i scéna a videoprojekce koncertů je lehce zaměnitelná s originálem. A originál – ZZ Top fanoušci již v Evropě zřejmě neuslyší\, ZZ Top totiž koncertují v poslední době převážně na severoamerickém kontinentu. \nSe stejnou choreografií\, kytarami Hot Rod a otočnými hračkami\, osvětlenými mikrofonními stojany\, kostýmy\, výzdobou\, bicími ZZ Top\, se třemi až čtyřmi výměnami kostýmů a kytar během show a vlajícími vousy vtáhnou fanoušky do světa ZZ Top. \nOd 28. června 2014 po setkání Billyho Gibbonse\, Dusty Hilla a Franka Bearda jsou oficiální tribute kapelou ZZ Top. Jako jediná kapela na světě vlastní slavný Ford Dust’Eliminator z roku 1933 (věrná kopie Eliminatoru). \nFuzz Top odehráli již přes 500 koncertů pro více než 250000 návštěvníků. \nAktuální sestavu tvoří : \nPatrick Pacheco\, zpěv\, kytara \nChristian Desmit basový zpěv \nSpráva bicích sboru Patrick Girardon \n\nTento tip na kulturní akci v Hradec Králové najdete v přehledu na nasejiznimorava.cz kde na jednom místě shromažďujeme desítky dalších koncertů\, festivalů\, divadelních představení i komunitních událostí z celého regionu i z celé ČR. Přehled je přehledně řazený\, pravidelně aktualizovaný a umožní vám rychle najít přesně to\, co vás zajímá – od velkých open-air akcí až po menší lokální programy. Každý si tak snadno vybere podle svého vkusu i času. Pokud vás některá akce zaujme\, nezapomeňte si včas zajistit vstupenky; stačí kliknout na detail události a budete bezpečně přesměrováni na oficiálního prodejce vstupenek..
URL:https://nasejiznimorava.cz/event/zz-top-experience-fuzz-top-fr/
LOCATION:Petrof Gallery\, Hradec Králové\, Petrof Gallery\, Hradec Králové\, Česká republika
CATEGORIES:Koncert
ATTACH;FMTTYPE=image/jpeg:https://nasejiznimorava.cz/wp-content/uploads/2025/11/320-dcf61724eb484286972a3d4d60849e9e.jpg
END:VEVENT
BEGIN:VEVENT
DTSTART;TZID=Europe/Prague:20260328T183000
DTEND;TZID=Europe/Prague:20260328T213000
DTSTAMP:20260420T015210
CREATED:20251217T151157Z
LAST-MODIFIED:20251217T151158Z
UID:40618-1774722600-1774733400@nasejiznimorava.cz
SUMMARY:Slavné filmové melodie a ABBA
DESCRIPTION:Slavné filmové melodie a ABBA se uskuteční dne 2026-03-28 v 18:30 v Hradec Králové\, Muzeum východních Čech. \n🎟️ Koupit vstupenku \n\nsál Muzea Východních Čech (vynikající stavba arch. Kotěry) \nSlavné filmové melodie a ABBA \nKlárovo kvarteto: \nPavel Hrda – I. housle\, Tom Klár – II. housle\, Libor Kaňka – viola\, Václav Fleissig – violoncello \n  \nPROGRAM: \nhudba z filmů a muzikálů: \nSedm statečných – Titanic – Most přes řeku Kwai – Vinnetou \nForrest Gump – Tenkrát na západě – Bodyguard – Pretty Woman \nDr.Živago – James Bond (Die another Day) \nMission Imposible – Pomáda – Hello Dolly \nABBA: \nDancing Queen – Fernando – Super Trouper \nMamma mia – Money\, money\, money \n(změna programu a účinkujících vyhrazena) \n\nTento tip na kulturní akci v Hradec Králové najdete v přehledu na nasejiznimorava.cz kde na jednom místě shromažďujeme desítky dalších koncertů\, festivalů\, divadelních představení i komunitních událostí z celého regionu i z celé ČR. Přehled je přehledně řazený\, pravidelně aktualizovaný a umožní vám rychle najít přesně to\, co vás zajímá – od velkých open-air akcí až po menší lokální programy. Každý si tak snadno vybere podle svého vkusu i času. Pokud vás některá akce zaujme\, nezapomeňte si včas zajistit vstupenky; stačí kliknout na detail události a budete bezpečně přesměrováni na oficiálního prodejce vstupenek..
URL:https://nasejiznimorava.cz/event/slavne-filmove-melodie-a-abba/
LOCATION:Muzeum východních Čech\, Hradec Králové\, Muzeum východních Čech\, Hradec Králové\, Česká republika
CATEGORIES:Koncert
ATTACH;FMTTYPE=image/jpeg:https://nasejiznimorava.cz/wp-content/uploads/2025/12/320-18c0fe7e4c574d12b2d3d4ca842934b2-1.jpg
END:VEVENT
BEGIN:VEVENT
DTSTART;TZID=Europe/Prague:20260328T183000
DTEND;TZID=Europe/Prague:20260328T213000
DTSTAMP:20260420T015210
CREATED:20251217T151157Z
LAST-MODIFIED:20251217T151158Z
UID:40619-1774722600-1774733400@nasejiznimorava.cz
SUMMARY:Slavné filmové melodie a ABBA
DESCRIPTION:Slavné filmové melodie a ABBA se uskuteční dne 2026-03-28 v 18:30 v Hradec Králové\, Muzeum východních Čech. \n🎟️ Koupit vstupenku \n\nsál Muzea Východních Čech (vynikající stavba arch. Kotěry) \nSlavné filmové melodie a ABBA \nKlárovo kvarteto: \nPavel Hrda – I. housle\, Tom Klár – II. housle\, Libor Kaňka – viola\, Václav Fleissig – violoncello \n  \nPROGRAM: \nhudba z filmů a muzikálů: \nSedm statečných – Titanic – Most přes řeku Kwai – Vinnetou \nForrest Gump – Tenkrát na západě – Bodyguard – Pretty Woman \nDr.Živago – James Bond (Die another Day) \nMission Imposible – Pomáda – Hello Dolly \nABBA: \nDancing Queen – Fernando – Super Trouper \nMamma mia – Money\, money\, money \n(změna programu a účinkujících vyhrazena) \n\nTento tip na kulturní akci v Hradec Králové najdete v přehledu na nasejiznimorava.cz kde na jednom místě shromažďujeme desítky dalších koncertů\, festivalů\, divadelních představení i komunitních událostí z celého regionu i z celé ČR. Přehled je přehledně řazený\, pravidelně aktualizovaný a umožní vám rychle najít přesně to\, co vás zajímá – od velkých open-air akcí až po menší lokální programy. Každý si tak snadno vybere podle svého vkusu i času. Pokud vás některá akce zaujme\, nezapomeňte si včas zajistit vstupenky; stačí kliknout na detail události a budete bezpečně přesměrováni na oficiálního prodejce vstupenek..
URL:https://nasejiznimorava.cz/event/slavne-filmove-melodie-a-abba-2/
LOCATION:Muzeum východních Čech\, Hradec Králové\, Muzeum východních Čech\, Hradec Králové\, Česká republika
CATEGORIES:Koncert
ATTACH;FMTTYPE=image/jpeg:https://nasejiznimorava.cz/wp-content/uploads/2025/12/320-18c0fe7e4c574d12b2d3d4ca842934b2.jpg
END:VEVENT
BEGIN:VEVENT
DTSTART;TZID=Europe/Prague:20260331T180000
DTEND;TZID=Europe/Prague:20260331T210000
DTSTAMP:20260420T015210
CREATED:20251111T170845Z
LAST-MODIFIED:20251111T170845Z
UID:38408-1774980000-1774990800@nasejiznimorava.cz
SUMMARY:B.I.Z.O.N.I. / BIZONI - Improvizované divadelní představení
DESCRIPTION:B.I.Z.O.N.I. / BIZONI – Improvizované divadelní představení se uskuteční dne 2026-03-31 v 18:00 v Hradec Králové\, Městská knihovna. \n🎟️ Koupit vstupenku \n\n🚨 LÍSTKY MIZÍ RYCHLE! \nIMPROSHOW Bizoni – Divadlo\, které vzniká přímo před vámi! \nNečekejte na 200 Kč na místě! Už teď se lístky prodávají a zájem neustále roste. Zajistěte si své místo předem a užijte si jedinečný\, garantovaný zážitek bez stresu. Přečtěte si\, proč se k nám lidé neustále vrací (recenze) \nImprovizační divadlo Bizoni vám přináší jedinečnou divadelní show\, kde je každé představení neopakovatelným zážitkem. Žádný předem daný scénář\, žádné naučené repliky – jen čistá improvizace\, která vzniká přímo před vašima očima z nápadů publika! \n❓ Ještě nemáme finální téma pro 2. prosince\, ale to je to nejlepší! Show s vámi společně vytvoříme na místě. Hoďte nám svůj nápad do komentářů na Facebooku!  \nJak to funguje? \nVy jako diváci navrhnete témata\, místa\, postavy nebo situace a naši herci okamžitě vytvoří zábavné a originální scénky. Každý nápad se může stát základem pro úsměvný příběh\, dramatickou situaci nebo překvapivý zvrat. Vaše fantazie určuje směr představení! \nCo vás čeká? \n\n\nGarantované překvapení: Vždy originální a neopakovatelná show! \n\n\nJistota místa: V předprodeji máte vstup bez čekání a rizika vyprodání. \n\n\nHumor pro každého: Od vtipných dialogů po absurdní situace. \n\n\nPraktické informace \n\n\nMísto: Knihovna Hradec Králové \n\n\nDélka: cca 90 minut \n\n\nVhodnost: 12+ \n\n\nVstupné: 179 Kč v předprodeji / 200 Kč na místě / 149 Kč studentské (pouze s platným dokladem na místě) \n\n\nInteraktivita: Možnost zapojení publika (dobrovolně) \n\n\nUžijte si večer plný smíchu a tvořivosti. Klikněte Koupit a zajistěte si místo v sále. \n\nTento tip na kulturní akci v Hradec Králové najdete v přehledu na nasejiznimorava.cz kde na jednom místě shromažďujeme desítky dalších koncertů\, festivalů\, divadelních představení i komunitních událostí z celého regionu i z celé ČR. Přehled je přehledně řazený\, pravidelně aktualizovaný a umožní vám rychle najít přesně to\, co vás zajímá – od velkých open-air akcí až po menší lokální programy. Každý si tak snadno vybere podle svého vkusu i času. Pokud vás některá akce zaujme\, nezapomeňte si včas zajistit vstupenky; stačí kliknout na detail události a budete bezpečně přesměrováni na oficiálního prodejce vstupenek..
URL:https://nasejiznimorava.cz/event/b-i-z-o-n-i-bizoni-improvizovane-divadelni-predstaveni-2/
LOCATION:Městská knihovna\, Hradec Králové\, Městská knihovna\, Hradec Králové\, Česká republika
CATEGORIES:Divadlo
ATTACH;FMTTYPE=image/jpeg:https://nasejiznimorava.cz/wp-content/uploads/2025/11/320-76b6562094fa4dfea246d020920b7fef.jpg
END:VEVENT
END:VCALENDAR