BEGIN:VCALENDAR
VERSION:2.0
PRODID:-// „Objev místa, kde se dobře pije, krásně spí a skvěle žije“  - ECPv6.15.20//NONSGML v1.0//EN
CALSCALE:GREGORIAN
METHOD:PUBLISH
X-WR-CALNAME: „Objev místa, kde se dobře pije, krásně spí a skvěle žije“ 
X-ORIGINAL-URL:https://nasejiznimorava.cz
X-WR-CALDESC:Akce na  „Objev místa, kde se dobře pije, krásně spí a skvěle žije“ 
REFRESH-INTERVAL;VALUE=DURATION:PT1H
X-Robots-Tag:noindex
X-PUBLISHED-TTL:PT1H
BEGIN:VTIMEZONE
TZID:Europe/Prague
BEGIN:DAYLIGHT
TZOFFSETFROM:+0100
TZOFFSETTO:+0200
TZNAME:CEST
DTSTART:20250330T010000
END:DAYLIGHT
BEGIN:STANDARD
TZOFFSETFROM:+0200
TZOFFSETTO:+0100
TZNAME:CET
DTSTART:20251026T010000
END:STANDARD
BEGIN:DAYLIGHT
TZOFFSETFROM:+0100
TZOFFSETTO:+0200
TZNAME:CEST
DTSTART:20260329T010000
END:DAYLIGHT
BEGIN:STANDARD
TZOFFSETFROM:+0200
TZOFFSETTO:+0100
TZNAME:CET
DTSTART:20261025T010000
END:STANDARD
BEGIN:DAYLIGHT
TZOFFSETFROM:+0100
TZOFFSETTO:+0200
TZNAME:CEST
DTSTART:20270328T010000
END:DAYLIGHT
BEGIN:STANDARD
TZOFFSETFROM:+0200
TZOFFSETTO:+0100
TZNAME:CET
DTSTART:20271031T010000
END:STANDARD
END:VTIMEZONE
BEGIN:VEVENT
DTSTART;TZID=Europe/Prague:20260223T190000
DTEND;TZID=Europe/Prague:20260223T220000
DTSTAMP:20260420T074621
CREATED:20260117T080658Z
LAST-MODIFIED:20260117T080658Z
UID:41717-1771873200-1771884000@nasejiznimorava.cz
SUMMARY:Nikola Džokič - Balkan Express - Stand-up - Hradec Králové
DESCRIPTION:Nikola Džokič – Balkan Express – Stand-up – Hradec Králové se uskuteční dne 2026-02-23 v 19:00 v Hradec Králové\, AC klub. \n🎟️ Koupit vstupenku \n\nUž deset let brázdí tenhle srbský řezník vody české stand up comedy se skupinou komiků Underground Comedy. Za tu dobu mu přibylo pár šedin\, jedno dítě\, a ubylo pár mozkových buněk. Pusu má ale pořád stejně prořízlou! \nO tom se můžete přesvědčit v jeho historicky první celovečerní one-man show\, plné nekorektních vtipů tak moc za hranou\, že padají střemhlav do mariánského příkopu slušnosti. \nVíc než hodina toho nejlepšího\, co už nikde jinde neuslyšíte ale i sada úplně nových vtipů drsnějších\, než panák rakije po deseti pivech. Pokud nejste útlocitné povahy\, dostanou i vás. \n\nTento tip na kulturní akci v Hradec Králové najdete v přehledu na nasejiznimorava.cz kde na jednom místě shromažďujeme desítky dalších koncertů\, festivalů\, divadelních představení i komunitních událostí z celého regionu i z celé ČR. Přehled je přehledně řazený\, pravidelně aktualizovaný a umožní vám rychle najít přesně to\, co vás zajímá – od velkých open-air akcí až po menší lokální programy. Každý si tak snadno vybere podle svého vkusu i času. Pokud vás některá akce zaujme\, nezapomeňte si včas zajistit vstupenky; stačí kliknout na detail události a budete bezpečně přesměrováni na oficiálního prodejce vstupenek..
URL:https://nasejiznimorava.cz/event/nikola-dzokic-balkan-express-stand-up-hradec-kralove/
LOCATION:AC klub\, Hradec Králové\, AC klub\, Hradec Králové\, Česká republika
CATEGORIES:Zábava
ATTACH;FMTTYPE=image/jpeg:https://nasejiznimorava.cz/wp-content/uploads/2026/01/320-d8d6f429d9bc4c02bbb53400234484b9.jpg
END:VEVENT
END:VCALENDAR