BEGIN:VCALENDAR
VERSION:2.0
PRODID:-// „Objev místa, kde se dobře pije, krásně spí a skvěle žije“  - ECPv6.15.20//NONSGML v1.0//EN
CALSCALE:GREGORIAN
METHOD:PUBLISH
X-WR-CALNAME: „Objev místa, kde se dobře pije, krásně spí a skvěle žije“ 
X-ORIGINAL-URL:https://nasejiznimorava.cz
X-WR-CALDESC:Akce na  „Objev místa, kde se dobře pije, krásně spí a skvěle žije“ 
REFRESH-INTERVAL;VALUE=DURATION:PT1H
X-Robots-Tag:noindex
X-PUBLISHED-TTL:PT1H
BEGIN:VTIMEZONE
TZID:Europe/Prague
BEGIN:DAYLIGHT
TZOFFSETFROM:+0100
TZOFFSETTO:+0200
TZNAME:CEST
DTSTART:20250330T010000
END:DAYLIGHT
BEGIN:STANDARD
TZOFFSETFROM:+0200
TZOFFSETTO:+0100
TZNAME:CET
DTSTART:20251026T010000
END:STANDARD
BEGIN:DAYLIGHT
TZOFFSETFROM:+0100
TZOFFSETTO:+0200
TZNAME:CEST
DTSTART:20260329T010000
END:DAYLIGHT
BEGIN:STANDARD
TZOFFSETFROM:+0200
TZOFFSETTO:+0100
TZNAME:CET
DTSTART:20261025T010000
END:STANDARD
BEGIN:DAYLIGHT
TZOFFSETFROM:+0100
TZOFFSETTO:+0200
TZNAME:CEST
DTSTART:20270328T010000
END:DAYLIGHT
BEGIN:STANDARD
TZOFFSETFROM:+0200
TZOFFSETTO:+0100
TZNAME:CET
DTSTART:20271031T010000
END:STANDARD
END:VTIMEZONE
BEGIN:VEVENT
DTSTART;TZID=Europe/Prague:20260416T180000
DTEND;TZID=Europe/Prague:20260416T210000
DTSTAMP:20260420T001046
CREATED:20260402T175518Z
LAST-MODIFIED:20260402T175518Z
UID:42425-1776362400-1776373200@nasejiznimorava.cz
SUMMARY:A zbylo nic / Vendula Šmídke a Jiří Charvát
DESCRIPTION:A zbylo nic / Vendula Šmídke a Jiří Charvát se uskuteční dne 2026-04-16 v 18:00 v Hradec Králové\, Adalbertinum\, Velký sál. \n🎟️ Koupit vstupenku \n\nA ZBYLO NIC – Večer pro rozpadající se osobnosti \nVendula Šmídke a Jiří Charvát \nPřednáška? Beseda? Terapeutický výmaz? \n  \n  \nCo vás čeká \nZdravíme všechny\, kdo se marně pokoušejí držet pohromadě. \nTahle událost je pro vás. \nVečer pro ty\, kdo tuší\, že neřídí vůbec nic. \nPro ty\, kdo se probudili – a zjistili\, že probuzení neexistuje. \nPro všechny\, kdo už pochopili\, že „já“ je jen zvuk\, který brzy utichne. \nVendula Šmídke spolu s Jirkou Charvátem vás vezmou do míst\, kde končí úsilí a začíná smích. \nUkážeme vám kousek ze svých Bufo seancí\, kde ego zápasí\, padá… a mizí. \nA pak už jen budeme. Mluvit. Mlčet. Smát se. Nechat věci\, ať se dějí. Nebo nedějí. \nPřednáška? Beseda? Terapeutický výmaz? \nMožná všechno. Možná nic. A možná právě proto bys tam měl být. \n\nTento tip na kulturní akci v Hradec Králové najdete v přehledu na nasejiznimorava.cz kde na jednom místě shromažďujeme desítky dalších koncertů\, festivalů\, divadelních představení i komunitních událostí z celého regionu i z celé ČR. Přehled je přehledně řazený\, pravidelně aktualizovaný a umožní vám rychle najít přesně to\, co vás zajímá – od velkých open-air akcí až po menší lokální programy. Každý si tak snadno vybere podle svého vkusu i času. Pokud vás některá akce zaujme\, nezapomeňte si včas zajistit vstupenky; stačí kliknout na detail události a budete bezpečně přesměrováni na oficiálního prodejce vstupenek..
URL:https://nasejiznimorava.cz/event/a-zbylo-nic-vendula-smidke-a-jiri-charvat/
LOCATION:Adalbertinum\, Velký sál\, Hradec Králové\, Adalbertinum\, Velký sál\, Hradec Králové\, Česká republika
CATEGORIES:Zábava
ATTACH;FMTTYPE=image/jpeg:https://nasejiznimorava.cz/wp-content/uploads/2026/04/320-63396eb21fd1498ab697d1f5c75d81b1.jpg
END:VEVENT
END:VCALENDAR