BEGIN:VCALENDAR
VERSION:2.0
PRODID:-// „Objev místa, kde se dobře pije, krásně spí a skvěle žije“  - ECPv6.15.20//NONSGML v1.0//EN
CALSCALE:GREGORIAN
METHOD:PUBLISH
X-WR-CALNAME: „Objev místa, kde se dobře pije, krásně spí a skvěle žije“ 
X-ORIGINAL-URL:https://nasejiznimorava.cz
X-WR-CALDESC:Akce na  „Objev místa, kde se dobře pije, krásně spí a skvěle žije“ 
REFRESH-INTERVAL;VALUE=DURATION:PT1H
X-Robots-Tag:noindex
X-PUBLISHED-TTL:PT1H
BEGIN:VTIMEZONE
TZID:Europe/Prague
BEGIN:DAYLIGHT
TZOFFSETFROM:+0100
TZOFFSETTO:+0200
TZNAME:CEST
DTSTART:20250330T010000
END:DAYLIGHT
BEGIN:STANDARD
TZOFFSETFROM:+0200
TZOFFSETTO:+0100
TZNAME:CET
DTSTART:20251026T010000
END:STANDARD
BEGIN:DAYLIGHT
TZOFFSETFROM:+0100
TZOFFSETTO:+0200
TZNAME:CEST
DTSTART:20260329T010000
END:DAYLIGHT
BEGIN:STANDARD
TZOFFSETFROM:+0200
TZOFFSETTO:+0100
TZNAME:CET
DTSTART:20261025T010000
END:STANDARD
BEGIN:DAYLIGHT
TZOFFSETFROM:+0100
TZOFFSETTO:+0200
TZNAME:CEST
DTSTART:20270328T010000
END:DAYLIGHT
BEGIN:STANDARD
TZOFFSETFROM:+0200
TZOFFSETTO:+0100
TZNAME:CET
DTSTART:20271031T010000
END:STANDARD
END:VTIMEZONE
BEGIN:VEVENT
DTSTART;TZID=Europe/Prague:20260430T180000
DTEND;TZID=Europe/Prague:20260430T210000
DTSTAMP:20260421T112919
CREATED:20251111T134605Z
LAST-MODIFIED:20251111T134606Z
UID:37488-1777572000-1777582800@nasejiznimorava.cz
SUMMARY:Atomic Witch Jane Pope Smokes Dope
DESCRIPTION:Atomic Witch Jane Pope Smokes Dope se uskuteční dne 2026-04-30 v 18:00 v Brno\, Dům pánů z Kunštátu. \n🎟️ Koupit vstupenku \n\nJá bych to normálně celej ten noťas hodil do koše a vysral se na to. \n\nTento tip na kulturní akci v Brno najdete v přehledu na nasejiznimorava.cz kde na jednom místě shromažďujeme desítky dalších koncertů\, festivalů\, divadelních představení i komunitních událostí z celého regionu i z celé ČR. Přehled je přehledně řazený\, pravidelně aktualizovaný a umožní vám rychle najít přesně to\, co vás zajímá – od velkých open-air akcí až po menší lokální programy. Každý si tak snadno vybere podle svého vkusu i času. Pokud vás některá akce zaujme\, nezapomeňte si včas zajistit vstupenky; stačí kliknout na detail události a budete bezpečně přesměrováni na oficiálního prodejce vstupenek..
URL:https://nasejiznimorava.cz/event/atomic-witch-jane-pope-smokes-dope/
LOCATION:Dům pánů z Kunštátu\, Brno\, Dům pánů z Kunštátu\, Brno\, Česká republika
CATEGORIES:Koncert
ATTACH;FMTTYPE=image/jpeg:https://nasejiznimorava.cz/wp-content/uploads/2025/11/320-538b1eb734d74536baf4961c2a56d459.jpg
END:VEVENT
BEGIN:VEVENT
DTSTART;TZID=Europe/Prague:20260516T153000
DTEND;TZID=Europe/Prague:20260516T183000
DTSTAMP:20260421T112919
CREATED:20251215T115058Z
LAST-MODIFIED:20251215T115059Z
UID:40520-1778945400-1778956200@nasejiznimorava.cz
SUMMARY:Ženfest pod třešní 2026
DESCRIPTION:Ženfest pod třešní 2026 se uskuteční dne 2026-05-16 v 15:30 v Brno\, Trchova Zahrada. \n🎟️ Koupit vstupenku \n\nŽenfest pod třešní je rodinný open-air festival v Brně a zároveň oslavou ženské autorské hudební tvorby\, a to napříč hudebními žánry i věkem. Je výsledkem čiré radosti z toho\, že je na světě tolik zajímavých žen\, které dělají hudbu (a nejen ji) po svém.  \nTěšit se můžete i na doprovodný program v podobě open-air výstavy a vernisáže\, autorského čtení\, slam poetry\, výtvarné dílny či divadla pro děti.  \nNávštěvníky zveme do prostoru půvadbné Trchovy zahrady a rodinám hlásíme\, že děti do 10-ti let mají vstup zdarma. \n\nTento tip na kulturní akci v Brno najdete v přehledu na nasejiznimorava.cz kde na jednom místě shromažďujeme desítky dalších koncertů\, festivalů\, divadelních představení i komunitních událostí z celého regionu i z celé ČR. Přehled je přehledně řazený\, pravidelně aktualizovaný a umožní vám rychle najít přesně to\, co vás zajímá – od velkých open-air akcí až po menší lokální programy. Každý si tak snadno vybere podle svého vkusu i času. Pokud vás některá akce zaujme\, nezapomeňte si včas zajistit vstupenky; stačí kliknout na detail události a budete bezpečně přesměrováni na oficiálního prodejce vstupenek..
URL:https://nasejiznimorava.cz/event/zenfest-pod-tresni-2026/
LOCATION:Trchova Zahrada\, Brno\, Trchova Zahrada\, Brno\, Česká republika
CATEGORIES:Festival
ATTACH;FMTTYPE=image/jpeg:https://nasejiznimorava.cz/wp-content/uploads/2025/12/320-0ac7cd7582ca4611bc38dbadfb11f330.jpg
END:VEVENT
BEGIN:VEVENT
DTSTART;TZID=Europe/Prague:20260612T150000
DTEND;TZID=Europe/Prague:20260612T180000
DTSTAMP:20260421T112919
CREATED:20260105T203449Z
LAST-MODIFIED:20260105T203452Z
UID:41290-1781276400-1781287200@nasejiznimorava.cz
SUMMARY:ObrFest 2026
DESCRIPTION:ObrFest 2026 se uskuteční dne 2026-06-12 v 15:00 v Brno\, Obřany na různých místech. \n🎟️ Koupit vstupenku \n\nObrFest 2026 bude! \nPrvní vystupující už v průběhu listopadu. \n\nTento tip na kulturní akci v Brno najdete v přehledu na nasejiznimorava.cz kde na jednom místě shromažďujeme desítky dalších koncertů\, festivalů\, divadelních představení i komunitních událostí z celého regionu i z celé ČR. Přehled je přehledně řazený\, pravidelně aktualizovaný a umožní vám rychle najít přesně to\, co vás zajímá – od velkých open-air akcí až po menší lokální programy. Každý si tak snadno vybere podle svého vkusu i času. Pokud vás některá akce zaujme\, nezapomeňte si včas zajistit vstupenky; stačí kliknout na detail události a budete bezpečně přesměrováni na oficiálního prodejce vstupenek..
URL:https://nasejiznimorava.cz/event/obrfest-2026/
LOCATION:Obřany na různých místech\, Brno\, Obřany na různých místech\, Brno\, Česká republika
CATEGORIES:Festival
ATTACH;FMTTYPE=image/jpeg:https://nasejiznimorava.cz/wp-content/uploads/2026/01/320-009ca075157b4cfda67fed5b73a5e3dd.jpg
END:VEVENT
BEGIN:VEVENT
DTSTART;TZID=Europe/Prague:20260618T160000
DTEND;TZID=Europe/Prague:20260618T190000
DTSTAMP:20260421T112919
CREATED:20251111T132110Z
LAST-MODIFIED:20251111T132111Z
UID:36967-1781798400-1781809200@nasejiznimorava.cz
SUMMARY:Slunovrat 2026
DESCRIPTION:Slunovrat 2026 se uskuteční dne 2026-06-18 v 16:00 v Opava\, náměstí Osvoboditelů. \n🎟️ Koupit vstupenku \n\nKulturní přehlídka v centru města Opavy proběhne v roce 2026 v termínu od 18. do 20. června! \n\nTento tip na kulturní akci v Opava najdete v přehledu na nasejiznimorava.cz kde na jednom místě shromažďujeme desítky dalších koncertů\, festivalů\, divadelních představení i komunitních událostí z celého regionu i z celé ČR. Přehled je přehledně řazený\, pravidelně aktualizovaný a umožní vám rychle najít přesně to\, co vás zajímá – od velkých open-air akcí až po menší lokální programy. Každý si tak snadno vybere podle svého vkusu i času. Pokud vás některá akce zaujme\, nezapomeňte si včas zajistit vstupenky; stačí kliknout na detail události a budete bezpečně přesměrováni na oficiálního prodejce vstupenek..
URL:https://nasejiznimorava.cz/event/slunovrat-2026/
LOCATION:náměstí Osvoboditelů\, Opava\, náměstí Osvoboditelů\, Opava\, Česká republika
CATEGORIES:Festival
ATTACH;FMTTYPE=image/jpeg:https://nasejiznimorava.cz/wp-content/uploads/2025/11/320-f2de508093a5449ca704f69813827b45.jpg
END:VEVENT
BEGIN:VEVENT
DTSTART;TZID=Europe/Prague:20260709T130000
DTEND;TZID=Europe/Prague:20260709T160000
DTSTAMP:20260421T112919
CREATED:20251111T154815Z
LAST-MODIFIED:20251111T154815Z
UID:37789-1783602000-1783612800@nasejiznimorava.cz
SUMMARY:Boskovice - festival pro židovskou čtvrť 2026
DESCRIPTION:Boskovice – festival pro židovskou čtvrť 2026 se uskuteční dne 2026-07-09 v 13:00 v Boskovice\, různá místa. \n🎟️ Koupit vstupenku \n\n// HUDBA // DIVADLA // FILMOVÉ PROJEKCE // VÝSTAVY // AKCE PRO DĚTI // PERFORMACE // PŘEDNÁŠKY // \nMultižánrový festival Boskovice láká nejen na pestrý program\, ale i na jedinečné kulisy historického města\, které se na čtyři červencové dny zaplní kulturním děním. \n  \n\nTento tip na kulturní akci v Boskovice najdete v přehledu na nasejiznimorava.cz kde na jednom místě shromažďujeme desítky dalších koncertů\, festivalů\, divadelních představení i komunitních událostí z celého regionu i z celé ČR. Přehled je přehledně řazený\, pravidelně aktualizovaný a umožní vám rychle najít přesně to\, co vás zajímá – od velkých open-air akcí až po menší lokální programy. Každý si tak snadno vybere podle svého vkusu i času. Pokud vás některá akce zaujme\, nezapomeňte si včas zajistit vstupenky; stačí kliknout na detail události a budete bezpečně přesměrováni na oficiálního prodejce vstupenek..
URL:https://nasejiznimorava.cz/event/boskovice-festival-pro-zidovskou-ctvrt-2026/
LOCATION:různá místa\, Boskovice\, různá místa\, Boskovice\, Česká republika
CATEGORIES:Festival
ATTACH;FMTTYPE=image/jpeg:https://nasejiznimorava.cz/wp-content/uploads/2025/11/320-7096a7256a4e4e80ade231897aad26a1.jpg
END:VEVENT
BEGIN:VEVENT
DTSTART;TZID=Europe/Prague:20260731T163000
DTEND;TZID=Europe/Prague:20260731T193000
DTSTAMP:20260421T112919
CREATED:20251111T154646Z
LAST-MODIFIED:20251111T154647Z
UID:37734-1785515400-1785526200@nasejiznimorava.cz
SUMMARY:Beseda u Bigbítu 2026
DESCRIPTION:Beseda u Bigbítu 2026 se uskuteční dne 2026-07-31 v 16:30 v Tasov\, Topolový hájek. \n🎟️ Koupit vstupenku \n\n33. ročník (nejen) hudebního festivalu v krásném prostředí areálu Topolového hájku v Tasově u Veselí nad Moravou. 2 scény\, 3 dny\, 50 dramaturgických položek \n\nTento tip na kulturní akci v Tasov najdete v přehledu na nasejiznimorava.cz kde na jednom místě shromažďujeme desítky dalších koncertů\, festivalů\, divadelních představení i komunitních událostí z celého regionu i z celé ČR. Přehled je přehledně řazený\, pravidelně aktualizovaný a umožní vám rychle najít přesně to\, co vás zajímá – od velkých open-air akcí až po menší lokální programy. Každý si tak snadno vybere podle svého vkusu i času. Pokud vás některá akce zaujme\, nezapomeňte si včas zajistit vstupenky; stačí kliknout na detail události a budete bezpečně přesměrováni na oficiálního prodejce vstupenek..
URL:https://nasejiznimorava.cz/event/beseda-u-bigbitu-2026/
LOCATION:Topolový hájek\, Tasov\, Topolový hájek\, Tasov\, Česká republika
CATEGORIES:Festival
ATTACH;FMTTYPE=image/jpeg:https://nasejiznimorava.cz/wp-content/uploads/2025/11/320-90ec9b643da94b98b3714f333dce929d.jpg
END:VEVENT
END:VCALENDAR