BEGIN:VCALENDAR
VERSION:2.0
PRODID:-// „Objev místa, kde se dobře pije, krásně spí a skvěle žije“  - ECPv6.15.20//NONSGML v1.0//EN
CALSCALE:GREGORIAN
METHOD:PUBLISH
X-ORIGINAL-URL:https://nasejiznimorava.cz
X-WR-CALDESC:Akce na  „Objev místa, kde se dobře pije, krásně spí a skvěle žije“ 
REFRESH-INTERVAL;VALUE=DURATION:PT1H
X-Robots-Tag:noindex
X-PUBLISHED-TTL:PT1H
BEGIN:VTIMEZONE
TZID:Europe/Prague
BEGIN:DAYLIGHT
TZOFFSETFROM:+0100
TZOFFSETTO:+0200
TZNAME:CEST
DTSTART:20250330T010000
END:DAYLIGHT
BEGIN:STANDARD
TZOFFSETFROM:+0200
TZOFFSETTO:+0100
TZNAME:CET
DTSTART:20251026T010000
END:STANDARD
BEGIN:DAYLIGHT
TZOFFSETFROM:+0100
TZOFFSETTO:+0200
TZNAME:CEST
DTSTART:20260329T010000
END:DAYLIGHT
BEGIN:STANDARD
TZOFFSETFROM:+0200
TZOFFSETTO:+0100
TZNAME:CET
DTSTART:20261025T010000
END:STANDARD
BEGIN:DAYLIGHT
TZOFFSETFROM:+0100
TZOFFSETTO:+0200
TZNAME:CEST
DTSTART:20270328T010000
END:DAYLIGHT
BEGIN:STANDARD
TZOFFSETFROM:+0200
TZOFFSETTO:+0100
TZNAME:CET
DTSTART:20271031T010000
END:STANDARD
END:VTIMEZONE
BEGIN:VEVENT
DTSTART;TZID=Europe/Prague:20260225T170000
DTEND;TZID=Europe/Prague:20260225T200000
DTSTAMP:20260420T015342
CREATED:20260130T154541Z
LAST-MODIFIED:20260130T154541Z
UID:42019-1772038800-1772049600@nasejiznimorava.cz
SUMMARY:Jak úspěšně kandidovat v komunálních volbách 2026
DESCRIPTION:Jak úspěšně kandidovat v komunálních volbách 2026 se uskuteční dne 2026-02-25 v 17:00 v Brno\, Clubco Brno Vlněna. \n🎟️ Koupit vstupenku \n\nTříhodinový osobní seminář zkušeného politického marketéra Svatopluka Bartíka: \nJAK ÚSPĚŠNĚ KANDIDOVAT V KOMUNÁLNÍCH VOLBÁCH 2026 \nKdo se chystá kandidovat v roce 2026 do městského či obecního zastupitelstva\, má nejvyšší čas začít promýšlet strategii\, budovat síť příznivců a dostávat se do povědomí spoluobčanů. Ukážu vám\, jak na to – čistě prakticky s orientací na váš co nejlepší volební výsledek. \nCo se naučíte: \n\njak formulovat svoje vize a cíle do volebního programu a servírovat je spoluobčanům\njak připravit a provést úspěšnou volební kampaň \njak se profilovat v místních médiích\njak začít s kampaní už teď\, abyste ji nemuseli vést jen pár týdnů před volbami a získali náskok\njaké nástroje pro akvizici voličů fungují a jak je pořídit co nejlevněji nebo zdarma\njak sestavit dobrou kandidátku\njak registrovat kandidátku nezávislých kandidátů nebo politické strany či hnutí \n\nKteré problematiky proberem: \n\nzáklady politického marketingu – Sequelovo desatero\nzáklady lokálního public relations\nzákon o volbách do zastupitelstev obcí\n\nÚčastník kurzu obdrží zdarma skripta shrnující vše podstatné z kurzu. Navíc má každý absolvent u mne zdarma jednu hodinu konzultace zdarma\, kterou lze čerpat i nadvakrát e-mailem či telefonicky\, přes Skype či Zoom\, případně i na osobní schůzce (naplánované po předchozí domluvě v Praze či v Brně).  \nTříhodinový blok je rozdělen na dva bloky s cca desetiminutovou přestávkou. V první části se věnuji spíše právním a organizačním záležitostem podání a sestavení kandidátky a vlastního programu. V druhé části se zaměřujeme už jen na samotnou kampaň\, její hlavní zásady\, hlouběji rozvedeme několik stručně zmíněných teorií a řešíme hlavně praktickou podobu kampaně. Kurz je vhodný pro kandidáty jak v malých obcích\, tak velkých aglomerací\, zmiňuji širší škálu nástrojů vhodných pro všechny typy kandidátek (stranické\, nezávislé). Po škončení školení mívám většinou pár desítek minut čas ještě pokračovat diskuzí s frekventanty na otázky\, které je zajímají.  \nHlavní účely mého školení jsou: \n\nnutné minimum právních a organizačních informací\npředání klíčových principů\, jak funguje voličské rozhodování dlouho i těsně před volbami – stručně teoreticky\, ale vysvětleno velmi prakticky\nposkytnutí konkrétních rad\, jak na samotnou kampaň a přímou i mediální komunikaci\ninspirovat\, nadchnout a nastartovat účastníky školení pro vlastní kampaň a jejich správnou „bojovou“ náladu 🙂\n\nAbychom během webináře měli dostatek prostoru pro zodpovězení vašich dotazů\, jeho kapacita je maximálně 12 účastníků.  \n– – –  \nLektor SVATOPLUK BARTÍK \nOd roku 2000 jsem vedl více než desítku volebních kampaní do senátu\, komunálních i krajských voleb (4Koalice\, Strana zelených\, nezávislí kandidáti za SZ\, TOP09 a KDU) a dalších veřejných kampaní (kampaň k brněnskému referendu v r. 2004) či public affairs iniciativ (např. spolek Telefonující.cz\, úspěšná kampaň za regulaci hazardu\, která vyvrcholila přijetím nového zákona o regulaci hazardu v roce 2016). \nJako tvůrce strategií kampaní jsem v roce 2014 a poté opět v roce 2018 a 2022 úspěšně přivedl například do křesla starostky Šlapanic u Brna Michaelu Trněnou (naposledy 9 mandátů z 17 pro SNK Čisté Šlapanice) a na Slovensku v Nitře v letech 2018 a 2022 do křesla primátora Marka Hattase (2x vítězství v přímé volbě). U dalších volebních kampaní jsem poskytoval strategické poradenství\, příp. koučink klíčových kandidátů. \nV roce 2020 jsem pracoval jako strategický poradce na kampani hnutí Starostové a nezávislí v Ústeckém kraji a pro Piráty v Jihomoravském kraji. \nV roce 2006 a posléze i v roce 2014 jsem také osobně úspěšně kandidoval do zastupitelstva Městské části Brno-střed.  \nDo zvolení do funkce radního MČ Brno-střed jsem působil jako mediální poradce se specializací na strategie komunikace\, krizovou komunikaci a politický marketing. Od roku 2018 se opět věnuji politickému marketingu a komunikaci a public affairs. \nOd roku 2001 toto školení absolvovalo již přes 600 účastníků. \nProfesní CV lektora: www.linkedin.com/in/svatoplukbartik. \n#volby#komunální_volby#kampaně#kandidatura#kandidátka#jak_volit#kroužkování#panašování#kandidátní_listina#termín_voleb  \n  \n\nTento tip na kulturní akci v Brno najdete v přehledu na nasejiznimorava.cz kde na jednom místě shromažďujeme desítky dalších koncertů\, festivalů\, divadelních představení i komunitních událostí z celého regionu i z celé ČR. Přehled je přehledně řazený\, pravidelně aktualizovaný a umožní vám rychle najít přesně to\, co vás zajímá – od velkých open-air akcí až po menší lokální programy. Každý si tak snadno vybere podle svého vkusu i času. Pokud vás některá akce zaujme\, nezapomeňte si včas zajistit vstupenky; stačí kliknout na detail události a budete bezpečně přesměrováni na oficiálního prodejce vstupenek..
URL:https://nasejiznimorava.cz/event/jak-uspesne-kandidovat-v-komunalnich-volbach-2026-3/
LOCATION:Clubco Brno Vlněna\, Brno\, Clubco Brno Vlněna\, Brno\, Česká republika
CATEGORIES:Zábava
ATTACH;FMTTYPE=image/jpeg:https://nasejiznimorava.cz/wp-content/uploads/2026/01/320-7f39a081fbab4164b6e902aa93c06004.jpg
END:VEVENT
BEGIN:VEVENT
DTSTART;TZID=Europe/Prague:20260225T180000
DTEND;TZID=Europe/Prague:20260225T210000
DTSTAMP:20260420T015342
CREATED:20251222T193229Z
LAST-MODIFIED:20251222T193229Z
UID:40917-1772042400-1772053200@nasejiznimorava.cz
SUMMARY:17. Brněnský Beatfest 2026 - Roman Dragoun 70
DESCRIPTION:17. Brněnský Beatfest 2026 – Roman Dragoun 70 se uskuteční dne 2026-02-25 v 18:00 v Brno\, KC Semilasso. \n🎟️ Koupit vstupenku \n\n17. Brněnský Beatfest 2026Roman Dragoun 70se uskuteční ve středu 25. února 2026 od 18:00v KC Semilasso\, na Palackého tř. 126 v Brně. \nROMAN DRAGOUNREGENERACEFUTURUMHIS ANGELSHosté:MILAN PRINCMICHAL ŽÁČEKa další… \nDalší informace o akci na https: www.beatpoint.cz/brnensky-beatfest/ \n\nTento tip na kulturní akci v Brno najdete v přehledu na nasejiznimorava.cz kde na jednom místě shromažďujeme desítky dalších koncertů\, festivalů\, divadelních představení i komunitních událostí z celého regionu i z celé ČR. Přehled je přehledně řazený\, pravidelně aktualizovaný a umožní vám rychle najít přesně to\, co vás zajímá – od velkých open-air akcí až po menší lokální programy. Každý si tak snadno vybere podle svého vkusu i času. Pokud vás některá akce zaujme\, nezapomeňte si včas zajistit vstupenky; stačí kliknout na detail události a budete bezpečně přesměrováni na oficiálního prodejce vstupenek..
URL:https://nasejiznimorava.cz/event/17-brnensky-beatfest-2026-roman-dragoun-70/
LOCATION:KC Semilasso\, Brno\, KC Semilasso\, Brno\, Česká republika
CATEGORIES:Koncert
ATTACH;FMTTYPE=image/jpeg:https://nasejiznimorava.cz/wp-content/uploads/2025/12/320-142198c6667a45d1813505beb061aed9.jpg
END:VEVENT
END:VCALENDAR