BEGIN:VCALENDAR
VERSION:2.0
PRODID:-// „Objev místa, kde se dobře pije, krásně spí a skvěle žije“  - ECPv6.15.20//NONSGML v1.0//EN
CALSCALE:GREGORIAN
METHOD:PUBLISH
X-ORIGINAL-URL:https://nasejiznimorava.cz
X-WR-CALDESC:Akce na  „Objev místa, kde se dobře pije, krásně spí a skvěle žije“ 
REFRESH-INTERVAL;VALUE=DURATION:PT1H
X-Robots-Tag:noindex
X-PUBLISHED-TTL:PT1H
BEGIN:VTIMEZONE
TZID:Europe/Prague
BEGIN:DAYLIGHT
TZOFFSETFROM:+0100
TZOFFSETTO:+0200
TZNAME:CEST
DTSTART:20250330T010000
END:DAYLIGHT
BEGIN:STANDARD
TZOFFSETFROM:+0200
TZOFFSETTO:+0100
TZNAME:CET
DTSTART:20251026T010000
END:STANDARD
BEGIN:DAYLIGHT
TZOFFSETFROM:+0100
TZOFFSETTO:+0200
TZNAME:CEST
DTSTART:20260329T010000
END:DAYLIGHT
BEGIN:STANDARD
TZOFFSETFROM:+0200
TZOFFSETTO:+0100
TZNAME:CET
DTSTART:20261025T010000
END:STANDARD
BEGIN:DAYLIGHT
TZOFFSETFROM:+0100
TZOFFSETTO:+0200
TZNAME:CEST
DTSTART:20270328T010000
END:DAYLIGHT
BEGIN:STANDARD
TZOFFSETFROM:+0200
TZOFFSETTO:+0100
TZNAME:CET
DTSTART:20271031T010000
END:STANDARD
END:VTIMEZONE
BEGIN:VEVENT
DTSTART;TZID=Europe/Prague:20260307T180000
DTEND;TZID=Europe/Prague:20260307T210000
DTSTAMP:20260420T015422
CREATED:20251111T164624Z
LAST-MODIFIED:20251111T164624Z
UID:38346-1772906400-1772917200@nasejiznimorava.cz
SUMMARY:Extraliga žen: Královo Pole BRNO - TJ Sokol Šternberk
DESCRIPTION:Extraliga žen: Královo Pole BRNO – TJ Sokol Šternberk se uskuteční dne 2026-03-07 v 18:00 v Brno\, STAREZ Aréna Vodova (Hala H1). \n🎟️ Koupit vstupenku \nTento tip na kulturní akci v Brno najdete v přehledu na nasejiznimorava.cz kde na jednom místě shromažďujeme desítky dalších koncertů\, festivalů\, divadelních představení i komunitních událostí z celého regionu i z celé ČR. Přehled je přehledně řazený\, pravidelně aktualizovaný a umožní vám rychle najít přesně to\, co vás zajímá – od velkých open-air akcí až po menší lokální programy. Každý si tak snadno vybere podle svého vkusu i času. Pokud vás některá akce zaujme\, nezapomeňte si včas zajistit vstupenky; stačí kliknout na detail události a budete bezpečně přesměrováni na oficiálního prodejce vstupenek..
URL:https://nasejiznimorava.cz/event/extraliga-zen-kralovo-pole-brno-tj-sokol-sternberk/
LOCATION:STAREZ Aréna Vodova (Hala H1)\, Brno\, STAREZ Aréna Vodova (Hala H1)\, Brno\, Česká republika
CATEGORIES:Zábava
ATTACH;FMTTYPE=image/jpeg:https://nasejiznimorava.cz/wp-content/uploads/2025/11/320-81de0a8eb91e401abf9116e456e1c8cf.jpg
END:VEVENT
BEGIN:VEVENT
DTSTART;TZID=Europe/Prague:20260307T190000
DTEND;TZID=Europe/Prague:20260307T220000
DTSTAMP:20260420T015422
CREATED:20251111T154236Z
LAST-MODIFIED:20251111T154237Z
UID:37632-1772910000-1772920800@nasejiznimorava.cz
SUMMARY:Ondřej Brzobohatý - LE MAGNIFIQUE
DESCRIPTION:Ondřej Brzobohatý – LE MAGNIFIQUE se uskuteční dne 2026-03-07 v 19:00 v Brno\, Janáčkovo divadlo. \n🎟️ Koupit vstupenku \n\nPo obrovském úspěchu v Praze přichází Ondřej Brzobohatý úplně poprvé s projektem Le Magnifique také do Brna – a to pouze na jeden jediný exkluzivní koncert v Janáčkově divadle! \nBrněnské publikum se může těšit na mimořádný hudební večer plný nezapomenutelné francouzské filmové hudby\, doprovázené velkoplošnou projekcí slavných filmových scén. \nSkvělý performer\, zpěvák a dirigent Ondřej Brzobohatý přiváží do Brna své výjimečné představení Le Magnifique\, které v létě nadchlo diváky v Praze a vyprodalo hned několik večerů.Za doprovodu špičkového Epoque Symphonic Orchestra zazní ty nejkrásnější a nejikoničtější melodie z francouzských filmů\, které se staly nedílnou součástí i české kultury. \nHudba\, která nás provází po generace – nyní poprvé naživo v Brně\, v podání jednoho z nejvýraznějších českých hudebních umělců. \n\nTento tip na kulturní akci v Brno najdete v přehledu na nasejiznimorava.cz kde na jednom místě shromažďujeme desítky dalších koncertů\, festivalů\, divadelních představení i komunitních událostí z celého regionu i z celé ČR. Přehled je přehledně řazený\, pravidelně aktualizovaný a umožní vám rychle najít přesně to\, co vás zajímá – od velkých open-air akcí až po menší lokální programy. Každý si tak snadno vybere podle svého vkusu i času. Pokud vás některá akce zaujme\, nezapomeňte si včas zajistit vstupenky; stačí kliknout na detail události a budete bezpečně přesměrováni na oficiálního prodejce vstupenek..
URL:https://nasejiznimorava.cz/event/ondrej-brzobohaty-le-magnifique/
LOCATION:Janáčkovo divadlo\, Brno\, Janáčkovo divadlo\, Brno\, Česká republika
CATEGORIES:Koncert
ATTACH;FMTTYPE=image/jpeg:https://nasejiznimorava.cz/wp-content/uploads/2025/11/320-c8b7dfa53d7e4580af7fb3eaef9af426.jpg
END:VEVENT
BEGIN:VEVENT
DTSTART;TZID=Europe/Prague:20260307T190000
DTEND;TZID=Europe/Prague:20260307T220000
DTSTAMP:20260420T015422
CREATED:20260103T213849Z
LAST-MODIFIED:20260103T213849Z
UID:41264-1772910000-1772920800@nasejiznimorava.cz
SUMMARY:Burlesque Tribute: Od kankánu po bizár
DESCRIPTION:Burlesque Tribute: Od kankánu po bizár se uskuteční dne 2026-03-07 v 19:00 v Brno\, Cabaret des Péchés. \n🎟️ Koupit vstupenku \n\nBURLESQUE TRIBUTE: OD KANKÁNU PO BIZÁR  \nVýpravná show\, která nemá ve světě obdoby. \nBurlesque Tribute je unikátní tříaktová podívaná\, která vás provede historií burlesky – od jejích kořenů v 19. století\, přes éru americké prohibice\, až po současnou neo-burlesku. Připravte se na večer\, kde se třpyt\, elegance\, humor i odvaha snoubí do show\, kterou jen tak někde neuvidíte. \nNaučné? Ano. Interaktivní? Rozhodně. Zábavné? Víc\, než čekáte. \nKaždý z aktů nabídne originální ztvárnění určité éry kabaretní a burleskní historie – včetně ikonických rekvizit\, autentických kostýmů a živých vystoupení. Na jevišti se objeví zpěvačky\, taneční ansámbl i performeři\, kteří vás vtáhnou nejen svými čísly\, ale i příběhem. A pozor – místy se do děje zapojí i samotné publikum. \nKostýmy inspirované ikonami burlesky a kabaretuNeočekávané momenty\, které posunou vaše představy o burlesceBurleska jako forma umění – zábavná\, odvážná\, vzdělávací \nBurlesque Tribute je oslavou minulosti i současnosti burlesky.Není to jen show. Je to zážitek. \nVIP vstupenky v prvních řadách s welcome drinkem \n  \n  \nDoporučený dresscode – společenský nebo stylově extravagantní outfit inspirovaný kabaretem a burleskou (třpyt\, retro\, korzety\, saka\, klobouky vítány) \nShow je určena výhradně pro publikum starší 18 let – vstup osobám mladším 18 let není povolen \nUpozornění pro divákyTato inscenace obsahuje světelné efekty\, včetně stroboskopických záblesků a rychle se měnících světelných sekvencí. U osob s fotosenzitivní epilepsií nebo zvýšenou citlivostí na intenzivní světelné podněty mohou tyto efekty vyvolat nepříznivé zdravotní reakce. Divákům\, kterých by se tato skutečnost mohla týkat\, se doporučuje zvýšená opatrnost. \n\nTento tip na kulturní akci v Brno najdete v přehledu na nasejiznimorava.cz kde na jednom místě shromažďujeme desítky dalších koncertů\, festivalů\, divadelních představení i komunitních událostí z celého regionu i z celé ČR. Přehled je přehledně řazený\, pravidelně aktualizovaný a umožní vám rychle najít přesně to\, co vás zajímá – od velkých open-air akcí až po menší lokální programy. Každý si tak snadno vybere podle svého vkusu i času. Pokud vás některá akce zaujme\, nezapomeňte si včas zajistit vstupenky; stačí kliknout na detail události a budete bezpečně přesměrováni na oficiálního prodejce vstupenek..
URL:https://nasejiznimorava.cz/event/burlesque-tribute-od-kankanu-po-bizar-7/
LOCATION:Cabaret des Péchés\, Brno\, Cabaret des Péchés\, Brno\, Česká republika
CATEGORIES:Zábava
ATTACH;FMTTYPE=image/jpeg:https://nasejiznimorava.cz/wp-content/uploads/2026/01/320-1e93a1eedb3d4db29eda0b45aa1800be.jpg
END:VEVENT
END:VCALENDAR