BEGIN:VCALENDAR
VERSION:2.0
PRODID:-// „Objev místa, kde se dobře pije, krásně spí a skvěle žije“  - ECPv6.15.20//NONSGML v1.0//EN
CALSCALE:GREGORIAN
METHOD:PUBLISH
X-ORIGINAL-URL:https://nasejiznimorava.cz
X-WR-CALDESC:Akce na  „Objev místa, kde se dobře pije, krásně spí a skvěle žije“ 
REFRESH-INTERVAL;VALUE=DURATION:PT1H
X-Robots-Tag:noindex
X-PUBLISHED-TTL:PT1H
BEGIN:VTIMEZONE
TZID:Europe/Prague
BEGIN:DAYLIGHT
TZOFFSETFROM:+0100
TZOFFSETTO:+0200
TZNAME:CEST
DTSTART:20250330T010000
END:DAYLIGHT
BEGIN:STANDARD
TZOFFSETFROM:+0200
TZOFFSETTO:+0100
TZNAME:CET
DTSTART:20251026T010000
END:STANDARD
BEGIN:DAYLIGHT
TZOFFSETFROM:+0100
TZOFFSETTO:+0200
TZNAME:CEST
DTSTART:20260329T010000
END:DAYLIGHT
BEGIN:STANDARD
TZOFFSETFROM:+0200
TZOFFSETTO:+0100
TZNAME:CET
DTSTART:20261025T010000
END:STANDARD
BEGIN:DAYLIGHT
TZOFFSETFROM:+0100
TZOFFSETTO:+0200
TZNAME:CEST
DTSTART:20270328T010000
END:DAYLIGHT
BEGIN:STANDARD
TZOFFSETFROM:+0200
TZOFFSETTO:+0100
TZNAME:CET
DTSTART:20271031T010000
END:STANDARD
END:VTIMEZONE
BEGIN:VEVENT
DTSTART;TZID=Europe/Prague:20260317T190000
DTEND;TZID=Europe/Prague:20260317T220000
DTSTAMP:20260420T015251
CREATED:20251111T133245Z
LAST-MODIFIED:20251111T133246Z
UID:37182-1773774000-1773784800@nasejiznimorava.cz
SUMMARY:ZZ Top Experience – Fuzz Top (FR)\, support: Škaredá holka
DESCRIPTION:ZZ Top Experience – Fuzz Top (FR)\, support: Škaredá holka se uskuteční dne 2026-03-17 v 19:00 v Brno\, Sono Centrum. \n🎟️ Koupit vstupenku \n\nZZ Top Experience – Fuzz Top (FR) v ČR \nFrancouzská superskupina Fuzz Top byla založena v roce 2010 a interpretuje dokonale tvorbu jižanské legendy ZZ Top (Heuston\, Texas\,USA). Není potřeba uvádět\, že ZZ Top je jedna z nejlepších rockových formací světa a spolu s AC/DC\, Black Sabbath a Deep Purple jsou jedním z historických pilířů moderní rockové hudby vůbec. ZZ Top navíc založili a určili jižanský styl rocku vycházející z texaského blues. \nFuzz Top je dle odborníků nejvěrnější kopie ZZ Top současnosti a koncertují ve velkých halách po celém světě. Styl kapely je věrný věrný původním skladbám\, rytmické a sólové kytarové riffy jsou reprodukovány do noty\, repertoár tvoří největší hity vousatých chlápků z Texasu od roku 1969 do současnosti. Hudebníci používají klávesové sekvence jako na originálu pro skladby z let 1979 až 1990.Členové kapely jsou k nerozeznání od ZZ Top i vizuelně i scéna a videoprojekce koncertů je lehce zaměnitelná s originálem. A originál – ZZ Top fanoušci již v Evropě zřejmě neuslyší\, ZZ Top totiž koncertují v poslední době převážně na severoamerickém kontinentu. \nSe stejnou choreografií\, kytarami Hot Rod a otočnými hračkami\, osvětlenými mikrofonními stojany\, kostýmy\, výzdobou\, bicími ZZ Top\, se třemi až čtyřmi výměnami kostýmů a kytar během show a vlajícími vousy vtáhnou fanoušky do světa ZZ Top. \nOd 28. června 2014 po setkání Billyho Gibbonse\, Dusty Hilla a Franka Bearda jsou oficiální tribute kapelou ZZ Top. Jako jediná kapela na světě vlastní slavný Ford Dust’Eliminator z roku 1933 (věrná kopie Eliminatoru). \nFuzz Top odehráli již přes 500 koncertů pro více než 250000 návštěvníků. \nAktuální sestavu tvoří : \nPatrick Pacheco\, zpěv\, kytara \nChristian Desmit basový zpěv \nSpráva bicích sboru Patrick Girardon \nJako support se představí kapela Škaredá holka: https://bandzone.cz/skaredaholka \n\nTento tip na kulturní akci v Brno najdete v přehledu na nasejiznimorava.cz kde na jednom místě shromažďujeme desítky dalších koncertů\, festivalů\, divadelních představení i komunitních událostí z celého regionu i z celé ČR. Přehled je přehledně řazený\, pravidelně aktualizovaný a umožní vám rychle najít přesně to\, co vás zajímá – od velkých open-air akcí až po menší lokální programy. Každý si tak snadno vybere podle svého vkusu i času. Pokud vás některá akce zaujme\, nezapomeňte si včas zajistit vstupenky; stačí kliknout na detail události a budete bezpečně přesměrováni na oficiálního prodejce vstupenek..
URL:https://nasejiznimorava.cz/event/zz-top-experience-fuzz-top-fr-support-skareda-holka/
LOCATION:Sono Centrum\, Brno\, Sono Centrum\, Brno\, Česká republika
CATEGORIES:Koncert
ATTACH;FMTTYPE=image/jpeg:https://nasejiznimorava.cz/wp-content/uploads/2025/11/320-d3e9d29e97f142749c5f35f9ef7e95b6.jpg
END:VEVENT
END:VCALENDAR