BEGIN:VCALENDAR
VERSION:2.0
PRODID:-// „Objev místa, kde se dobře pije, krásně spí a skvěle žije“  - ECPv6.15.20//NONSGML v1.0//EN
CALSCALE:GREGORIAN
METHOD:PUBLISH
X-WR-CALNAME: „Objev místa, kde se dobře pije, krásně spí a skvěle žije“ 
X-ORIGINAL-URL:https://nasejiznimorava.cz
X-WR-CALDESC:Akce na  „Objev místa, kde se dobře pije, krásně spí a skvěle žije“ 
REFRESH-INTERVAL;VALUE=DURATION:PT1H
X-Robots-Tag:noindex
X-PUBLISHED-TTL:PT1H
BEGIN:VTIMEZONE
TZID:Europe/Prague
BEGIN:DAYLIGHT
TZOFFSETFROM:+0100
TZOFFSETTO:+0200
TZNAME:CEST
DTSTART:20250330T010000
END:DAYLIGHT
BEGIN:STANDARD
TZOFFSETFROM:+0200
TZOFFSETTO:+0100
TZNAME:CET
DTSTART:20251026T010000
END:STANDARD
BEGIN:DAYLIGHT
TZOFFSETFROM:+0100
TZOFFSETTO:+0200
TZNAME:CEST
DTSTART:20260329T010000
END:DAYLIGHT
BEGIN:STANDARD
TZOFFSETFROM:+0200
TZOFFSETTO:+0100
TZNAME:CET
DTSTART:20261025T010000
END:STANDARD
BEGIN:DAYLIGHT
TZOFFSETFROM:+0100
TZOFFSETTO:+0200
TZNAME:CEST
DTSTART:20270328T010000
END:DAYLIGHT
BEGIN:STANDARD
TZOFFSETFROM:+0200
TZOFFSETTO:+0100
TZNAME:CET
DTSTART:20271031T010000
END:STANDARD
END:VTIMEZONE
BEGIN:VEVENT
DTSTART;TZID=Europe/Prague:20260324T090000
DTEND;TZID=Europe/Prague:20260324T120000
DTSTAMP:20260420T015200
CREATED:20251111T132432Z
LAST-MODIFIED:20251111T132433Z
UID:37052-1774342800-1774353600@nasejiznimorava.cz
SUMMARY:How To Brand — konference o řízení značek
DESCRIPTION:How To Brand — konference o řízení značek se uskuteční dne 2026-03-24 v 09:00 v Brno\, Divadlo Reduta. \n🎟️ Koupit vstupenku \n\nDruhý ročník konference How To Brand o řízení značek. \nBrand nepatří jen marketingu. Tvoří ho i zamítnutý uchazeč o práci\, který vás pomluví na sítích. Zakázka\, která jde proti hodnotám firmy. Nebo zákaznická péče\, která hasí průšvih v kampani. Přijďte si pro návod\, jak nechat značku probublat do všech pater firmy a být on brand všude – nejen v prezentacích. \nNa co se můžete těšit: \n\ninspirativní řečníci\,\nknow-how z našich řad\na špičková káva\, catering i chill-out zóna plná radostí z Brna.\n\n  \nVeškeré informace průběžně doplňujeme na webových stránkách https://www.howtobrand.cz/ \n\nTento tip na kulturní akci v Brno najdete v přehledu na nasejiznimorava.cz kde na jednom místě shromažďujeme desítky dalších koncertů\, festivalů\, divadelních představení i komunitních událostí z celého regionu i z celé ČR. Přehled je přehledně řazený\, pravidelně aktualizovaný a umožní vám rychle najít přesně to\, co vás zajímá – od velkých open-air akcí až po menší lokální programy. Každý si tak snadno vybere podle svého vkusu i času. Pokud vás některá akce zaujme\, nezapomeňte si včas zajistit vstupenky; stačí kliknout na detail události a budete bezpečně přesměrováni na oficiálního prodejce vstupenek..
URL:https://nasejiznimorava.cz/event/how-to-brand-konference-o-rizeni-znacek/
LOCATION:Divadlo Reduta\, Brno\, Divadlo Reduta\, Brno\, Česká republika
CATEGORIES:Zábava
ATTACH;FMTTYPE=image/jpeg:https://nasejiznimorava.cz/wp-content/uploads/2025/11/320-b147873ada35489aab628eef798d80e1.jpg
END:VEVENT
BEGIN:VEVENT
DTSTART;TZID=Europe/Prague:20260324T200000
DTEND;TZID=Europe/Prague:20260324T230000
DTSTAMP:20260420T015200
CREATED:20251129T072551Z
LAST-MODIFIED:20251129T072552Z
UID:39445-1774382400-1774393200@nasejiznimorava.cz
SUMMARY:Peter Hook & The Light (UK)
DESCRIPTION:Peter Hook & The Light (UK) se uskuteční dne 2026-03-24 v 20:00 v Brno\, Fléda. \n🎟️ Koupit vstupenku \n\nPETER HOOK & THE LIGHT \nFor EN scroll down… \nPeter Hook vyráží se svou kapelou The Light opět na turné\, aby připomněl odkaz zásadních skupin hudební historie – Joy Division a New Order. Tentokrát zazní celé  album Get Ready od druhé zmíněné kapely\, výběr Joy Division a New Order’s Greatest Hits. Čeští fanoušci se dočkají 24. března 2026 v brněnské Flédě. \n\nTento tip na kulturní akci v Brno najdete v přehledu na nasejiznimorava.cz kde na jednom místě shromažďujeme desítky dalších koncertů\, festivalů\, divadelních představení i komunitních událostí z celého regionu i z celé ČR. Přehled je přehledně řazený\, pravidelně aktualizovaný a umožní vám rychle najít přesně to\, co vás zajímá – od velkých open-air akcí až po menší lokální programy. Každý si tak snadno vybere podle svého vkusu i času. Pokud vás některá akce zaujme\, nezapomeňte si včas zajistit vstupenky; stačí kliknout na detail události a budete bezpečně přesměrováni na oficiálního prodejce vstupenek..
URL:https://nasejiznimorava.cz/event/peter-hook-the-light-uk/
LOCATION:Fléda\, Brno\, Fléda\, Brno\, Česká republika
CATEGORIES:Koncert
ATTACH;FMTTYPE=image/jpeg:https://nasejiznimorava.cz/wp-content/uploads/2025/11/320-f5b6ffb6102b47f698180776e93a4106.jpg
END:VEVENT
END:VCALENDAR