BEGIN:VCALENDAR
VERSION:2.0
PRODID:-// „Objev místa, kde se dobře pije, krásně spí a skvěle žije“  - ECPv6.15.20//NONSGML v1.0//EN
CALSCALE:GREGORIAN
METHOD:PUBLISH
X-WR-CALNAME: „Objev místa, kde se dobře pije, krásně spí a skvěle žije“ 
X-ORIGINAL-URL:https://nasejiznimorava.cz
X-WR-CALDESC:Akce na  „Objev místa, kde se dobře pije, krásně spí a skvěle žije“ 
REFRESH-INTERVAL;VALUE=DURATION:PT1H
X-Robots-Tag:noindex
X-PUBLISHED-TTL:PT1H
BEGIN:VTIMEZONE
TZID:Europe/Prague
BEGIN:DAYLIGHT
TZOFFSETFROM:+0100
TZOFFSETTO:+0200
TZNAME:CEST
DTSTART:20250330T010000
END:DAYLIGHT
BEGIN:STANDARD
TZOFFSETFROM:+0200
TZOFFSETTO:+0100
TZNAME:CET
DTSTART:20251026T010000
END:STANDARD
BEGIN:DAYLIGHT
TZOFFSETFROM:+0100
TZOFFSETTO:+0200
TZNAME:CEST
DTSTART:20260329T010000
END:DAYLIGHT
BEGIN:STANDARD
TZOFFSETFROM:+0200
TZOFFSETTO:+0100
TZNAME:CET
DTSTART:20261025T010000
END:STANDARD
BEGIN:DAYLIGHT
TZOFFSETFROM:+0100
TZOFFSETTO:+0200
TZNAME:CEST
DTSTART:20270328T010000
END:DAYLIGHT
BEGIN:STANDARD
TZOFFSETFROM:+0200
TZOFFSETTO:+0100
TZNAME:CET
DTSTART:20271031T010000
END:STANDARD
END:VTIMEZONE
BEGIN:VEVENT
DTSTART;TZID=Europe/Prague:20260326T190000
DTEND;TZID=Europe/Prague:20260326T220000
DTSTAMP:20260420T015300
CREATED:20260117T081616Z
LAST-MODIFIED:20260117T081622Z
UID:41724-1774551600-1774562400@nasejiznimorava.cz
SUMMARY:Nikola Džokič - Balkan Express - Stand-up - Brno
DESCRIPTION:Nikola Džokič – Balkan Express – Stand-up – Brno se uskuteční dne 2026-03-26 v 19:00 v Brno\, První Patro. \n🎟️ Koupit vstupenku \n\nUž deset let brázdí tenhle srbský řezník vody české stand up comedy se skupinou komiků Underground Comedy. Za tu dobu mu přibylo pár šedin\, jedno dítě\, a ubylo pár mozkových buněk. Pusu má ale pořád stejně prořízlou! \nO tom se můžete přesvědčit v jeho historicky první celovečerní one-man show\, plné nekorektních vtipů tak moc za hranou\, že padají střemhlav do mariánského příkopu slušnosti. \nVíc než hodina toho nejlepšího\, co už nikde jinde neuslyšíte ale i sada úplně nových vtipů drsnějších\, než panák rakije po deseti pivech. Pokud nejste útlocitné povahy\, dostanou i vás. \n\nTento tip na kulturní akci v Brno najdete v přehledu na nasejiznimorava.cz kde na jednom místě shromažďujeme desítky dalších koncertů\, festivalů\, divadelních představení i komunitních událostí z celého regionu i z celé ČR. Přehled je přehledně řazený\, pravidelně aktualizovaný a umožní vám rychle najít přesně to\, co vás zajímá – od velkých open-air akcí až po menší lokální programy. Každý si tak snadno vybere podle svého vkusu i času. Pokud vás některá akce zaujme\, nezapomeňte si včas zajistit vstupenky; stačí kliknout na detail události a budete bezpečně přesměrováni na oficiálního prodejce vstupenek..
URL:https://nasejiznimorava.cz/event/nikola-dzokic-balkan-express-stand-up-brno/
LOCATION:První Patro\, Brno\, První Patro\, Brno\, Česká republika
CATEGORIES:Zábava
ATTACH;FMTTYPE=image/jpeg:https://nasejiznimorava.cz/wp-content/uploads/2026/01/320-a53323c2ceab4430933e23a2b18a9f1d.jpg
END:VEVENT
BEGIN:VEVENT
DTSTART;TZID=Europe/Prague:20260326T200000
DTEND;TZID=Europe/Prague:20260326T230000
DTSTAMP:20260420T015300
CREATED:20251129T143950Z
LAST-MODIFIED:20251129T143952Z
UID:39604-1774555200-1774566000@nasejiznimorava.cz
SUMMARY:Blue Burlesque Show
DESCRIPTION:Blue Burlesque Show se uskuteční dne 2026-03-26 v 20:00 v Brno\, Cabaret des Péchés. \n🎟️ Koupit vstupenku \n\nEmoce\, glamour\, zábava. Nezbedná\, koketní atmosféra vás bude držet na okraji vašich židlí od začátku až do konce show. \nKaždá Blue Burlesque Show je trochu jiná\, každá show je jedinečná. Jednou za měsíc máš šanci vidět nejzajímavější performerky a performery z Česka\, Polska\, Německa\, Rakouska nebo Slovenska! \nV roce 2026 vám přinášíme nový program\, taneční vstupy a nečekané rekvizity. Všechny termíny Blue Burlesque Show v Brně najdete na zoryablue.com/brno \nKromě skvělého programu na vás čekají výborné drinky\, soutěž a focení s performery. \nBěhem show si na našem burlesque stánku budete moct pořídit překrásný župánek\, plakát Burlesque your life!\, třpytivé pasties\, sex ponožky nebo knihu moderní sexuality Už budeš? \nPRO KOHO JE SHOW?Věk ani pohlaví nejsou důležité – důležité je\, že milujete kvalitní program\, skvělé drinky a zábavu plnou emocí. Mnoho lidí překvapí\, že většinu publika zpravidla tvoří ženy – ano\, ženy milují burlesku! \nShow doporučujeme pro diváky starší 15 let.    \nDRESSCODE:Dress to impress! A nebo – fantazii se meze nekladou. Na burleskní show nikdy nebudeš overdressed. \nProducentkou show je Zorya Blue – performerka\, producentka a zakladatelka Czech Burlesque School. \nshow 20:00do baru zveme už od 18:00 \n\nTento tip na kulturní akci v Brno najdete v přehledu na nasejiznimorava.cz kde na jednom místě shromažďujeme desítky dalších koncertů\, festivalů\, divadelních představení i komunitních událostí z celého regionu i z celé ČR. Přehled je přehledně řazený\, pravidelně aktualizovaný a umožní vám rychle najít přesně to\, co vás zajímá – od velkých open-air akcí až po menší lokální programy. Každý si tak snadno vybere podle svého vkusu i času. Pokud vás některá akce zaujme\, nezapomeňte si včas zajistit vstupenky; stačí kliknout na detail události a budete bezpečně přesměrováni na oficiálního prodejce vstupenek..
URL:https://nasejiznimorava.cz/event/blue-burlesque-show-6/
LOCATION:Cabaret des Péchés\, Brno\, Cabaret des Péchés\, Brno\, Česká republika
CATEGORIES:Zábava
ATTACH;FMTTYPE=image/jpeg:https://nasejiznimorava.cz/wp-content/uploads/2025/11/320-984c2d339a344bcbaa9c4b94acb13a88.jpg
END:VEVENT
END:VCALENDAR