BEGIN:VCALENDAR
VERSION:2.0
PRODID:-// „Objev místa, kde se dobře pije, krásně spí a skvěle žije“  - ECPv6.15.20//NONSGML v1.0//EN
CALSCALE:GREGORIAN
METHOD:PUBLISH
X-WR-CALNAME: „Objev místa, kde se dobře pije, krásně spí a skvěle žije“ 
X-ORIGINAL-URL:https://nasejiznimorava.cz
X-WR-CALDESC:Akce na  „Objev místa, kde se dobře pije, krásně spí a skvěle žije“ 
REFRESH-INTERVAL;VALUE=DURATION:PT1H
X-Robots-Tag:noindex
X-PUBLISHED-TTL:PT1H
BEGIN:VTIMEZONE
TZID:Europe/Prague
BEGIN:DAYLIGHT
TZOFFSETFROM:+0100
TZOFFSETTO:+0200
TZNAME:CEST
DTSTART:20250330T010000
END:DAYLIGHT
BEGIN:STANDARD
TZOFFSETFROM:+0200
TZOFFSETTO:+0100
TZNAME:CET
DTSTART:20251026T010000
END:STANDARD
BEGIN:DAYLIGHT
TZOFFSETFROM:+0100
TZOFFSETTO:+0200
TZNAME:CEST
DTSTART:20260329T010000
END:DAYLIGHT
BEGIN:STANDARD
TZOFFSETFROM:+0200
TZOFFSETTO:+0100
TZNAME:CET
DTSTART:20261025T010000
END:STANDARD
BEGIN:DAYLIGHT
TZOFFSETFROM:+0100
TZOFFSETTO:+0200
TZNAME:CEST
DTSTART:20270328T010000
END:DAYLIGHT
BEGIN:STANDARD
TZOFFSETFROM:+0200
TZOFFSETTO:+0100
TZNAME:CET
DTSTART:20271031T010000
END:STANDARD
END:VTIMEZONE
BEGIN:VEVENT
DTSTART;TZID=Europe/Prague:20260409T190000
DTEND;TZID=Europe/Prague:20260409T220000
DTSTAMP:20260419T223049
CREATED:20251215T113757Z
LAST-MODIFIED:20251215T113758Z
UID:40490-1775761200-1775772000@nasejiznimorava.cz
SUMMARY:Hop Trop
DESCRIPTION:Hop Trop se uskuteční dne 2026-04-09 v 19:00 v Brno\, Musilka. \n🎟️ Koupit vstupenku \n\nKoncertní vystoupení skupiny HOP TROP \nV novém představení sestaveném převážně z tvorby Ladislava Kučery\, jeho syna Roberta\, Jaroslava Lenka a Jaromíra Vondry zazní například písničky Silver Hill\, Valouny a Obchodník s deštěm. Nebudou chybět ani známé hity jako je Amazonka\, Tři kříže\, Jonatán\, a také vodácké písničky\, které vznikly spoluprací souboru se známým spisovatelem Zdeňkem Šmídem. \nSkupina HOP TROP je stálicí na scéně trampské hudby už plných 40 let\, a od svého vzniku hraje stále v původním složení. \nHOP TROP byl hodnocen na festivalech Porta nejvyššími cenami za interpretaci i autorství a v roce 1988 se stal držitelem Zlaté Porty. Za album\, vydané GZ Loděnice v roce 1990 s názvem „Hop Trop II“\, byly hudebníkům předány „ZLATÉ DESKY“\, a později „PLATINOVÉ DESKY“. Skupina HOP TROP mnohokrát vystupovala v televizních pořadech a její autorské písničky jsou denně vysílány soukromými i státními rozhlasovými stanicemi. Přijali je za své trampové\, vodáci\, a romantici se vztahem k cestování a přírodě. Některé zlidověly a jsou vyučovány v základních školách. Na svých cestách do USA a Austrálie HOP TROP vystoupeními potěšil i české a slovenské krajany. \n\nTento tip na kulturní akci v Brno najdete v přehledu na nasejiznimorava.cz kde na jednom místě shromažďujeme desítky dalších koncertů\, festivalů\, divadelních představení i komunitních událostí z celého regionu i z celé ČR. Přehled je přehledně řazený\, pravidelně aktualizovaný a umožní vám rychle najít přesně to\, co vás zajímá – od velkých open-air akcí až po menší lokální programy. Každý si tak snadno vybere podle svého vkusu i času. Pokud vás některá akce zaujme\, nezapomeňte si včas zajistit vstupenky; stačí kliknout na detail události a budete bezpečně přesměrováni na oficiálního prodejce vstupenek..
URL:https://nasejiznimorava.cz/event/hop-trop/
LOCATION:Musilka\, Brno\, Musilka\, Brno\, Česká republika
CATEGORIES:Koncert
ATTACH;FMTTYPE=image/jpeg:https://nasejiznimorava.cz/wp-content/uploads/2025/12/320-2ddbdf19a3f947838356774bd37f788f.jpg
END:VEVENT
END:VCALENDAR