BEGIN:VCALENDAR
VERSION:2.0
PRODID:-// „Objev místa, kde se dobře pije, krásně spí a skvěle žije“  - ECPv6.15.20//NONSGML v1.0//EN
CALSCALE:GREGORIAN
METHOD:PUBLISH
X-WR-CALNAME: „Objev místa, kde se dobře pije, krásně spí a skvěle žije“ 
X-ORIGINAL-URL:https://nasejiznimorava.cz
X-WR-CALDESC:Akce na  „Objev místa, kde se dobře pije, krásně spí a skvěle žije“ 
REFRESH-INTERVAL;VALUE=DURATION:PT1H
X-Robots-Tag:noindex
X-PUBLISHED-TTL:PT1H
BEGIN:VTIMEZONE
TZID:Europe/Prague
BEGIN:DAYLIGHT
TZOFFSETFROM:+0100
TZOFFSETTO:+0200
TZNAME:CEST
DTSTART:20250330T010000
END:DAYLIGHT
BEGIN:STANDARD
TZOFFSETFROM:+0200
TZOFFSETTO:+0100
TZNAME:CET
DTSTART:20251026T010000
END:STANDARD
BEGIN:DAYLIGHT
TZOFFSETFROM:+0100
TZOFFSETTO:+0200
TZNAME:CEST
DTSTART:20260329T010000
END:DAYLIGHT
BEGIN:STANDARD
TZOFFSETFROM:+0200
TZOFFSETTO:+0100
TZNAME:CET
DTSTART:20261025T010000
END:STANDARD
BEGIN:DAYLIGHT
TZOFFSETFROM:+0100
TZOFFSETTO:+0200
TZNAME:CEST
DTSTART:20270328T010000
END:DAYLIGHT
BEGIN:STANDARD
TZOFFSETFROM:+0200
TZOFFSETTO:+0100
TZNAME:CET
DTSTART:20271031T010000
END:STANDARD
END:VTIMEZONE
BEGIN:VEVENT
DTSTART;TZID=Europe/Prague:20260415T190000
DTEND;TZID=Europe/Prague:20260415T220000
DTSTAMP:20260419T222457
CREATED:20251111T132149Z
LAST-MODIFIED:20251111T132149Z
UID:36995-1776279600-1776290400@nasejiznimorava.cz
SUMMARY:NÁSTROJ ANDĚLŮ I SMRTI
DESCRIPTION:NÁSTROJ ANDĚLŮ I SMRTI se uskuteční dne 2026-04-15 v 19:00 v Brno\, Besední dům. \n🎟️ Koupit vstupenku \n\nPROGRAM: \nJohann Sebastian Bach: transkripce koncertů pro sólovou flétnu. \n  \nSOLI: \nMichaela Koudelková – flétny\, Dagmar Valentová – housle \n  \nVirtuózní sólový recitál Michaely Koudelkové představí Johanna Sebastiana Bacha v netradičním světle. Zazní transkripce jeho slavných instrumentálních koncertů pro sólovou flétnu\, které odhalí melodickou invenci a polyfonní mistrovství tohoto barokního génia. \n\nTento tip na kulturní akci v Brno najdete v přehledu na nasejiznimorava.cz kde na jednom místě shromažďujeme desítky dalších koncertů\, festivalů\, divadelních představení i komunitních událostí z celého regionu i z celé ČR. Přehled je přehledně řazený\, pravidelně aktualizovaný a umožní vám rychle najít přesně to\, co vás zajímá – od velkých open-air akcí až po menší lokální programy. Každý si tak snadno vybere podle svého vkusu i času. Pokud vás některá akce zaujme\, nezapomeňte si včas zajistit vstupenky; stačí kliknout na detail události a budete bezpečně přesměrováni na oficiálního prodejce vstupenek..
URL:https://nasejiznimorava.cz/event/nastroj-andelu-i-smrti/
LOCATION:Besední dům\, Brno\, Besední dům\, Brno\, Česká republika
CATEGORIES:Koncert
ATTACH;FMTTYPE=image/jpeg:https://nasejiznimorava.cz/wp-content/uploads/2025/11/320-0b2c5b58e57d466fa49b1c8e6c17c5d4.jpg
END:VEVENT
BEGIN:VEVENT
DTSTART;TZID=Europe/Prague:20260415T190000
DTEND;TZID=Europe/Prague:20260415T220000
DTSTAMP:20260419T222457
CREATED:20260209T141151Z
LAST-MODIFIED:20260209T141152Z
UID:42059-1776279600-1776290400@nasejiznimorava.cz
SUMMARY:Lukáš Pavlásek - Zmatení komiků - Brno
DESCRIPTION:Lukáš Pavlásek – Zmatení komiků – Brno se uskuteční dne 2026-04-15 v 19:00 v Brno\, První Patro. \n🎟️ Koupit vstupenku \n\nNový stand-up comedy speciál Lukáše Pavláska o světě\, ve kterém realita předběhla humor! \nVyznáte se v dnešním přeinformovaném světě\, kdy nepoznáte\, co je legrace\, co je myšleno vážně\, co je pravda a co lež? Nedošlo už ke zmatení komiků? Lukáš vám ukáže svůj osobitý pohled na dnešní rychle se měnící realitu. V této originální one man show se sami budete moci přesvědčit\, že sranda se dá (stále) dělat úplně ze všeho. \nUpozornění: Toto představení nenapsala AI a Lukáš na podiu je živý! \nLukáš Pavlásek je jeden z nejpopulárnějších českých komiků a jeho třetí celovečerní standupový pořad nabízí opět skvělou a originální zábavu. \nDélka pořadu 80-90 minut \nwww.standupshow.cz \n\nTento tip na kulturní akci v Brno najdete v přehledu na nasejiznimorava.cz kde na jednom místě shromažďujeme desítky dalších koncertů\, festivalů\, divadelních představení i komunitních událostí z celého regionu i z celé ČR. Přehled je přehledně řazený\, pravidelně aktualizovaný a umožní vám rychle najít přesně to\, co vás zajímá – od velkých open-air akcí až po menší lokální programy. Každý si tak snadno vybere podle svého vkusu i času. Pokud vás některá akce zaujme\, nezapomeňte si včas zajistit vstupenky; stačí kliknout na detail události a budete bezpečně přesměrováni na oficiálního prodejce vstupenek..
URL:https://nasejiznimorava.cz/event/lukas-pavlasek-zmateni-komiku-brno/
LOCATION:První Patro\, Brno\, První Patro\, Brno\, Česká republika
CATEGORIES:Divadlo
ATTACH;FMTTYPE=image/jpeg:https://nasejiznimorava.cz/wp-content/uploads/2026/02/320-27aff3ef3a7d44c1ba14892a13f8f7a7.jpg
END:VEVENT
BEGIN:VEVENT
DTSTART;TZID=Europe/Prague:20260415T200000
DTEND;TZID=Europe/Prague:20260415T230000
DTSTAMP:20260419T222457
CREATED:20251129T143952Z
LAST-MODIFIED:20251129T143952Z
UID:39607-1776283200-1776294000@nasejiznimorava.cz
SUMMARY:Blue Burlesque Show
DESCRIPTION:Blue Burlesque Show se uskuteční dne 2026-04-15 v 20:00 v Brno\, Cabaret des Péchés. \n🎟️ Koupit vstupenku \n\nEmoce\, glamour\, zábava. Nezbedná\, koketní atmosféra vás bude držet na okraji vašich židlí od začátku až do konce show. \nKaždá Blue Burlesque Show je trochu jiná\, každá show je jedinečná. Jednou za měsíc máš šanci vidět nejzajímavější performerky a performery z Česka\, Polska\, Německa\, Rakouska nebo Slovenska! \nV roce 2026 vám přinášíme nový program\, taneční vstupy a nečekané rekvizity. Všechny termíny Blue Burlesque Show v Brně najdete na zoryablue.com/brno \nKromě skvělého programu na vás čekají výborné drinky\, soutěž a focení s performery. \nBěhem show si na našem burlesque stánku budete moct pořídit překrásný župánek\, plakát Burlesque your life!\, třpytivé pasties\, sex ponožky nebo knihu moderní sexuality Už budeš? \nPRO KOHO JE SHOW?Věk ani pohlaví nejsou důležité – důležité je\, že milujete kvalitní program\, skvělé drinky a zábavu plnou emocí. Mnoho lidí překvapí\, že většinu publika zpravidla tvoří ženy – ano\, ženy milují burlesku! \nShow doporučujeme pro diváky starší 15 let.    \nDRESSCODE:Dress to impress! A nebo – fantazii se meze nekladou. Na burleskní show nikdy nebudeš overdressed. \nProducentkou show je Zorya Blue – performerka\, producentka a zakladatelka Czech Burlesque School. \nshow 20:00do baru zveme už od 18:00 \n\nTento tip na kulturní akci v Brno najdete v přehledu na nasejiznimorava.cz kde na jednom místě shromažďujeme desítky dalších koncertů\, festivalů\, divadelních představení i komunitních událostí z celého regionu i z celé ČR. Přehled je přehledně řazený\, pravidelně aktualizovaný a umožní vám rychle najít přesně to\, co vás zajímá – od velkých open-air akcí až po menší lokální programy. Každý si tak snadno vybere podle svého vkusu i času. Pokud vás některá akce zaujme\, nezapomeňte si včas zajistit vstupenky; stačí kliknout na detail události a budete bezpečně přesměrováni na oficiálního prodejce vstupenek..
URL:https://nasejiznimorava.cz/event/blue-burlesque-show-7/
LOCATION:Cabaret des Péchés\, Brno\, Cabaret des Péchés\, Brno\, Česká republika
CATEGORIES:Zábava
ATTACH;FMTTYPE=image/jpeg:https://nasejiznimorava.cz/wp-content/uploads/2025/11/320-8dc81c72e1cc4d93a5415436f2768dfc.jpg
END:VEVENT
END:VCALENDAR